From mboxrd@z Thu Jan 1 00:00:00 1970 Return-Path: Received: from mails.dpdk.org (mails.dpdk.org [217.70.189.124]) by inbox.dpdk.org (Postfix) with ESMTP id 170AB46B2F for ; Wed, 9 Jul 2025 15:10:31 +0200 (CEST) Received: from mails.dpdk.org (localhost [127.0.0.1]) by mails.dpdk.org (Postfix) with ESMTP id 01114402A9; Wed, 9 Jul 2025 15:10:31 +0200 (CEST) Received: from mail-pl1-f228.google.com (mail-pl1-f228.google.com [209.85.214.228]) by mails.dpdk.org (Postfix) with ESMTP id 7A5A4402A9 for ; Wed, 9 Jul 2025 15:10:29 +0200 (CEST) Received: by mail-pl1-f228.google.com with SMTP id d9443c01a7336-23649faf69fso48333545ad.0 for ; Wed, 09 Jul 2025 06:10:29 -0700 (PDT) DKIM-Signature: v=1; a=rsa-sha256; c=relaxed/relaxed; d=iol.unh.edu; s=unh-iol; t=1752066628; x=1752671428; darn=dpdk.org; h=references:in-reply-to:cc:to:from:subject:message-id:date:from:to :cc:subject:date:message-id:reply-to; bh=fUg31imFuOeN3PngfndTumWUtlZ7t07MqESzzjo8Bkc=; b=g6EcYVVYM57LRVQkvzAtG3xMsmqC05m3b6SeASILcmPoL1Kj31CnPZfPXDNyjzpNqp 8/yDotl7ParYhG3OSEZJ5kJRiPlW69k6ugbYQK0JXjQhDFTrYYerD6vVJZGhaZW4guzW Trkh6kw5f/m2ZSOmI0dpYx9ZiEaBdMd+wCyNA= X-Google-DKIM-Signature: v=1; a=rsa-sha256; c=relaxed/relaxed; d=1e100.net; s=20230601; t=1752066628; x=1752671428; h=references:in-reply-to:cc:to:from:subject:message-id:date :x-gm-message-state:from:to:cc:subject:date:message-id:reply-to; bh=fUg31imFuOeN3PngfndTumWUtlZ7t07MqESzzjo8Bkc=; b=KvOMDw6zsNDF5wY6vny8n81JfT9bl1usk51TsfCTU0AlkidSCkeTVyPZ2/2DUiACEW rFhy1cSm8AlL8IMcpFKB/BYBLYFImL6uXJ1JnzxT5QXQjQRITXeXA17xIW0pak2ZpD8o zpbVAi/omtS6O5Hxwu07vVdOXrJvEuTaDF8EV9hIsKCSLAdX/An7NbY0J4kxbdiVxL1s BDMY4yFzA5LQUGcHfDLkackr7un0WNfLl8U2XW305YefJRLw75olFtGHuEyEqKpX7GSx JHbDsmUph4a2i3bS5oB4w1CZSS8d0dUkwWAm3UqhSoMX+cm7nOZk/SHI/nEKWeetp0yb RFMA== X-Gm-Message-State: AOJu0YwS/rZqMgurIH9U8MZqERizFfxkA+Owtdcyz9HW1oH9mYm9waXV rIjkOb2or9OcJNxiVzl2R5AyghnGq7Ud5TRE7RiMIJ4rs9tFyvX6RDW1fm310NlV01AUQJN3vUb YV/5LvLzwjaAsdRT9OCIqvrGYLffPmTCz6uEUEB57c2Zm X-Gm-Gg: ASbGncs3mDYWsmU2SZcoEM7iJquUK1LyhkAJgW8d7yEo0q4FoLFnofGPbY+iK+0iGKl RJsRlZiy2XvsXGu7wyJnexuesL1Mkkj27J73JN/0NMOllHfu1wyWV3Jh25TsHD3RGdGgtTqk/T4 l1ABGiiOXeZS7ietrAzrF5LvJgfU/A4CRl47AvLjH1AfJcyfQYcisD8dwD5w7T8BuO8cCrvOls2 mJD6askuHykHHIGnFOOIxLAfcyB1e7pQeTs6kcOg/ikHYaWKhE9uSjvdjlL50yfKQHfMyfvGEeR MoeJUOYUnTwcSOHjTwJlsbDPqhFDfXHRAW0S5gNZyFhJYSrv9WxwVOmzllBcQjDDISNRRw== X-Google-Smtp-Source: AGHT+IG12xQQJU7ztZ97qxJqlFUy3OyAPy01O4eXRcDP3VtGvapne9QTGQIUy3rfgtiNNaVtzjVmMDHbBdv6 X-Received: by 2002:a17:902:dac8:b0:235:880:cf8a with SMTP id d9443c01a7336-23ddb1a48b3mr34094305ad.15.1752066628625; Wed, 09 Jul 2025 06:10:28 -0700 (PDT) Received: from postal.iol.unh.edu (postal.iol.unh.edu. [132.177.123.84]) by smtp-relay.gmail.com with ESMTPS id d9443c01a7336-23c844e1441sm5844895ad.61.2025.07.09.06.10.28 (version=TLS1_2 cipher=ECDHE-ECDSA-AES128-GCM-SHA256 bits=128/128); Wed, 09 Jul 2025 06:10:28 -0700 (PDT) X-Relaying-Domain: iol.unh.edu Date: Wed, 09 Jul 2025 06:10:28 -0700 (PDT) Message-ID: <686e6a44.170a0220.1b8c0b.0449SMTPIN_ADDED_MISSING@mx.google.com> Received: from [172.21.0.10] (unknown [172.18.0.240]) by postal.iol.unh.edu (Postfix) with ESMTP id CA06D604D420; Wed, 9 Jul 2025 09:10:27 -0400 (EDT) Subject: |SUCCESS| pw155088-155089 [PATCH] [v5,2/2] crypto/uadk: use async mo From: dpdklab@iol.unh.edu To: Test Report Cc: dpdk-test-reports@iol.unh.edu In-Reply-To: <20250709064701.100676-3-zhangfei.gao@linaro.org> References: <20250709064701.100676-3-zhangfei.gao@linaro.org> Content-Type: text/plain X-BeenThere: test-report@dpdk.org X-Mailman-Version: 2.1.29 Precedence: list List-Id: automatic DPDK test reports List-Unsubscribe: , List-Archive: List-Post: List-Help: List-Subscribe: , Errors-To: test-report-bounces@dpdk.org Test-Label: iol-abi-testing Test-Status: SUCCESS http://dpdk.org/patch/155089 _Testing PASS_ Submitter: Zhangfei Gao Date: Wednesday, July 09 2025 06:47:01 DPDK git baseline: Repo:dpdk Branch: master CommitID:2f4f0dc5f678fcf62cf046fa69821c0b8786deb4 155088-155089 --> testing pass Upstream job id: Generic-DPDK-Compile-ABI#133761 Test environment and result as below: +-------------------------------+----------+ | Environment | abi_test | +===============================+==========+ | CentOS Stream 9 | PASS | +-------------------------------+----------+ | CentOS Stream 10 | PASS | +-------------------------------+----------+ | Debian GNU/Linux 12 | PASS | +-------------------------------+----------+ | Fedora Linux 40 | PASS | +-------------------------------+----------+ | Red Hat Enterprise Linux 8.10 | PASS | +-------------------------------+----------+ | Fedora Linux 41 | PASS | +-------------------------------+----------+ | openSUSE Leap 15.6 | PASS | +-------------------------------+----------+ | Ubuntu 22.04 | PASS | +-------------------------------+----------+ | Red Hat Enterprise Linux 9.5 | PASS | +-------------------------------+----------+ | Ubuntu 24.04 | PASS | +-------------------------------+----------+ CentOS Stream 9 Kernel: 5.15 Compiler: gcc gcc (GCC) 11.5.0 20240719 (Red Hat 11.5.0-7) CentOS Stream 10 Kernel: 5.15 Compiler: gcc gcc (GCC) 14.2.1 20250110 (Red Hat 14.2.1-8) Debian GNU/Linux 12 Kernel: 5.15 Compiler: gcc gcc (Debian 12.2.0-14+deb12u1) 12.2.0 Fedora Linux 40 Kernel: 5.15 Compiler: clang gcc (GCC) 14.2.1 20240912 (Red Hat 14.2.1-3) Red Hat Enterprise Linux 8.10 Kernel: 5.15 Compiler: gcc gcc (GCC) 8.5.0 20210514 (Red Hat 8.5.0-22) Fedora Linux 41 Kernel: 5.15 Compiler: clang gcc (GCC) 14.3.1 20250523 (Red Hat 14.3.1-1) openSUSE Leap 15.6 Kernel: 5.15 Compiler: gcc gcc (SUSE Linux) 7.5.0 Ubuntu 22.04 Kernel: 5.15 Compiler: gcc gcc (Ubuntu 11.4.0-1ubuntu1~22.04) 11.4.0 Red Hat Enterprise Linux 9.5 Kernel: 5.15 Compiler: gcc gcc (GCC) 11.5.0 20240719 (Red Hat 11.5.0-2) Ubuntu 24.04 Kernel: 5.15 Compiler: gcc gcc (Ubuntu 13.3.0-6ubuntu2~24.04) 13.3.0 To view detailed results, visit: https://lab.dpdk.org/results/dashboard/patchsets/33621/ UNH-IOL DPDK Community Lab To manage your email subscriptions, visit: https://lab.dpdk.org/results/dashboard/preferences/subscriptions/