From mboxrd@z Thu Jan 1 00:00:00 1970 Return-Path: Received: from mails.dpdk.org (mails.dpdk.org [217.70.189.124]) by inbox.dpdk.org (Postfix) with ESMTP id 56D8A46B2F for ; Wed, 9 Jul 2025 15:13:00 +0200 (CEST) Received: from mails.dpdk.org (localhost [127.0.0.1]) by mails.dpdk.org (Postfix) with ESMTP id 4F5A9402A9; Wed, 9 Jul 2025 15:13:00 +0200 (CEST) Received: from mail-oa1-f100.google.com (mail-oa1-f100.google.com [209.85.160.100]) by mails.dpdk.org (Postfix) with ESMTP id 0F578402A9 for ; Wed, 9 Jul 2025 15:12:59 +0200 (CEST) Received: by mail-oa1-f100.google.com with SMTP id 586e51a60fabf-2ea65f5a0easo655664fac.1 for ; Wed, 09 Jul 2025 06:12:58 -0700 (PDT) DKIM-Signature: v=1; a=rsa-sha256; c=relaxed/relaxed; d=iol.unh.edu; s=unh-iol; t=1752066778; x=1752671578; darn=dpdk.org; h=references:in-reply-to:cc:to:from:subject:message-id:date:from:to :cc:subject:date:message-id:reply-to; bh=ZRUIVZEviGDOl5kf43nsqHlrTzNS8oFLbl098nJ6+oQ=; b=bUKwGGsGWZAomCCJvuqYi77rTmoDKsrrD9DrPBf5fJgA5RwQD4L6cap6b/sGinb/xS fMJGYlNWr75xpryZSb+xz0w20V+5MUESZlqQ+dHK0tsPZrtC2URHhLFE3YjAoN4Z8S4t mn39VbJ1AM1wu5lM2HBNWz23ww4O0cGb3Mw4k= X-Google-DKIM-Signature: v=1; a=rsa-sha256; c=relaxed/relaxed; d=1e100.net; s=20230601; t=1752066778; x=1752671578; h=references:in-reply-to:cc:to:from:subject:message-id:date :x-gm-message-state:from:to:cc:subject:date:message-id:reply-to; bh=ZRUIVZEviGDOl5kf43nsqHlrTzNS8oFLbl098nJ6+oQ=; b=LJ5dN1SOSXZYrCmdi7arsE6vQAFBIXH/jAJPOLHQn2Wy5e2nQiktnzzvvUIP+BN85B x+OSIwZe6+idAU54kQQDJXeGsmrRnibX8m616sfJ7qxYhM4NA5YwPdVFpgIZrYk/9CuM pUEf60lCO7sRCactdyd3oPZVWOdFQK7D4CKAMnZzSv8CGMX1P7UTbghWG+yVEAKDIesJ VB/FdxSOvuu9+vUucfu1iURBfSc6Sk90QB+ya9Ev1FOwMZeEh2C73/J11jnUGJjx1j+W 9uz+zMTJyr3PpcLVod87dHzLNpUVIyn82OgdBI8TG3rQJkFfMQVX6p/1jFLpXDgByEf8 shDA== X-Gm-Message-State: AOJu0Yyn9tRdJGjVShLVSEl5Y6IzPcikAPlMGoJurq3ltHREIjsQ5WES X+B/xEWCg+EOY1V5br3fCOve5U0USx4qNfNcjwcwZpRFiYBQpwDdsZ8bMNfZ43FfIJxJM1KSYZi 6l4qGsvGGcQmBR/46KJgy0mqsT1SUH/eegttb8z9xkHrG X-Gm-Gg: ASbGnctnDp2tVPLD5vwS2W2DZsVHfwmhso4VrrN19xf99YrgnR8VEPeEYmtCQQUE5Fe O6+0KI1vyT4rEyeKBiNzuVP1eB/5ndQLEw7lVqcMISQrWBha/tlfNL9/ZUUdMPdxZ/c8HSMsWTv O6zBo2cgqeKZttl89+VsFVSpvMXxD4atsjaA+dLhTSmSC1HBFc19W3rrbfHITD/oQBI6MC4QfYX +9rK1pzbw1pDuhtU6Iu6Px6wRhTWW/csphyDCkrc5AKudUmhfNxRS9gXNlwlZVFDwcQgeeoEBcM bzzkGAEi2V36bNzVV+dIdZ+xbQby3jcStz3QpbFBnrVq4+LqQQ/IhBqNdFnWmspQ8GAF6A== X-Google-Smtp-Source: AGHT+IGtlhGJ+cpKtbFNhvfmQCOGfMLy3v5I3aI0onVHQ8ED2GlCrDPXqVwJlB1sHng9aBCXLysOyHyw9Xq7 X-Received: by 2002:a05:6871:741f:b0:2da:b91c:919b with SMTP id 586e51a60fabf-2fb6fa00e4dmr5018658fac.0.1752066778182; Wed, 09 Jul 2025 06:12:58 -0700 (PDT) Received: from postal.iol.unh.edu (postal.iol.unh.edu. [132.177.123.84]) by smtp-relay.gmail.com with ESMTPS id 586e51a60fabf-2f78fe57d6esm791075fac.13.2025.07.09.06.12.58 (version=TLS1_2 cipher=ECDHE-ECDSA-AES128-GCM-SHA256 bits=128/128); Wed, 09 Jul 2025 06:12:58 -0700 (PDT) X-Relaying-Domain: iol.unh.edu Date: Wed, 09 Jul 2025 06:12:58 -0700 (PDT) Message-ID: <686e6ada.050a0220.2c3481.a425SMTPIN_ADDED_MISSING@mx.google.com> Received: from [172.21.0.6] (unknown [172.18.0.240]) by postal.iol.unh.edu (Postfix) with ESMTP id 977E1604D420; Wed, 9 Jul 2025 09:12:57 -0400 (EDT) Subject: |WARNING| pw155086 [PATCH] net/mlx5: fix the queue length checking From: dpdklab@iol.unh.edu To: Test Report Cc: dpdk-test-reports@iol.unh.edu In-Reply-To: <20250709040000.112338-1-bingz@nvidia.com> References: <20250709040000.112338-1-bingz@nvidia.com> Content-Type: text/plain X-BeenThere: test-report@dpdk.org X-Mailman-Version: 2.1.29 Precedence: list List-Id: automatic DPDK test reports List-Unsubscribe: , List-Archive: List-Post: List-Help: List-Subscribe: , Errors-To: test-report-bounces@dpdk.org Test-Label: iol-compile-amd64-testing Test-Status: WARNING http://dpdk.org/patch/155086 _Testing issues_ Submitter: Bing Zhao Date: Wednesday, July 09 2025 04:00:00 DPDK git baseline: Repo:dpdk Branch: master CommitID:e2888614268cbf0abcc7cd72ad97ff4e4901d0a5 155086 --> testing issues Upstream job id: Generic-DPDK-Compile-Meson#407150 Test environment and result as below: +-------------------------------+--------------------+-------------------+-------------------+------------------+ | Environment | dpdk_meson_compile | dpdk_msvc_compile | dpdk_compile_spdk | dpdk_compile_ovs | +===============================+====================+===================+===================+==================+ | Ubuntu 20.04 | PASS | SKIPPED | SKIPPED | SKIPPED | +-------------------------------+--------------------+-------------------+-------------------+------------------+ | FreeBSD 14.2 | PASS | SKIPPED | SKIPPED | SKIPPED | +-------------------------------+--------------------+-------------------+-------------------+------------------+ | CentOS Stream 9 | PASS | SKIPPED | PASS | SKIPPED | +-------------------------------+--------------------+-------------------+-------------------+------------------+ | Debian GNU/Linux 12 | PASS | SKIPPED | PASS | SKIPPED | +-------------------------------+--------------------+-------------------+-------------------+------------------+ | Fedora Linux 40 | PASS | SKIPPED | PASS | SKIPPED | +-------------------------------+--------------------+-------------------+-------------------+------------------+ | Fedora Linux 41 | PASS | SKIPPED | PASS | PASS | +-------------------------------+--------------------+-------------------+-------------------+------------------+ | openSUSE Leap 15.6 | PASS | SKIPPED | SKIPPED | SKIPPED | +-------------------------------+--------------------+-------------------+-------------------+------------------+ | Red Hat Enterprise Linux 8.10 | PASS | SKIPPED | SKIPPED | SKIPPED | +-------------------------------+--------------------+-------------------+-------------------+------------------+ | Red Hat Enterprise Linux 9.5 | PASS | SKIPPED | SKIPPED | SKIPPED | +-------------------------------+--------------------+-------------------+-------------------+------------------+ | Ubuntu 22.04 | PASS | SKIPPED | PASS | SKIPPED | +-------------------------------+--------------------+-------------------+-------------------+------------------+ | Ubuntu 24.04 | PASS | SKIPPED | PASS | PASS | +-------------------------------+--------------------+-------------------+-------------------+------------------+ | Alpine Linux 3.22.0 | PASS | SKIPPED | SKIPPED | SKIPPED | +-------------------------------+--------------------+-------------------+-------------------+------------------+ | Windows Server 2022 | SKIPPED | PASS | SKIPPED | SKIPPED | +-------------------------------+--------------------+-------------------+-------------------+------------------+ Ubuntu 20.04 Kernel: 4.19 Compiler: gcc gcc (Ubuntu 9.4.0-1ubuntu1~20.04.2) 9.4.0 FreeBSD 14.2 Kernel: 14.2-RELEASE Compiler: clang 18.1.6 CentOS Stream 9 Kernel: 5.15 Compiler: gcc gcc (GCC) 11.5.0 20240719 (Red Hat 11.5.0-7) Debian GNU/Linux 12 Kernel: 5.15 Compiler: gcc gcc (Debian 12.2.0-14+deb12u1) 12.2.0 Fedora Linux 40 Kernel: 5.15 Compiler: gcc gcc (GCC) 14.2.1 20240912 (Red Hat 14.2.1-3) Fedora Linux 41 Kernel: 5.15 Compiler: clang gcc (GCC) 14.3.1 20250523 (Red Hat 14.3.1-1) openSUSE Leap 15.6 Kernel: 5.15 Compiler: gcc gcc (SUSE Linux) 7.5.0 Red Hat Enterprise Linux 8.10 Kernel: 5.15 Compiler: gcc gcc (GCC) 8.5.0 20210514 (Red Hat 8.5.0-22) Red Hat Enterprise Linux 9.5 Kernel: 5.15 Compiler: gcc gcc (GCC) 11.5.0 20240719 (Red Hat 11.5.0-2) Ubuntu 22.04 Kernel: 5.15 Compiler: gcc gcc (Ubuntu 11.4.0-1ubuntu1~22.04) 11.4.0 Ubuntu 24.04 Kernel: 5.15 Compiler: gcc gcc (Ubuntu 13.3.0-6ubuntu2~24.04) 13.3.0 Alpine Linux 3.22.0 Kernel: 5.15 Compiler: gcc gcc (Alpine 14.2.0) 14.2.0 Windows Server 2022 Kernel: 10.0.20348.2031 Compiler: clang 15.0.7, gcc 14.1.0 (MinGW), and MSVC VS 19.39.33521 To view detailed results, visit: https://lab.dpdk.org/results/dashboard/patchsets/33619/ UNH-IOL DPDK Community Lab To manage your email subscriptions, visit: https://lab.dpdk.org/results/dashboard/preferences/subscriptions/