From mboxrd@z Thu Jan 1 00:00:00 1970 Return-Path: Received: from mails.dpdk.org (mails.dpdk.org [217.70.189.124]) by inbox.dpdk.org (Postfix) with ESMTP id EF80C46B2F for ; Wed, 9 Jul 2025 15:18:13 +0200 (CEST) Received: from mails.dpdk.org (localhost [127.0.0.1]) by mails.dpdk.org (Postfix) with ESMTP id E9EE9402A9; Wed, 9 Jul 2025 15:18:13 +0200 (CEST) Received: from mail-pl1-f226.google.com (mail-pl1-f226.google.com [209.85.214.226]) by mails.dpdk.org (Postfix) with ESMTP id EB019402A9 for ; Wed, 9 Jul 2025 15:18:12 +0200 (CEST) Received: by mail-pl1-f226.google.com with SMTP id d9443c01a7336-23dc5bcf49eso42996495ad.2 for ; Wed, 09 Jul 2025 06:18:12 -0700 (PDT) DKIM-Signature: v=1; a=rsa-sha256; c=relaxed/relaxed; d=iol.unh.edu; s=unh-iol; t=1752067092; x=1752671892; darn=dpdk.org; h=references:in-reply-to:cc:to:from:subject:message-id:date:from:to :cc:subject:date:message-id:reply-to; bh=XZhg5ZAZcXPlOPTMVrD1JvyPXhFzyroRbrgOSnASA/c=; b=JoP2TeUvWFurErY/9jE3WIe0VzX9GD7f7134bHJhp59DuHT/Gnt23J/yrWoaTGFMYX KUns9ln77HsyHmKFTToVjPC48zLB6+jhRhSfSGcoqcFvJUBLYSgvO997QfkXQJwL82ZD CB1FsorxKB8id38saVtOstheeYWR99cwpf1CM= X-Google-DKIM-Signature: v=1; a=rsa-sha256; c=relaxed/relaxed; d=1e100.net; s=20230601; t=1752067092; x=1752671892; h=references:in-reply-to:cc:to:from:subject:message-id:date :x-gm-message-state:from:to:cc:subject:date:message-id:reply-to; bh=XZhg5ZAZcXPlOPTMVrD1JvyPXhFzyroRbrgOSnASA/c=; b=CeklTowj2bYmoBKh0INecq12ttt3dA89MgzILAyx94PtkNhx0jU3TKgJsz6VS638ni gjSK7JtZAK7VhAXkBLnMwe/4JvGk5OQbJt5M55Ptoylfc2gidL7x3ZVbHoEsFLlRhTZB td1cZ7RuJsf51C4nIphAaPMsZCQrbZb15BQ3xxK6Baz7T6ddP+7yDd7UqnC1hZM+Q7pJ 3Ry/ilovu1tp1CDFVLYnjduh/S0NZRpmPupJOXHPLnjMnS3dhO4a4FVe05JAnlaErxe8 Yggvj4W+RTFUXrjHYNq8I1g5j4RdWAyCOldfJTEvoG1MF6ceVdcYGBUGjr7GtM6lIVNI Rptg== X-Gm-Message-State: AOJu0YxmzzPGFYReabXnE0B+X9104H2Fo0jTSgt4jBFbTJZXm7j0y55o dxTqgLhqSXT2Qg44/DvvXsR+//J4YWyQJqOFKjBt/ThoZT+pDYEOub5KqDAGHjzc0Bkam4oJb3q XL1YT2dgHeQYmJTCX8DB+RkNVsaI8dn5fp23b9tOONuzr X-Gm-Gg: ASbGncsnEOIss3hcGJDkhCIxF7S+8GKIUo4ddzfzaV4Ffup7ujdleBaDg3VggoWtbFm tliMZAjwvo1Tn+wxxzgNvcBmIl7/Pd7N++x2XQhSdYVUbcupdCESlXwiddha2BhzCm0O++u2qW9 CbODF7uckzdSKRuWA9PG3zXJ5wmFPMBULiBJqhDDPEYY+xmSGM2wt/T2cOVq8Gej+ml40kG4myt CsBYPUan1ltrvcBf+q6so4w7OKa+hqCDiKPwUb/cjs7SLlc/S0sfJVI1YnSNGtIfyRvWP+BMvX5 bYECWEqKdIA8ccd9P5TjTbIRyVB69Ac/6KWqOu5wAMhoL03dwVNnVh8OyMDu+naosaZ8IA== X-Google-Smtp-Source: AGHT+IH4XpKCx745tjwAVnYqsA9GwR7M62JFFHOukvdG3RLgOyKfBQQ6ZZZZdY3U4WfuLXuRJzVK8eUv7OH/ X-Received: by 2002:a17:902:f68f:b0:23d:d348:4567 with SMTP id d9443c01a7336-23ddb1a8347mr31363615ad.19.1752067091973; Wed, 09 Jul 2025 06:18:11 -0700 (PDT) Received: from postal.iol.unh.edu (postal.iol.unh.edu. [132.177.123.84]) by smtp-relay.gmail.com with ESMTPS id d9443c01a7336-23c844e0dcdsm6196535ad.72.2025.07.09.06.18.11 (version=TLS1_2 cipher=ECDHE-ECDSA-AES128-GCM-SHA256 bits=128/128); Wed, 09 Jul 2025 06:18:11 -0700 (PDT) X-Relaying-Domain: iol.unh.edu Date: Wed, 09 Jul 2025 06:18:11 -0700 (PDT) Message-ID: <686e6c13.170a0220.1b8c8a.06aeSMTPIN_ADDED_MISSING@mx.google.com> Received: from [172.21.0.7] (unknown [172.18.0.240]) by postal.iol.unh.edu (Postfix) with ESMTP id 25936604D420; Wed, 9 Jul 2025 09:18:11 -0400 (EDT) Subject: |WARNING| pw155086 [PATCH] net/mlx5: fix the queue length checking From: dpdklab@iol.unh.edu To: Test Report Cc: dpdk-test-reports@iol.unh.edu In-Reply-To: <20250709040000.112338-1-bingz@nvidia.com> References: <20250709040000.112338-1-bingz@nvidia.com> Content-Type: text/plain X-BeenThere: test-report@dpdk.org X-Mailman-Version: 2.1.29 Precedence: list List-Id: automatic DPDK test reports List-Unsubscribe: , List-Archive: List-Post: List-Help: List-Subscribe: , Errors-To: test-report-bounces@dpdk.org Test-Label: iol-compile-amd64-testing Test-Status: WARNING http://dpdk.org/patch/155086 _Testing issues_ Submitter: Bing Zhao Date: Wednesday, July 09 2025 04:00:00 DPDK git baseline: Repo:dpdk Branch: master CommitID:e2888614268cbf0abcc7cd72ad97ff4e4901d0a5 155086 --> testing issues Upstream job id: Generic-DPDK-Compile-Meson#407152 Test environment and result as below: +-------------------------------+--------------------+-------------------+-------------------+------------------+ | Environment | dpdk_meson_compile | dpdk_msvc_compile | dpdk_compile_spdk | dpdk_compile_ovs | +===============================+====================+===================+===================+==================+ | Ubuntu 20.04 | PASS | SKIPPED | SKIPPED | SKIPPED | +-------------------------------+--------------------+-------------------+-------------------+------------------+ | FreeBSD 14.2 | PASS | SKIPPED | SKIPPED | SKIPPED | +-------------------------------+--------------------+-------------------+-------------------+------------------+ | CentOS Stream 9 | PASS | SKIPPED | PASS | SKIPPED | +-------------------------------+--------------------+-------------------+-------------------+------------------+ | Debian GNU/Linux 12 | PASS | SKIPPED | PASS | SKIPPED | +-------------------------------+--------------------+-------------------+-------------------+------------------+ | Fedora Linux 40 | PASS | SKIPPED | PASS | SKIPPED | +-------------------------------+--------------------+-------------------+-------------------+------------------+ | Fedora Linux 41 | PASS | SKIPPED | PASS | PASS | +-------------------------------+--------------------+-------------------+-------------------+------------------+ | openSUSE Leap 15.6 | PASS | SKIPPED | SKIPPED | SKIPPED | +-------------------------------+--------------------+-------------------+-------------------+------------------+ | Red Hat Enterprise Linux 8.10 | PASS | SKIPPED | SKIPPED | SKIPPED | +-------------------------------+--------------------+-------------------+-------------------+------------------+ | Red Hat Enterprise Linux 9.5 | PASS | SKIPPED | SKIPPED | SKIPPED | +-------------------------------+--------------------+-------------------+-------------------+------------------+ | Ubuntu 22.04 | PASS | SKIPPED | PASS | SKIPPED | +-------------------------------+--------------------+-------------------+-------------------+------------------+ | Ubuntu 24.04 | PASS | SKIPPED | PASS | PASS | +-------------------------------+--------------------+-------------------+-------------------+------------------+ | Alpine Linux 3.22.0 | PASS | SKIPPED | SKIPPED | SKIPPED | +-------------------------------+--------------------+-------------------+-------------------+------------------+ | Windows Server 2022 | SKIPPED | PASS | SKIPPED | SKIPPED | +-------------------------------+--------------------+-------------------+-------------------+------------------+ Ubuntu 20.04 Kernel: 4.19 Compiler: gcc gcc (Ubuntu 9.4.0-1ubuntu1~20.04.2) 9.4.0 FreeBSD 14.2 Kernel: 14.2-RELEASE Compiler: clang 18.1.6 CentOS Stream 9 Kernel: 5.15 Compiler: gcc gcc (GCC) 11.5.0 20240719 (Red Hat 11.5.0-7) Debian GNU/Linux 12 Kernel: 5.15 Compiler: gcc gcc (Debian 12.2.0-14+deb12u1) 12.2.0 Fedora Linux 40 Kernel: 5.15 Compiler: gcc gcc (GCC) 14.2.1 20240912 (Red Hat 14.2.1-3) Fedora Linux 41 Kernel: 5.15 Compiler: clang gcc (GCC) 14.3.1 20250523 (Red Hat 14.3.1-1) openSUSE Leap 15.6 Kernel: 5.15 Compiler: gcc gcc (SUSE Linux) 7.5.0 Red Hat Enterprise Linux 8.10 Kernel: 5.15 Compiler: gcc gcc (GCC) 8.5.0 20210514 (Red Hat 8.5.0-22) Red Hat Enterprise Linux 9.5 Kernel: 5.15 Compiler: gcc gcc (GCC) 11.5.0 20240719 (Red Hat 11.5.0-2) Ubuntu 22.04 Kernel: 5.15 Compiler: gcc gcc (Ubuntu 11.4.0-1ubuntu1~22.04) 11.4.0 Ubuntu 24.04 Kernel: 5.15 Compiler: gcc gcc (Ubuntu 13.3.0-6ubuntu2~24.04) 13.3.0 Alpine Linux 3.22.0 Kernel: 5.15 Compiler: gcc gcc (Alpine 14.2.0) 14.2.0 Windows Server 2022 Kernel: 10.0.20348.2031 Compiler: clang 15.0.7, gcc 14.1.0 (MinGW), and MSVC VS 19.39.33521 To view detailed results, visit: https://lab.dpdk.org/results/dashboard/patchsets/33619/ UNH-IOL DPDK Community Lab To manage your email subscriptions, visit: https://lab.dpdk.org/results/dashboard/preferences/subscriptions/