From mboxrd@z Thu Jan 1 00:00:00 1970 Return-Path: Received: from mails.dpdk.org (mails.dpdk.org [217.70.189.124]) by inbox.dpdk.org (Postfix) with ESMTP id 6ED9346B2F for ; Wed, 9 Jul 2025 15:21:58 +0200 (CEST) Received: from mails.dpdk.org (localhost [127.0.0.1]) by mails.dpdk.org (Postfix) with ESMTP id 48262402A9; Wed, 9 Jul 2025 15:21:58 +0200 (CEST) Received: from mail-qv1-f98.google.com (mail-qv1-f98.google.com [209.85.219.98]) by mails.dpdk.org (Postfix) with ESMTP id 1B7D0402DA for ; Wed, 9 Jul 2025 15:21:57 +0200 (CEST) Received: by mail-qv1-f98.google.com with SMTP id 6a1803df08f44-700c7e4c048so94962126d6.3 for ; Wed, 09 Jul 2025 06:21:57 -0700 (PDT) DKIM-Signature: v=1; a=rsa-sha256; c=relaxed/relaxed; d=iol.unh.edu; s=unh-iol; t=1752067316; x=1752672116; darn=dpdk.org; h=references:in-reply-to:cc:to:from:subject:message-id:date:from:to :cc:subject:date:message-id:reply-to; bh=Ea62/FtkCOeLN4xSgPbVBYF7L12zBNKDxmsp6c4zMQ4=; b=AoMtFa7WvQLRKBeUX9n4N/Oy9MsC65Ai1rQRkfDt+2C2KAuLexKmBtQUN7yK7IpYfu imVQhaXnAB/L7awjzgmi5b3jVtvsmttXUjm1hJqiAaZlzV7wiCoStRxcEig3s09cdCCD wnCpFmH0VoQXFXqOZGkGfwsaP8aWmYlNUtOJU= X-Google-DKIM-Signature: v=1; a=rsa-sha256; c=relaxed/relaxed; d=1e100.net; s=20230601; t=1752067316; x=1752672116; h=references:in-reply-to:cc:to:from:subject:message-id:date :x-gm-message-state:from:to:cc:subject:date:message-id:reply-to; bh=Ea62/FtkCOeLN4xSgPbVBYF7L12zBNKDxmsp6c4zMQ4=; b=ROLx8uFiDDEuSgf/pMEGyYlFNmEmphgInKuOwtnVH9s9f1bObEpyiS7UdSYVjwJtJm 95QNmoVeAVFsXsElYxWhQRY+k+KQmPV0F3GHB4UtGhQB7NfGCYtcpfyFjPM2cP3y/2xL 8phD40XFaAyFowz3zXEPZ+drMPwbnWcn+IOLK91ModdbJCdE4cd+Xq93roYPep7RJ/md 2nQ92wpFG990Sbm/hgl5S/1dXZtHiT8qKUzoo9AMS6GOV16TR88M+tqYTdiyAz3bweu4 rzHTNj87n+ohfgHTUQ85Ez2fRW6g+awW3P5pYxYZNz/gcvcCCtgH+CvvsWns3ybQ4DsI uAiQ== X-Gm-Message-State: AOJu0YzQ0tMbcFQaFpckBdCfUGiAjlUXldh7ORKUNvMmzgBzJLrLFN1D 6oWEcuf6mL1jJbbtsLui/4haX5yud5+c8sjAYFHhXjUS01ZOEaOEPBC+jb4OandtW6Pxiny33r2 CrRVQvmjoSUA3uq0Ge9DSvkwZ2v3PV8yKESdKkOCI4ZUwaFKtITyghIxS6y4l X-Gm-Gg: ASbGnct0F/lHif9qi7W9/1PvbjcOIbOGu7X58p9l7LLBbk8tZeuQc76PF9dvVkJqltF e6BAh7jDRx2KeCpcewZ7j+zZIXw0PrjUxhXZ/6I51NthhM28USYinAl2zCCYuSKNv9eyGd/FLxv h+tmwt/WtTYhUzWSe4XKZG28162p3Cuth+gVBD6NCzJQ/gIrS9w9Q3cr5SXD5w7rjjN1ikvu67X GfyKrEy28Va5eVVGBszdw7MvCGSByjuY3A0cBqD9G0c2EPHhth+/Nfs0oP1UsYk4kzjgQM6gk0U b9QIK9Ub8HLVkyddnbZl1f9y6PcIQVq97AaIZna9CIffExI= X-Google-Smtp-Source: AGHT+IHqXdgC17PnlzWB13Jz6NqvPFn6joilvxnz1MdxnmoSkHPvrh7Pn165cgp+mQid36Y1pCAE3A8Xk6k1 X-Received: by 2002:a05:6214:5909:b0:6f5:38a2:52dd with SMTP id 6a1803df08f44-7048b97244emr42247106d6.31.1752067316448; Wed, 09 Jul 2025 06:21:56 -0700 (PDT) Received: from postal.iol.unh.edu (postal.iol.unh.edu. [2606:4100:3880:1234::84]) by smtp-relay.gmail.com with ESMTPS id 6a1803df08f44-702c4ccaa09sm6528966d6.27.2025.07.09.06.21.56 (version=TLS1_2 cipher=ECDHE-ECDSA-AES128-GCM-SHA256 bits=128/128); Wed, 09 Jul 2025 06:21:56 -0700 (PDT) X-Relaying-Domain: iol.unh.edu Date: Wed, 09 Jul 2025 06:21:56 -0700 (PDT) Message-ID: <686e6cf4.050a0220.3b28c0.2c06SMTPIN_ADDED_MISSING@mx.google.com> Received: from [172.21.0.7] (unknown [172.18.0.240]) by postal.iol.unh.edu (Postfix) with ESMTP id 24ECA604D420; Wed, 9 Jul 2025 09:21:56 -0400 (EDT) Subject: |WARNING| pw155087 [PATCH] maintainers: update for dlb2 From: dpdklab@iol.unh.edu To: Test Report Cc: dpdk-test-reports@iol.unh.edu In-Reply-To: <20250709050434.1296690-1-tirthendu.sarkar@intel.com> References: <20250709050434.1296690-1-tirthendu.sarkar@intel.com> Content-Type: text/plain X-BeenThere: test-report@dpdk.org X-Mailman-Version: 2.1.29 Precedence: list List-Id: automatic DPDK test reports List-Unsubscribe: , List-Archive: List-Post: List-Help: List-Subscribe: , Errors-To: test-report-bounces@dpdk.org Test-Label: iol-compile-amd64-testing Test-Status: WARNING http://dpdk.org/patch/155087 _Testing issues_ Submitter: Tirthendu Sarkar Date: Wednesday, July 09 2025 05:04:34 DPDK git baseline: Repo:dpdk Branch: master CommitID:e90979eebbea093f6bab2d7c222fc5f5c9a85eff 155087 --> testing issues Upstream job id: Generic-DPDK-Compile-Meson#407178 Test environment and result as below: +-------------------------------+--------------------+-------------------+-------------------+------------------+ | Environment | dpdk_meson_compile | dpdk_msvc_compile | dpdk_compile_spdk | dpdk_compile_ovs | +===============================+====================+===================+===================+==================+ | Ubuntu 20.04 | PASS | SKIPPED | SKIPPED | SKIPPED | +-------------------------------+--------------------+-------------------+-------------------+------------------+ | FreeBSD 14.2 | PASS | SKIPPED | SKIPPED | SKIPPED | +-------------------------------+--------------------+-------------------+-------------------+------------------+ | CentOS Stream 9 | PASS | SKIPPED | PASS | SKIPPED | +-------------------------------+--------------------+-------------------+-------------------+------------------+ | CentOS Stream 10 | PASS | SKIPPED | SKIPPED | SKIPPED | +-------------------------------+--------------------+-------------------+-------------------+------------------+ | Fedora Linux 40 | PASS | SKIPPED | PASS | SKIPPED | +-------------------------------+--------------------+-------------------+-------------------+------------------+ | Fedora Linux 41 | PASS | SKIPPED | PASS | PASS | +-------------------------------+--------------------+-------------------+-------------------+------------------+ | openSUSE Leap 15.6 | PASS | SKIPPED | SKIPPED | SKIPPED | +-------------------------------+--------------------+-------------------+-------------------+------------------+ | Red Hat Enterprise Linux 8.10 | PASS | SKIPPED | SKIPPED | SKIPPED | +-------------------------------+--------------------+-------------------+-------------------+------------------+ | Red Hat Enterprise Linux 9.5 | PASS | SKIPPED | SKIPPED | SKIPPED | +-------------------------------+--------------------+-------------------+-------------------+------------------+ | Ubuntu 22.04 | PEND | SKIPPED | PEND | SKIPPED | +-------------------------------+--------------------+-------------------+-------------------+------------------+ | Ubuntu 24.04 | PASS | SKIPPED | PASS | PASS | +-------------------------------+--------------------+-------------------+-------------------+------------------+ | Alpine Linux 3.22.0 | PEND | SKIPPED | SKIPPED | SKIPPED | +-------------------------------+--------------------+-------------------+-------------------+------------------+ | Windows Server 2022 | SKIPPED | PASS | SKIPPED | SKIPPED | +-------------------------------+--------------------+-------------------+-------------------+------------------+ Ubuntu 20.04 Kernel: 4.19 Compiler: gcc gcc (Ubuntu 9.4.0-1ubuntu1~20.04.2) 9.4.0 FreeBSD 14.2 Kernel: 14.2-RELEASE Compiler: clang 18.1.6 CentOS Stream 9 Kernel: 5.15 Compiler: gcc gcc (GCC) 11.5.0 20240719 (Red Hat 11.5.0-7) CentOS Stream 10 Kernel: 5.15 Compiler: gcc gcc (GCC) 14.2.1 20250110 (Red Hat 14.2.1-8) Fedora Linux 40 Kernel: 5.15 Compiler: clang gcc (GCC) 14.2.1 20240912 (Red Hat 14.2.1-3) Fedora Linux 41 Kernel: 5.15 Compiler: clang gcc (GCC) 14.3.1 20250523 (Red Hat 14.3.1-1) openSUSE Leap 15.6 Kernel: 5.15 Compiler: gcc gcc (SUSE Linux) 7.5.0 Red Hat Enterprise Linux 8.10 Kernel: 5.15 Compiler: gcc gcc (GCC) 8.5.0 20210514 (Red Hat 8.5.0-22) Red Hat Enterprise Linux 9.5 Kernel: 5.15 Compiler: gcc gcc (GCC) 11.5.0 20240719 (Red Hat 11.5.0-2) Ubuntu 22.04 Kernel: 5.15 Compiler: gcc gcc (Ubuntu 11.4.0-1ubuntu1~22.04) 11.4.0 Ubuntu 24.04 Kernel: 5.15 Compiler: gcc gcc (Ubuntu 13.3.0-6ubuntu2~24.04) 13.3.0 Alpine Linux 3.22.0 Kernel: 5.15 Compiler: gcc gcc (Alpine 14.2.0) 14.2.0 Windows Server 2022 Kernel: 10.0.20348.2031 Compiler: clang 15.0.7, gcc 14.1.0 (MinGW), and MSVC VS 19.39.33521 To view detailed results, visit: https://lab.dpdk.org/results/dashboard/patchsets/33620/ UNH-IOL DPDK Community Lab To manage your email subscriptions, visit: https://lab.dpdk.org/results/dashboard/preferences/subscriptions/