From mboxrd@z Thu Jan 1 00:00:00 1970 Return-Path: Received: from mails.dpdk.org (mails.dpdk.org [217.70.189.124]) by inbox.dpdk.org (Postfix) with ESMTP id 02EFB46B2F for ; Wed, 9 Jul 2025 15:31:10 +0200 (CEST) Received: from mails.dpdk.org (localhost [127.0.0.1]) by mails.dpdk.org (Postfix) with ESMTP id EC6FD402A9; Wed, 9 Jul 2025 15:31:09 +0200 (CEST) Received: from mail-qt1-f228.google.com (mail-qt1-f228.google.com [209.85.160.228]) by mails.dpdk.org (Postfix) with ESMTP id 806C2402A9 for ; Wed, 9 Jul 2025 15:31:08 +0200 (CEST) Received: by mail-qt1-f228.google.com with SMTP id d75a77b69052e-4a58ba6c945so76123881cf.2 for ; Wed, 09 Jul 2025 06:31:08 -0700 (PDT) DKIM-Signature: v=1; a=rsa-sha256; c=relaxed/relaxed; d=iol.unh.edu; s=unh-iol; t=1752067868; x=1752672668; darn=dpdk.org; h=references:in-reply-to:cc:to:from:subject:message-id:date:from:to :cc:subject:date:message-id:reply-to; bh=RLgXh5XOnEqjHK/jhbQm2RKPKbx5E3lUHvYYvBd42TQ=; b=dV1OYHEQtwj0bQiQ5Z703Esl+gQL3RCCPgbSbvWi9gD8Cl4hz91VHPYBSPj4H6gDP+ u4CqGkPwflYDKmyEqStxhOGNF2SHTwet//Dm0ag0gAIV+CylQhF3gE4oxMPMDXXMy4Tv HqdYXKMcYW/laWuenBRa1FeQGdzrtOCvwmyPU= X-Google-DKIM-Signature: v=1; a=rsa-sha256; c=relaxed/relaxed; d=1e100.net; s=20230601; t=1752067868; x=1752672668; h=references:in-reply-to:cc:to:from:subject:message-id:date :x-gm-message-state:from:to:cc:subject:date:message-id:reply-to; bh=RLgXh5XOnEqjHK/jhbQm2RKPKbx5E3lUHvYYvBd42TQ=; b=c7qHoRuJHq37c44G1NitjmW4R4MYP1a5ybZZ63oIyCBSo3TCAs8oVwQ6AMb7+kt2U/ 5CilaD8nQv8Fga4gE9mv//InhGbgQpKzxuXQ8ouZt3RqZ3DdikhQzUdbtb6SxKmAQ3y0 3XJwRbhdbZBKbpQH+G/XBygxbwrObXmKzBe9GFVkBcP9mW2oSUDEOoD9+MWw1AnPhU++ mkAJB4KMhIsP2EidMdRqIq06a73jddxVdORZbOr24Knv16O0IwkFf7jd6FAmLoE9OFYR 7pzhlK2g7TF4r+XuHHdxceiyF5VyAD+IRj4sAhelytzo7byAT3a+35GdC1p1rLrY/508 NOmQ== X-Gm-Message-State: AOJu0Yzn4fdBjwS9Uea7XAInJFak7vfCSxPzq/+TSmits2RDH8UmVCYC chly7eZ8O50qSwEnzMMQyhlbTlH2i5i+g9/Ko48U8Bj4lt78pTDDF6Cdvns8yWDE/2+AromPzZJ WCf8OCHgJY6bgaEOHoroBtp9qnNyF08kMZCVe9iLNaWO5sIRCGEx/mkvk/CQb X-Gm-Gg: ASbGnctO5vvfL3Kph7tuw5RvwFMQ8WtirRaWAgBFnP/vFdT5a49NlTIGXenCq6bJNt9 d0nQj+LW14Z7uzkMsg4adkZwvn4THGvaEZwgxuVxTZi8vc2lSg13BpXv48l5I0ujKYN3cVhikQi mg20yHnXHlLcMakq+vFzXUXM3vLHqUfNON9LmMWNghxAN9J8i6r+d2UYJEmUEidT67xcepmYilt EbSEqYUxxa40zDro+4k+ftFqh7GLxzHHqyhlgNPSvs0/zSkZf3uducxAE4S1ZbCUewSNDe+znbD 9SIVSm+gFcbbuo87KWqk7H57YOG6vpwexKcSDCuyXVjksf4= X-Google-Smtp-Source: AGHT+IGddQFDrWMZIF7UYHjyf+xv7kWZ3DvcSX6JNJA+6kZfngLfQVwF+icuhj2yqEDwXIBxvAwvP0i4Qbmb X-Received: by 2002:a05:622a:148e:b0:4a4:3c3e:5754 with SMTP id d75a77b69052e-4a9decfb243mr39172971cf.32.1752067864894; Wed, 09 Jul 2025 06:31:04 -0700 (PDT) Received: from postal.iol.unh.edu (postal.iol.unh.edu. [2606:4100:3880:1234::84]) by smtp-relay.gmail.com with ESMTPS id d75a77b69052e-4a994a99bb0sm5623771cf.21.2025.07.09.06.31.04 (version=TLS1_2 cipher=ECDHE-ECDSA-AES128-GCM-SHA256 bits=128/128); Wed, 09 Jul 2025 06:31:04 -0700 (PDT) X-Relaying-Domain: iol.unh.edu Date: Wed, 09 Jul 2025 06:31:04 -0700 (PDT) Message-ID: <686e6f18.c80a0220.325203.d3e1SMTPIN_ADDED_MISSING@mx.google.com> Received: from [172.21.0.11] (unknown [172.18.0.240]) by postal.iol.unh.edu (Postfix) with ESMTP id 76144604D420; Wed, 9 Jul 2025 09:31:04 -0400 (EDT) Subject: |WARNING| pw155087 [PATCH] maintainers: update for dlb2 From: dpdklab@iol.unh.edu To: Test Report Cc: dpdk-test-reports@iol.unh.edu In-Reply-To: <20250709050434.1296690-1-tirthendu.sarkar@intel.com> References: <20250709050434.1296690-1-tirthendu.sarkar@intel.com> Content-Type: text/plain X-BeenThere: test-report@dpdk.org X-Mailman-Version: 2.1.29 Precedence: list List-Id: automatic DPDK test reports List-Unsubscribe: , List-Archive: List-Post: List-Help: List-Subscribe: , Errors-To: test-report-bounces@dpdk.org Test-Label: iol-compile-amd64-testing Test-Status: WARNING http://dpdk.org/patch/155087 _Testing issues_ Submitter: Tirthendu Sarkar Date: Wednesday, July 09 2025 05:04:34 DPDK git baseline: Repo:dpdk Branch: master CommitID:e90979eebbea093f6bab2d7c222fc5f5c9a85eff 155087 --> testing issues Upstream job id: Generic-DPDK-Compile-Meson#407180 Test environment and result as below: +-------------------------------+--------------------+-------------------+-------------------+------------------+ | Environment | dpdk_meson_compile | dpdk_msvc_compile | dpdk_compile_spdk | dpdk_compile_ovs | +===============================+====================+===================+===================+==================+ | Ubuntu 20.04 | PASS | SKIPPED | SKIPPED | SKIPPED | +-------------------------------+--------------------+-------------------+-------------------+------------------+ | FreeBSD 14.2 | PASS | SKIPPED | SKIPPED | SKIPPED | +-------------------------------+--------------------+-------------------+-------------------+------------------+ | CentOS Stream 9 | PASS | SKIPPED | PASS | SKIPPED | +-------------------------------+--------------------+-------------------+-------------------+------------------+ | CentOS Stream 10 | PASS | SKIPPED | SKIPPED | SKIPPED | +-------------------------------+--------------------+-------------------+-------------------+------------------+ | Fedora Linux 40 | PASS | SKIPPED | PASS | SKIPPED | +-------------------------------+--------------------+-------------------+-------------------+------------------+ | Fedora Linux 41 | PASS | SKIPPED | PASS | PASS | +-------------------------------+--------------------+-------------------+-------------------+------------------+ | openSUSE Leap 15.6 | PASS | SKIPPED | SKIPPED | SKIPPED | +-------------------------------+--------------------+-------------------+-------------------+------------------+ | Red Hat Enterprise Linux 8.10 | PASS | SKIPPED | SKIPPED | SKIPPED | +-------------------------------+--------------------+-------------------+-------------------+------------------+ | Red Hat Enterprise Linux 9.5 | PASS | SKIPPED | SKIPPED | SKIPPED | +-------------------------------+--------------------+-------------------+-------------------+------------------+ | Ubuntu 22.04 | PASS | SKIPPED | PASS | SKIPPED | +-------------------------------+--------------------+-------------------+-------------------+------------------+ | Ubuntu 24.04 | PASS | SKIPPED | PASS | PASS | +-------------------------------+--------------------+-------------------+-------------------+------------------+ | Alpine Linux 3.22.0 | PASS | SKIPPED | SKIPPED | SKIPPED | +-------------------------------+--------------------+-------------------+-------------------+------------------+ | Windows Server 2022 | SKIPPED | PASS | SKIPPED | SKIPPED | +-------------------------------+--------------------+-------------------+-------------------+------------------+ Ubuntu 20.04 Kernel: 4.19 Compiler: gcc gcc (Ubuntu 9.4.0-1ubuntu1~20.04.2) 9.4.0 FreeBSD 14.2 Kernel: 14.2-RELEASE Compiler: clang 18.1.6 CentOS Stream 9 Kernel: 5.15 Compiler: gcc gcc (GCC) 11.5.0 20240719 (Red Hat 11.5.0-7) CentOS Stream 10 Kernel: 5.15 Compiler: gcc gcc (GCC) 14.2.1 20250110 (Red Hat 14.2.1-8) Fedora Linux 40 Kernel: 5.15 Compiler: clang gcc (GCC) 14.2.1 20240912 (Red Hat 14.2.1-3) Fedora Linux 41 Kernel: 5.15 Compiler: clang gcc (GCC) 14.3.1 20250523 (Red Hat 14.3.1-1) openSUSE Leap 15.6 Kernel: 5.15 Compiler: gcc gcc (SUSE Linux) 7.5.0 Red Hat Enterprise Linux 8.10 Kernel: 5.15 Compiler: gcc gcc (GCC) 8.5.0 20210514 (Red Hat 8.5.0-22) Red Hat Enterprise Linux 9.5 Kernel: 5.15 Compiler: gcc gcc (GCC) 11.5.0 20240719 (Red Hat 11.5.0-2) Ubuntu 22.04 Kernel: 5.15 Compiler: gcc gcc (Ubuntu 11.4.0-1ubuntu1~22.04) 11.4.0 Ubuntu 24.04 Kernel: 5.15 Compiler: gcc gcc (Ubuntu 13.3.0-6ubuntu2~24.04) 13.3.0 Alpine Linux 3.22.0 Kernel: 5.15 Compiler: gcc gcc (Alpine 14.2.0) 14.2.0 Windows Server 2022 Kernel: 10.0.20348.2031 Compiler: clang 15.0.7, gcc 14.1.0 (MinGW), and MSVC VS 19.39.33521 To view detailed results, visit: https://lab.dpdk.org/results/dashboard/patchsets/33620/ UNH-IOL DPDK Community Lab To manage your email subscriptions, visit: https://lab.dpdk.org/results/dashboard/preferences/subscriptions/