From mboxrd@z Thu Jan 1 00:00:00 1970 Return-Path: Received: from mails.dpdk.org (mails.dpdk.org [217.70.189.124]) by inbox.dpdk.org (Postfix) with ESMTP id E6A9246B2F for ; Wed, 9 Jul 2025 15:35:41 +0200 (CEST) Received: from mails.dpdk.org (localhost [127.0.0.1]) by mails.dpdk.org (Postfix) with ESMTP id DCC39402A9; Wed, 9 Jul 2025 15:35:41 +0200 (CEST) Received: from mail-oa1-f97.google.com (mail-oa1-f97.google.com [209.85.160.97]) by mails.dpdk.org (Postfix) with ESMTP id BE05E402A9 for ; Wed, 9 Jul 2025 15:35:40 +0200 (CEST) Received: by mail-oa1-f97.google.com with SMTP id 586e51a60fabf-2efb0b03e40so1415471fac.0 for ; Wed, 09 Jul 2025 06:35:40 -0700 (PDT) DKIM-Signature: v=1; a=rsa-sha256; c=relaxed/relaxed; d=iol.unh.edu; s=unh-iol; t=1752068140; x=1752672940; darn=dpdk.org; h=references:in-reply-to:cc:to:from:subject:message-id:date:from:to :cc:subject:date:message-id:reply-to; bh=our0/9UcQ+kvAQDKCo8qmtOEEY88UBuzBFzRk1Azjk0=; b=fJ1cvMQGg+8JpHAROTOSN4ONq8Ew/b02CSkseGw2jH+lR7inDs3lhGO7MJqKEmpl85 6/xD84JAWmcpUWUCo4gbkhm65eLqydN3yR5KeGVdeJXHUAC5hhk14o2uJMjl47G/C6Xt 9OFR6LN4BE1GnnsNrKube7vuQHbC7vd0v/MCY= X-Google-DKIM-Signature: v=1; a=rsa-sha256; c=relaxed/relaxed; d=1e100.net; s=20230601; t=1752068140; x=1752672940; h=references:in-reply-to:cc:to:from:subject:message-id:date :x-gm-message-state:from:to:cc:subject:date:message-id:reply-to; bh=our0/9UcQ+kvAQDKCo8qmtOEEY88UBuzBFzRk1Azjk0=; b=RR8/yhUjIRtxZtkbIxQtBIsOr1OsqThQ4pG4rRXulrRQ2RDsC51uawp7b2Qic1Pl+l mOOzXFgbw1MqhsR6e3Csk7S/Ft1paMWxbRUQIB9WQrQP2Z0uMcl92DpP0+qhjcUPqgUX RTQrnyIO26q8XPftqs6eq96MD+aCJATzwTtjvHjRWrFjNRttAqPJ38oSRxGkFCaXjKdY hgugc4Rr/9ez6UQQr0/l99Hdh7JQUpaCHtjZf23/KF4EKmzaWKaogyIbtCekFrthpMHm K3yps5+CgaWN7/RKNlrwINQ5ltL97lGAKYrFqGCfUE1Fz0szbx/XQ312mAQKpKaEm3yn RWdA== X-Gm-Message-State: AOJu0YwC3vm8Ws/T3WolDLLMw3M5OrpSMMCRMMgpjJZf3bMP/Hrqk6nv JTEjCye0AT/BC9fvxRhGQedqEis7R7532CHxA5ANTylZklF4pk8hVti9Yu+7to9/YT2Fxv8NDT1 pqeLGQbR7aS/FKnX3yq/N+zOVFvF74ShfXr3bnJha8R32MZKWo1x4o9ExnZqy X-Gm-Gg: ASbGncuJAIJcFWk9IQdkU5pHDskhwM/L33FDtBMfKJKI70Ii4Q+kZqt/RGG8usEOGnb XJNeDkyIVsvCYZPAwObDGIVxWY7Bp/A49yjt473KXpBQvw47pgKN7Ssaa59MQBMtEbhIm9aaDUz C0T9KxrPfGbn86Mefnpa80vNdZ835qR8YuupiHjo+m81DXa6pNhKx1hlCeYlrtovkgan0Z8JgAZ PntXXnky8Aiuh55S6GoBpPSO/7rwKSbZVxfTJ+IwT/OXHL/GWdVDZH8ZFE44t4Hpg5DR1UOrHBo xIcYYS07IRri52gWrdVVinPGKSr0k3t8B2dL+lEjre3xFRM= X-Google-Smtp-Source: AGHT+IFfBOHvGQw/VtW57/CX+/ePhLOssJJVHkUBfXqSPW7/wwmiCfp7O4/xKKTxuUVxi8VugxBer4tynMxe X-Received: by 2002:a05:6871:cb:b0:2f5:2b87:416a with SMTP id 586e51a60fabf-2fef87f67a5mr1455267fac.37.1752068139999; Wed, 09 Jul 2025 06:35:39 -0700 (PDT) Received: from postal.iol.unh.edu (postal.iol.unh.edu. [2606:4100:3880:1234::84]) by smtp-relay.gmail.com with ESMTPS id 586e51a60fabf-2f790184619sm812773fac.39.2025.07.09.06.35.39 (version=TLS1_2 cipher=ECDHE-ECDSA-AES128-GCM-SHA256 bits=128/128); Wed, 09 Jul 2025 06:35:39 -0700 (PDT) X-Relaying-Domain: iol.unh.edu Date: Wed, 09 Jul 2025 06:35:39 -0700 (PDT) Message-ID: <686e702b.050a0220.3418ef.a82fSMTPIN_ADDED_MISSING@mx.google.com> Received: from [172.21.0.10] (unknown [172.18.0.240]) by postal.iol.unh.edu (Postfix) with ESMTP id 7B55A604D420; Wed, 9 Jul 2025 09:35:39 -0400 (EDT) Subject: |WARNING| pw155088-155089 [PATCH] [v5,2/2] crypto/uadk: use async mo From: dpdklab@iol.unh.edu To: Test Report Cc: dpdk-test-reports@iol.unh.edu In-Reply-To: <20250709064701.100676-3-zhangfei.gao@linaro.org> References: <20250709064701.100676-3-zhangfei.gao@linaro.org> Content-Type: text/plain X-BeenThere: test-report@dpdk.org X-Mailman-Version: 2.1.29 Precedence: list List-Id: automatic DPDK test reports List-Unsubscribe: , List-Archive: List-Post: List-Help: List-Subscribe: , Errors-To: test-report-bounces@dpdk.org Test-Label: iol-compile-amd64-testing Test-Status: WARNING http://dpdk.org/patch/155089 _Testing issues_ Submitter: Zhangfei Gao Date: Wednesday, July 09 2025 06:47:01 DPDK git baseline: Repo:dpdk Branch: master CommitID:2f4f0dc5f678fcf62cf046fa69821c0b8786deb4 155088-155089 --> testing issues Upstream job id: Generic-DPDK-Compile-Meson#407207 Test environment and result as below: +-------------------------------+--------------------+-------------------+-------------------+------------------+ | Environment | dpdk_meson_compile | dpdk_compile_spdk | dpdk_msvc_compile | dpdk_compile_ovs | +===============================+====================+===================+===================+==================+ | Ubuntu 20.04 | PASS | SKIPPED | SKIPPED | SKIPPED | +-------------------------------+--------------------+-------------------+-------------------+------------------+ | FreeBSD 14.2 | PASS | SKIPPED | SKIPPED | SKIPPED | +-------------------------------+--------------------+-------------------+-------------------+------------------+ | CentOS Stream 9 | PASS | PASS | SKIPPED | SKIPPED | +-------------------------------+--------------------+-------------------+-------------------+------------------+ | CentOS Stream 10 | PASS | SKIPPED | SKIPPED | SKIPPED | +-------------------------------+--------------------+-------------------+-------------------+------------------+ | Debian GNU/Linux 12 | PASS | PASS | SKIPPED | SKIPPED | +-------------------------------+--------------------+-------------------+-------------------+------------------+ | Fedora Linux 40 | PASS | PASS | SKIPPED | SKIPPED | +-------------------------------+--------------------+-------------------+-------------------+------------------+ | Fedora Linux 41 | PASS | PASS | SKIPPED | PASS | +-------------------------------+--------------------+-------------------+-------------------+------------------+ | openSUSE Leap 15.6 | PASS | SKIPPED | SKIPPED | SKIPPED | +-------------------------------+--------------------+-------------------+-------------------+------------------+ | Red Hat Enterprise Linux 8.10 | PASS | SKIPPED | SKIPPED | SKIPPED | +-------------------------------+--------------------+-------------------+-------------------+------------------+ | Red Hat Enterprise Linux 9.5 | PASS | SKIPPED | SKIPPED | SKIPPED | +-------------------------------+--------------------+-------------------+-------------------+------------------+ | Ubuntu 22.04 | PASS | PASS | SKIPPED | SKIPPED | +-------------------------------+--------------------+-------------------+-------------------+------------------+ | Ubuntu 24.04 | PASS | PEND | SKIPPED | PEND | +-------------------------------+--------------------+-------------------+-------------------+------------------+ | Alpine Linux 3.22.0 | PEND | SKIPPED | SKIPPED | SKIPPED | +-------------------------------+--------------------+-------------------+-------------------+------------------+ | Windows Server 2022 | SKIPPED | SKIPPED | PASS | SKIPPED | +-------------------------------+--------------------+-------------------+-------------------+------------------+ Ubuntu 20.04 Kernel: 4.19 Compiler: gcc gcc (Ubuntu 9.4.0-1ubuntu1~20.04.2) 9.4.0 FreeBSD 14.2 Kernel: 14.2-RELEASE Compiler: clang 18.1.6 CentOS Stream 9 Kernel: 5.15 Compiler: gcc gcc (GCC) 11.5.0 20240719 (Red Hat 11.5.0-7) CentOS Stream 10 Kernel: 5.15 Compiler: gcc gcc (GCC) 14.2.1 20250110 (Red Hat 14.2.1-8) Debian GNU/Linux 12 Kernel: 5.15 Compiler: gcc gcc (Debian 12.2.0-14+deb12u1) 12.2.0 Fedora Linux 40 Kernel: 5.15 Compiler: clang gcc (GCC) 14.2.1 20240912 (Red Hat 14.2.1-3) Fedora Linux 41 Kernel: 5.15 Compiler: clang gcc (GCC) 14.3.1 20250523 (Red Hat 14.3.1-1) openSUSE Leap 15.6 Kernel: 5.15 Compiler: gcc gcc (SUSE Linux) 7.5.0 Red Hat Enterprise Linux 8.10 Kernel: 5.15 Compiler: gcc gcc (GCC) 8.5.0 20210514 (Red Hat 8.5.0-22) Red Hat Enterprise Linux 9.5 Kernel: 5.15 Compiler: gcc gcc (GCC) 11.5.0 20240719 (Red Hat 11.5.0-2) Ubuntu 22.04 Kernel: 5.15 Compiler: gcc gcc (Ubuntu 11.4.0-1ubuntu1~22.04) 11.4.0 Ubuntu 24.04 Kernel: 5.15 Compiler: gcc gcc (Ubuntu 13.3.0-6ubuntu2~24.04) 13.3.0 Alpine Linux 3.22.0 Kernel: 5.15 Compiler: gcc gcc (Alpine 14.2.0) 14.2.0 Windows Server 2022 Kernel: 10.0.20348.2031 Compiler: clang 15.0.7, gcc 14.1.0 (MinGW), and MSVC VS 19.39.33521 To view detailed results, visit: https://lab.dpdk.org/results/dashboard/patchsets/33621/ UNH-IOL DPDK Community Lab To manage your email subscriptions, visit: https://lab.dpdk.org/results/dashboard/preferences/subscriptions/