From mboxrd@z Thu Jan 1 00:00:00 1970 Return-Path: Received: from mails.dpdk.org (mails.dpdk.org [217.70.189.124]) by inbox.dpdk.org (Postfix) with ESMTP id 0874E46B2F for ; Wed, 9 Jul 2025 15:36:15 +0200 (CEST) Received: from mails.dpdk.org (localhost [127.0.0.1]) by mails.dpdk.org (Postfix) with ESMTP id 01122402A9; Wed, 9 Jul 2025 15:36:15 +0200 (CEST) Received: from mail-pl1-f228.google.com (mail-pl1-f228.google.com [209.85.214.228]) by mails.dpdk.org (Postfix) with ESMTP id 1A93C402A9 for ; Wed, 9 Jul 2025 15:36:13 +0200 (CEST) Received: by mail-pl1-f228.google.com with SMTP id d9443c01a7336-236377f00easo70771855ad.1 for ; Wed, 09 Jul 2025 06:36:13 -0700 (PDT) DKIM-Signature: v=1; a=rsa-sha256; c=relaxed/relaxed; d=iol.unh.edu; s=unh-iol; t=1752068172; x=1752672972; darn=dpdk.org; h=references:in-reply-to:cc:to:from:subject:message-id:date:from:to :cc:subject:date:message-id:reply-to; bh=qjztRkvjSSWRgLqrtNVTC6zFSDmQfAmCjks7EXxdh9Q=; b=QzSBzReISD9LNwPgpe0crJNF0cSv/16rbErUST9ffhH120iqOB0iD9EKucp5+Iczv+ BF7xfv5p5+Y+rZPly5LxWRfiw92bOPsthrbXKjQYo8wFWiDZJP0n8jQ0lTMREUcS1Vk1 +D8N/AyjA5eV3xpVb5A9pRc0XEivLyO6aFtq0= X-Google-DKIM-Signature: v=1; a=rsa-sha256; c=relaxed/relaxed; d=1e100.net; s=20230601; t=1752068172; x=1752672972; h=references:in-reply-to:cc:to:from:subject:message-id:date :x-gm-message-state:from:to:cc:subject:date:message-id:reply-to; bh=qjztRkvjSSWRgLqrtNVTC6zFSDmQfAmCjks7EXxdh9Q=; b=TuX8YTTyVkc0iU1vIw3Jbn2OoxsQHmVjbNn09j+FfbjPYuouNUik07GwReHPtjiQjM uwV85r4JXKICTu0CtseNJDr9yiR0ms+I6BuqZN5TEX/F8O0Fsxv5uCYJY2+s/BFZ3vms ZK+eU8xM/ptU2ZkpahfqgfXEW284EJ9VNfL8oXT/1rR/aSnRMgmEYnHSiwyv8oRwzN/S ZAB+GQOVAtxWfDLbQuN+byD+784IMLAQvtjPC//xsP6yj0tHhGkTQnoIQrBliPr8strS bpdjs/pjgVxfCEoxePfryJeQDbOAJIAGVzquXL0tJqASBcgPOTYU0RARNsVJpWJjTScL mfjQ== X-Gm-Message-State: AOJu0Yzfymog0yDavhg+ZnRV9NqD3MnbHD0EcuUIeWdpsKIpdVzsamgE wfwKedZJEE2/ZnfU7K/XKheCzsXhqEImg+kjqf4PctRAt/pzcDRJUy7BsuHmGKeRrhQqUhACb68 am5U1zxdml4nviV82mRaNfFq9lXe1FlBkanmero4KIhZS4pb8r8wyigcNcvhp X-Gm-Gg: ASbGncs9MEOOkSqqQ/EFNgUu58s4zmVNkF3Qvai2ksav4IAvkMysLZ9ouAXk9ur0oUW +xodNaTuTwhiKAqSlHQlk5bpZ7SqwGigDzcCpOrNKUI1UfKBOT2nKL23IOxcdAWKxCvIRwozBvN fEdvqa/wrPV+bMIA5BLlJ5p9V1LmqXfvS0BiNLKeT9fEwgMec/MNyTzuOMk6vT1HdX6MTAe0uRT NLJ6dNXVT3CaqBolqS5L75dZZomUXw/zXeITT1gQB7wjIzVQnqQpxnrSqPjMtHvacTX0hBfZMBp OlczjnCHO/gtZ/vEUqINbPx8cEqyYMlZ447pmRamdmPtUaI= X-Google-Smtp-Source: AGHT+IGv2c5Hjih0DFG+/FbRDdRIxtfb/XPbuW+M6jna9cIBz2u4PufTiMP63cDZKpUnBJ3tr7f9wgv7HIqO X-Received: by 2002:a17:902:ce90:b0:234:eb6:a35d with SMTP id d9443c01a7336-23ddb30e506mr42174465ad.27.1752068171975; Wed, 09 Jul 2025 06:36:11 -0700 (PDT) Received: from postal.iol.unh.edu (postal.iol.unh.edu. [2606:4100:3880:1234::84]) by smtp-relay.gmail.com with ESMTPS id d9443c01a7336-23c84508d2csm6634905ad.101.2025.07.09.06.36.11 (version=TLS1_2 cipher=ECDHE-ECDSA-AES128-GCM-SHA256 bits=128/128); Wed, 09 Jul 2025 06:36:11 -0700 (PDT) X-Relaying-Domain: iol.unh.edu Date: Wed, 09 Jul 2025 06:36:11 -0700 (PDT) Message-ID: <686e704b.170a0220.1d62cc.31fdSMTPIN_ADDED_MISSING@mx.google.com> Received: from [172.21.0.5] (unknown [172.18.0.240]) by postal.iol.unh.edu (Postfix) with ESMTP id 316AE60003F7; Wed, 9 Jul 2025 09:36:11 -0400 (EDT) Subject: |WARNING| pw155088-155089 [PATCH] [v5,2/2] crypto/uadk: use async mo From: dpdklab@iol.unh.edu To: Test Report Cc: dpdk-test-reports@iol.unh.edu In-Reply-To: <20250709064701.100676-3-zhangfei.gao@linaro.org> References: <20250709064701.100676-3-zhangfei.gao@linaro.org> Content-Type: text/plain X-BeenThere: test-report@dpdk.org X-Mailman-Version: 2.1.29 Precedence: list List-Id: automatic DPDK test reports List-Unsubscribe: , List-Archive: List-Post: List-Help: List-Subscribe: , Errors-To: test-report-bounces@dpdk.org Test-Label: iol-compile-amd64-testing Test-Status: WARNING http://dpdk.org/patch/155089 _Testing issues_ Submitter: Zhangfei Gao Date: Wednesday, July 09 2025 06:47:01 DPDK git baseline: Repo:dpdk Branch: master CommitID:2f4f0dc5f678fcf62cf046fa69821c0b8786deb4 155088-155089 --> testing issues Upstream job id: Generic-DPDK-Compile-Meson#407214 Test environment and result as below: +-------------------------------+--------------------+-------------------+-------------------+------------------+ | Environment | dpdk_meson_compile | dpdk_compile_spdk | dpdk_msvc_compile | dpdk_compile_ovs | +===============================+====================+===================+===================+==================+ | Ubuntu 20.04 | PASS | SKIPPED | SKIPPED | SKIPPED | +-------------------------------+--------------------+-------------------+-------------------+------------------+ | FreeBSD 14.2 | PASS | SKIPPED | SKIPPED | SKIPPED | +-------------------------------+--------------------+-------------------+-------------------+------------------+ | CentOS Stream 9 | PASS | PASS | SKIPPED | SKIPPED | +-------------------------------+--------------------+-------------------+-------------------+------------------+ | CentOS Stream 10 | PASS | SKIPPED | SKIPPED | SKIPPED | +-------------------------------+--------------------+-------------------+-------------------+------------------+ | Debian GNU/Linux 12 | PASS | PASS | SKIPPED | SKIPPED | +-------------------------------+--------------------+-------------------+-------------------+------------------+ | Fedora Linux 40 | PASS | PASS | SKIPPED | SKIPPED | +-------------------------------+--------------------+-------------------+-------------------+------------------+ | Fedora Linux 41 | PASS | PASS | SKIPPED | PASS | +-------------------------------+--------------------+-------------------+-------------------+------------------+ | openSUSE Leap 15.6 | PASS | SKIPPED | SKIPPED | SKIPPED | +-------------------------------+--------------------+-------------------+-------------------+------------------+ | Red Hat Enterprise Linux 8.10 | PASS | SKIPPED | SKIPPED | SKIPPED | +-------------------------------+--------------------+-------------------+-------------------+------------------+ | Red Hat Enterprise Linux 9.5 | PASS | SKIPPED | SKIPPED | SKIPPED | +-------------------------------+--------------------+-------------------+-------------------+------------------+ | Ubuntu 22.04 | PASS | PASS | SKIPPED | SKIPPED | +-------------------------------+--------------------+-------------------+-------------------+------------------+ | Ubuntu 24.04 | PASS | PEND | SKIPPED | PEND | +-------------------------------+--------------------+-------------------+-------------------+------------------+ | Alpine Linux 3.22.0 | PEND | SKIPPED | SKIPPED | SKIPPED | +-------------------------------+--------------------+-------------------+-------------------+------------------+ | Windows Server 2022 | SKIPPED | SKIPPED | PASS | SKIPPED | +-------------------------------+--------------------+-------------------+-------------------+------------------+ Ubuntu 20.04 Kernel: 4.19 Compiler: gcc gcc (Ubuntu 9.4.0-1ubuntu1~20.04.2) 9.4.0 FreeBSD 14.2 Kernel: 14.2-RELEASE Compiler: clang 18.1.6 CentOS Stream 9 Kernel: 5.15 Compiler: gcc gcc (GCC) 11.5.0 20240719 (Red Hat 11.5.0-7) CentOS Stream 10 Kernel: 5.15 Compiler: gcc gcc (GCC) 14.2.1 20250110 (Red Hat 14.2.1-8) Debian GNU/Linux 12 Kernel: 5.15 Compiler: gcc gcc (Debian 12.2.0-14+deb12u1) 12.2.0 Fedora Linux 40 Kernel: 5.15 Compiler: clang gcc (GCC) 14.2.1 20240912 (Red Hat 14.2.1-3) Fedora Linux 41 Kernel: 5.15 Compiler: clang gcc (GCC) 14.3.1 20250523 (Red Hat 14.3.1-1) openSUSE Leap 15.6 Kernel: 5.15 Compiler: gcc gcc (SUSE Linux) 7.5.0 Red Hat Enterprise Linux 8.10 Kernel: 5.15 Compiler: gcc gcc (GCC) 8.5.0 20210514 (Red Hat 8.5.0-22) Red Hat Enterprise Linux 9.5 Kernel: 5.15 Compiler: gcc gcc (GCC) 11.5.0 20240719 (Red Hat 11.5.0-2) Ubuntu 22.04 Kernel: 5.15 Compiler: gcc gcc (Ubuntu 11.4.0-1ubuntu1~22.04) 11.4.0 Ubuntu 24.04 Kernel: 5.15 Compiler: gcc gcc (Ubuntu 13.3.0-6ubuntu2~24.04) 13.3.0 Alpine Linux 3.22.0 Kernel: 5.15 Compiler: gcc gcc (Alpine 14.2.0) 14.2.0 Windows Server 2022 Kernel: 10.0.20348.2031 Compiler: clang 15.0.7, gcc 14.1.0 (MinGW), and MSVC VS 19.39.33521 To view detailed results, visit: https://lab.dpdk.org/results/dashboard/patchsets/33621/ UNH-IOL DPDK Community Lab To manage your email subscriptions, visit: https://lab.dpdk.org/results/dashboard/preferences/subscriptions/