From mboxrd@z Thu Jan 1 00:00:00 1970 Return-Path: Received: from mails.dpdk.org (mails.dpdk.org [217.70.189.124]) by inbox.dpdk.org (Postfix) with ESMTP id 4BAB446B2F for ; Wed, 9 Jul 2025 15:38:06 +0200 (CEST) Received: from mails.dpdk.org (localhost [127.0.0.1]) by mails.dpdk.org (Postfix) with ESMTP id 2D4CD402A9; Wed, 9 Jul 2025 15:38:06 +0200 (CEST) Received: from mail-pl1-f226.google.com (mail-pl1-f226.google.com [209.85.214.226]) by mails.dpdk.org (Postfix) with ESMTP id E1F1D402A9 for ; Wed, 9 Jul 2025 15:38:04 +0200 (CEST) Received: by mail-pl1-f226.google.com with SMTP id d9443c01a7336-235ea292956so49032025ad.1 for ; Wed, 09 Jul 2025 06:38:04 -0700 (PDT) DKIM-Signature: v=1; a=rsa-sha256; c=relaxed/relaxed; d=iol.unh.edu; s=unh-iol; t=1752068284; x=1752673084; darn=dpdk.org; h=references:in-reply-to:cc:to:from:subject:message-id:date:from:to :cc:subject:date:message-id:reply-to; bh=VIvWceJMuQVqPu+pD74Mm/JtVuRs9TmsslPbs4D8Fzk=; b=UdOb1FJx92mNloXgqQTrw1g249/wcKGXBxYDsolQtep5KpyK7zu4Awjn9Bh2vkAlbt rTPwo96RUW2zNgQwtwY4Ul/dqpNHwEPc9Y5jsLwc2me3hEFGSdhFyLeyKpirFtFU5LA+ xGTA0ftBlIqvCS86SIUWAXIq6R1laXGfe838Q= X-Google-DKIM-Signature: v=1; a=rsa-sha256; c=relaxed/relaxed; d=1e100.net; s=20230601; t=1752068284; x=1752673084; h=references:in-reply-to:cc:to:from:subject:message-id:date :x-gm-message-state:from:to:cc:subject:date:message-id:reply-to; bh=VIvWceJMuQVqPu+pD74Mm/JtVuRs9TmsslPbs4D8Fzk=; b=pL3Uoolllc1PnEXPhnTe2frs7tCNCfQ85uSnWN6jIQzQZC4+9C6Ry9DDNnfOChDFsc wTuPOZ3VS6dtlZnvWrAh4JU00P3omDWFsTVvGcqtFMs8/Temq11zirnCe/RywDtDZiJf 8HuDp6WyD9VE7tXUKIPSzjPORpJJqXcoHLyxO0QRf6nU3SFuLS1oi82ny5wZvJ+Oxl35 BXCauweda1K4w43//qK+P7ph4p6rYuwaKtANxKbA4ZLs4KhBEyLQRSi7r1mWyNTbeszA oZ9dxPchwCLIPtG1sYp9P+/f1xEiFpg8GuYv+L3GMN3BE1Drm83xnq2qoNy5r+jTaT26 xO5Q== X-Gm-Message-State: AOJu0YzG9NDxGEXsve+KL2YbYHExuc+JHceCDlfPoULVkFlVuzxfc6B9 hMlUb62WXmWGn7HCAN1TsSh4mcSTkcrC+ND8aZ0UGCOzZzwgJiJGxPkdELwT5CM009+LfCPOLU6 ztglSjNJS+NuSHAq62K69NjLnwbYUwlEbzuirKf1FlZiO X-Gm-Gg: ASbGncu7fkQ1fKKB50RCYS0xKV/wuoOee5Os/wMi9OvLoXxtgUftGXNmftqkWSxN+TS WxttF0rN5Iix87Eg8DIZe2U9RbdmmjVjb/8l1gSYNpbGafF6P4zXN90avWVtadQhalZAInTvCtR 9jpex+JGP9oIbwwU2Sd2UVx3FnWDAB1OPYtUjiTl9Tigm5nNTtsUoMfGXEWHbEq5rTM2nWtNk5e 3TX3WUIN4OGSPUulW+hITjRZDE7lMcS9OrKlGDgAQYcwRaX1KJvjLky6VLorjDOgy+pIbsaPwwH EbbLgk2RPRxYoluFW1PSLySLEqQt3ahRqCDodHO208ffMUh2Zq0cENbPFje1XBybMvbohg== X-Google-Smtp-Source: AGHT+IHBiAi1255Fi4GoGmJeMTOECr3EWwBkV604+Kq3bxolBij6rTTC3Xr6J32ijYm7Pl61QNm2AFjv5Kvh X-Received: by 2002:a17:902:e80d:b0:234:adce:3ece with SMTP id d9443c01a7336-23ddb199277mr33032735ad.11.1752068283912; Wed, 09 Jul 2025 06:38:03 -0700 (PDT) Received: from postal.iol.unh.edu (postal.iol.unh.edu. [132.177.123.84]) by smtp-relay.gmail.com with ESMTPS id d9443c01a7336-23c842d89e8sm6400125ad.51.2025.07.09.06.38.03 (version=TLS1_2 cipher=ECDHE-ECDSA-AES128-GCM-SHA256 bits=128/128); Wed, 09 Jul 2025 06:38:03 -0700 (PDT) X-Relaying-Domain: iol.unh.edu Date: Wed, 09 Jul 2025 06:38:03 -0700 (PDT) Message-ID: <686e70bb.170a0220.2c0a76.2d24SMTPIN_ADDED_MISSING@mx.google.com> Received: from [172.21.0.8] (unknown [172.18.0.240]) by postal.iol.unh.edu (Postfix) with ESMTP id 20C3C6051830; Wed, 9 Jul 2025 09:38:03 -0400 (EDT) Subject: |WARNING| pw155088-155089 [PATCH] [v5,2/2] crypto/uadk: use async mo From: dpdklab@iol.unh.edu To: Test Report Cc: dpdk-test-reports@iol.unh.edu In-Reply-To: <20250709064701.100676-3-zhangfei.gao@linaro.org> References: <20250709064701.100676-3-zhangfei.gao@linaro.org> Content-Type: text/plain X-BeenThere: test-report@dpdk.org X-Mailman-Version: 2.1.29 Precedence: list List-Id: automatic DPDK test reports List-Unsubscribe: , List-Archive: List-Post: List-Help: List-Subscribe: , Errors-To: test-report-bounces@dpdk.org Test-Label: iol-compile-amd64-testing Test-Status: WARNING http://dpdk.org/patch/155089 _Testing issues_ Submitter: Zhangfei Gao Date: Wednesday, July 09 2025 06:47:01 DPDK git baseline: Repo:dpdk Branch: master CommitID:2f4f0dc5f678fcf62cf046fa69821c0b8786deb4 155088-155089 --> testing issues Upstream job id: Generic-DPDK-Compile-Meson#407203 Test environment and result as below: +-------------------------------+--------------------+-------------------+-------------------+------------------+ | Environment | dpdk_meson_compile | dpdk_compile_spdk | dpdk_msvc_compile | dpdk_compile_ovs | +===============================+====================+===================+===================+==================+ | Ubuntu 20.04 | PASS | SKIPPED | SKIPPED | SKIPPED | +-------------------------------+--------------------+-------------------+-------------------+------------------+ | FreeBSD 14.2 | PASS | SKIPPED | SKIPPED | SKIPPED | +-------------------------------+--------------------+-------------------+-------------------+------------------+ | CentOS Stream 9 | PASS | PASS | SKIPPED | SKIPPED | +-------------------------------+--------------------+-------------------+-------------------+------------------+ | CentOS Stream 10 | PASS | SKIPPED | SKIPPED | SKIPPED | +-------------------------------+--------------------+-------------------+-------------------+------------------+ | Debian GNU/Linux 12 | PASS | PASS | SKIPPED | SKIPPED | +-------------------------------+--------------------+-------------------+-------------------+------------------+ | Fedora Linux 40 | PASS | PASS | SKIPPED | SKIPPED | +-------------------------------+--------------------+-------------------+-------------------+------------------+ | Fedora Linux 41 | PASS | PASS | SKIPPED | PASS | +-------------------------------+--------------------+-------------------+-------------------+------------------+ | openSUSE Leap 15.6 | PASS | SKIPPED | SKIPPED | SKIPPED | +-------------------------------+--------------------+-------------------+-------------------+------------------+ | Red Hat Enterprise Linux 8.10 | PASS | SKIPPED | SKIPPED | SKIPPED | +-------------------------------+--------------------+-------------------+-------------------+------------------+ | Red Hat Enterprise Linux 9.5 | PASS | SKIPPED | SKIPPED | SKIPPED | +-------------------------------+--------------------+-------------------+-------------------+------------------+ | Ubuntu 22.04 | PASS | PASS | SKIPPED | SKIPPED | +-------------------------------+--------------------+-------------------+-------------------+------------------+ | Ubuntu 24.04 | PASS | PEND | SKIPPED | PEND | +-------------------------------+--------------------+-------------------+-------------------+------------------+ | Alpine Linux 3.22.0 | PEND | SKIPPED | SKIPPED | SKIPPED | +-------------------------------+--------------------+-------------------+-------------------+------------------+ | Windows Server 2022 | SKIPPED | SKIPPED | PASS | SKIPPED | +-------------------------------+--------------------+-------------------+-------------------+------------------+ Ubuntu 20.04 Kernel: 4.19 Compiler: gcc gcc (Ubuntu 9.4.0-1ubuntu1~20.04.2) 9.4.0 FreeBSD 14.2 Kernel: 14.2-RELEASE Compiler: clang 18.1.6 CentOS Stream 9 Kernel: 5.15 Compiler: gcc gcc (GCC) 11.5.0 20240719 (Red Hat 11.5.0-7) CentOS Stream 10 Kernel: 5.15 Compiler: gcc gcc (GCC) 14.2.1 20250110 (Red Hat 14.2.1-8) Debian GNU/Linux 12 Kernel: 5.15 Compiler: gcc gcc (Debian 12.2.0-14+deb12u1) 12.2.0 Fedora Linux 40 Kernel: 5.15 Compiler: clang gcc (GCC) 14.2.1 20240912 (Red Hat 14.2.1-3) Fedora Linux 41 Kernel: 5.15 Compiler: clang gcc (GCC) 14.3.1 20250523 (Red Hat 14.3.1-1) openSUSE Leap 15.6 Kernel: 5.15 Compiler: gcc gcc (SUSE Linux) 7.5.0 Red Hat Enterprise Linux 8.10 Kernel: 5.15 Compiler: gcc gcc (GCC) 8.5.0 20210514 (Red Hat 8.5.0-22) Red Hat Enterprise Linux 9.5 Kernel: 5.15 Compiler: gcc gcc (GCC) 11.5.0 20240719 (Red Hat 11.5.0-2) Ubuntu 22.04 Kernel: 5.15 Compiler: gcc gcc (Ubuntu 11.4.0-1ubuntu1~22.04) 11.4.0 Ubuntu 24.04 Kernel: 5.15 Compiler: gcc gcc (Ubuntu 13.3.0-6ubuntu2~24.04) 13.3.0 Alpine Linux 3.22.0 Kernel: 5.15 Compiler: gcc gcc (Alpine 14.2.0) 14.2.0 Windows Server 2022 Kernel: 10.0.20348.2031 Compiler: clang 15.0.7, gcc 14.1.0 (MinGW), and MSVC VS 19.39.33521 To view detailed results, visit: https://lab.dpdk.org/results/dashboard/patchsets/33621/ UNH-IOL DPDK Community Lab To manage your email subscriptions, visit: https://lab.dpdk.org/results/dashboard/preferences/subscriptions/