From mboxrd@z Thu Jan 1 00:00:00 1970 Return-Path: Received: from mails.dpdk.org (mails.dpdk.org [217.70.189.124]) by inbox.dpdk.org (Postfix) with ESMTP id 17E9E46B31 for ; Wed, 9 Jul 2025 15:45:49 +0200 (CEST) Received: from mails.dpdk.org (localhost [127.0.0.1]) by mails.dpdk.org (Postfix) with ESMTP id E4B1A402A9; Wed, 9 Jul 2025 15:45:48 +0200 (CEST) Received: from mail-pg1-f225.google.com (mail-pg1-f225.google.com [209.85.215.225]) by mails.dpdk.org (Postfix) with ESMTP id 22F89402A9 for ; Wed, 9 Jul 2025 15:45:47 +0200 (CEST) Received: by mail-pg1-f225.google.com with SMTP id 41be03b00d2f7-b3182c6d03bso6478793a12.0 for ; Wed, 09 Jul 2025 06:45:47 -0700 (PDT) DKIM-Signature: v=1; a=rsa-sha256; c=relaxed/relaxed; d=iol.unh.edu; s=unh-iol; t=1752068746; x=1752673546; darn=dpdk.org; h=references:in-reply-to:cc:to:from:subject:message-id:date:from:to :cc:subject:date:message-id:reply-to; bh=BJpj02eSZ0y35n2QV5AMU7CvSp188cZx/Sz/58xe3yg=; b=ejTEYCgymnrEwQT6v+Q/4/OX21yR828ui7huUQm+GpdciGSBZYv+p3sQ8IXVEIr+p5 sAqLU2PwpBZ8U/gJ6F4aNjXHq4iYfGzTi315TVljUcehwHhPL0ufYCTLMYZv9TJGoalC Bj34PpFrcB5UUdFwxxz/e3hlJFBcChCKfVvbw= X-Google-DKIM-Signature: v=1; a=rsa-sha256; c=relaxed/relaxed; d=1e100.net; s=20230601; t=1752068746; x=1752673546; h=references:in-reply-to:cc:to:from:subject:message-id:date :x-gm-message-state:from:to:cc:subject:date:message-id:reply-to; bh=BJpj02eSZ0y35n2QV5AMU7CvSp188cZx/Sz/58xe3yg=; b=WpZImcNhlOenJKnJ0p+Q0LUMwxlxQDK6bn0ObAEePyW96Fbf/rw2T3runGw1m5UQoU LkPRcn9TAGjuSIWeIS3dvsOKpXsPbDd9f3SbSK5SqAY1QHw31ru8S//xw4fDK5uRWK0j TobjZBUl0wfLR5O6JC3B1Cg95811BCFBz7BxP33wS3XWrraNVMNUMbObaM0/gGem8no6 +AnIlc/AnGyhDlJCTZO033Eh4IFyWokZWkKd/vk6S2xt5eD4BshoIys94Q5U5XxBWIuQ vUChM8JBMnqklWk9Navqhhfp19LxoYku0kYulvxR7rs09TGNt1oMEnjK1O620CoDigwt OlwQ== X-Gm-Message-State: AOJu0YzDpYIpzKZIVd/1/qNbzVgl77aXtr42LvfLNS3YMj2LMLIygdxU /tFxg2yoYU1mE/9kIfTPV57hka8xB/VCDz0Gig4If/MGvhIGEkZfT9W09xZaE6Z0C8/2DcPH0/P TLaERYJhhm6jodMA0JbryEZ6vDkamGv7LMHY2j6+mCKQe X-Gm-Gg: ASbGncuGknkvOpSpsCe95GSSFUqFIgTuFHzENpICWa1zR6fr2S0bB1EG/FAsevpHDUC qfoZiaFp+YmXwaVIwqvi80E0H1AyPGL+gqz63GzmSAeoEkLVHruvGGcuKzr505Z9BdG+Nkhd8it DsR/3Ww3bFJeqVwcpVpsXHA69AJV5VkamO83tdWs1yWptHvh5D9aPGQ72OfGwlx0+6a4NPEnsVW My0eaadp8SUrBhRsKyoUyQxwcDwHcFd9omEVYzKeAU13+lV9uOUuOHnN1hlajPeu80eBQl7Xf5y CImeDm7MrhvDIvy1mMsqcQ/tM8W9SkvhOq6lcikaTynmYJnVUNHt9Skh5BSjbwsiNt38ew== X-Google-Smtp-Source: AGHT+IFUcUjq96HzJMPbh0XN5wyQbguhhtGllpIZkSqzArCHKN0lTfr2pk+Ra/jMXeSL4sB+TiRqQCNcZeyB X-Received: by 2002:a17:902:db0c:b0:235:caa8:1a72 with SMTP id d9443c01a7336-23ddb2f2c2dmr37793015ad.30.1752068745930; Wed, 09 Jul 2025 06:45:45 -0700 (PDT) Received: from postal.iol.unh.edu (postal.iol.unh.edu. [132.177.123.84]) by smtp-relay.gmail.com with ESMTPS id d9443c01a7336-23c8f4a8631sm5007425ad.33.2025.07.09.06.45.45 (version=TLS1_2 cipher=ECDHE-ECDSA-AES128-GCM-SHA256 bits=128/128); Wed, 09 Jul 2025 06:45:45 -0700 (PDT) X-Relaying-Domain: iol.unh.edu Date: Wed, 09 Jul 2025 06:45:45 -0700 (PDT) Message-ID: <686e7289.170a0220.9b55f.9e80SMTPIN_ADDED_MISSING@mx.google.com> Received: from [172.21.0.8] (unknown [172.18.0.240]) by postal.iol.unh.edu (Postfix) with ESMTP id 67CBC6051830; Wed, 9 Jul 2025 09:45:45 -0400 (EDT) Subject: |WARNING| pw155087 [PATCH] maintainers: update for dlb2 From: dpdklab@iol.unh.edu To: Test Report Cc: dpdk-test-reports@iol.unh.edu In-Reply-To: <20250709050434.1296690-1-tirthendu.sarkar@intel.com> References: <20250709050434.1296690-1-tirthendu.sarkar@intel.com> Content-Type: text/plain X-BeenThere: test-report@dpdk.org X-Mailman-Version: 2.1.29 Precedence: list List-Id: automatic DPDK test reports List-Unsubscribe: , List-Archive: List-Post: List-Help: List-Subscribe: , Errors-To: test-report-bounces@dpdk.org Test-Label: iol-compile-amd64-testing Test-Status: WARNING http://dpdk.org/patch/155087 _Testing issues_ Submitter: Tirthendu Sarkar Date: Wednesday, July 09 2025 05:04:34 DPDK git baseline: Repo:dpdk Branch: master CommitID:e90979eebbea093f6bab2d7c222fc5f5c9a85eff 155087 --> testing issues Upstream job id: Generic-DPDK-Compile-Meson#407171 Test environment and result as below: +-------------------------------+--------------------+-------------------+-------------------+------------------+ | Environment | dpdk_meson_compile | dpdk_msvc_compile | dpdk_compile_spdk | dpdk_compile_ovs | +===============================+====================+===================+===================+==================+ | Ubuntu 20.04 | PASS | SKIPPED | SKIPPED | SKIPPED | +-------------------------------+--------------------+-------------------+-------------------+------------------+ | FreeBSD 14.2 | PASS | SKIPPED | SKIPPED | SKIPPED | +-------------------------------+--------------------+-------------------+-------------------+------------------+ | CentOS Stream 9 | PASS | SKIPPED | PASS | SKIPPED | +-------------------------------+--------------------+-------------------+-------------------+------------------+ | CentOS Stream 10 | PASS | SKIPPED | SKIPPED | SKIPPED | +-------------------------------+--------------------+-------------------+-------------------+------------------+ | Fedora Linux 40 | PASS | SKIPPED | PASS | SKIPPED | +-------------------------------+--------------------+-------------------+-------------------+------------------+ | Fedora Linux 41 | PASS | SKIPPED | PASS | PASS | +-------------------------------+--------------------+-------------------+-------------------+------------------+ | openSUSE Leap 15.6 | PASS | SKIPPED | SKIPPED | SKIPPED | +-------------------------------+--------------------+-------------------+-------------------+------------------+ | Red Hat Enterprise Linux 8.10 | PASS | SKIPPED | SKIPPED | SKIPPED | +-------------------------------+--------------------+-------------------+-------------------+------------------+ | Red Hat Enterprise Linux 9.5 | PASS | SKIPPED | SKIPPED | SKIPPED | +-------------------------------+--------------------+-------------------+-------------------+------------------+ | Ubuntu 22.04 | PASS | SKIPPED | PASS | SKIPPED | +-------------------------------+--------------------+-------------------+-------------------+------------------+ | Ubuntu 24.04 | PASS | SKIPPED | PASS | PASS | +-------------------------------+--------------------+-------------------+-------------------+------------------+ | Alpine Linux 3.22.0 | PASS | SKIPPED | SKIPPED | SKIPPED | +-------------------------------+--------------------+-------------------+-------------------+------------------+ | Debian GNU/Linux 12 | PASS | SKIPPED | PASS | SKIPPED | +-------------------------------+--------------------+-------------------+-------------------+------------------+ | Windows Server 2022 | SKIPPED | PASS | SKIPPED | SKIPPED | +-------------------------------+--------------------+-------------------+-------------------+------------------+ Ubuntu 20.04 Kernel: 4.19 Compiler: gcc gcc (Ubuntu 9.4.0-1ubuntu1~20.04.2) 9.4.0 FreeBSD 14.2 Kernel: 14.2-RELEASE Compiler: clang 18.1.6 CentOS Stream 9 Kernel: 5.15 Compiler: gcc gcc (GCC) 11.5.0 20240719 (Red Hat 11.5.0-7) CentOS Stream 10 Kernel: 5.15 Compiler: gcc gcc (GCC) 14.2.1 20250110 (Red Hat 14.2.1-8) Fedora Linux 40 Kernel: 5.15 Compiler: clang gcc (GCC) 14.2.1 20240912 (Red Hat 14.2.1-3) Fedora Linux 41 Kernel: 5.15 Compiler: clang gcc (GCC) 14.3.1 20250523 (Red Hat 14.3.1-1) openSUSE Leap 15.6 Kernel: 5.15 Compiler: gcc gcc (SUSE Linux) 7.5.0 Red Hat Enterprise Linux 8.10 Kernel: 5.15 Compiler: gcc gcc (GCC) 8.5.0 20210514 (Red Hat 8.5.0-22) Red Hat Enterprise Linux 9.5 Kernel: 5.15 Compiler: gcc gcc (GCC) 11.5.0 20240719 (Red Hat 11.5.0-2) Ubuntu 22.04 Kernel: 5.15 Compiler: gcc gcc (Ubuntu 11.4.0-1ubuntu1~22.04) 11.4.0 Ubuntu 24.04 Kernel: 5.15 Compiler: gcc gcc (Ubuntu 13.3.0-6ubuntu2~24.04) 13.3.0 Alpine Linux 3.22.0 Kernel: 5.15 Compiler: gcc gcc (Alpine 14.2.0) 14.2.0 Debian GNU/Linux 12 Kernel: 5.15 Compiler: gcc gcc (Debian 12.2.0-14+deb12u1) 12.2.0 Windows Server 2022 Kernel: 10.0.20348.2031 Compiler: clang 15.0.7, gcc 14.1.0 (MinGW), and MSVC VS 19.39.33521 To view detailed results, visit: https://lab.dpdk.org/results/dashboard/patchsets/33620/ UNH-IOL DPDK Community Lab To manage your email subscriptions, visit: https://lab.dpdk.org/results/dashboard/preferences/subscriptions/