From mboxrd@z Thu Jan 1 00:00:00 1970 Return-Path: Received: from mails.dpdk.org (mails.dpdk.org [217.70.189.124]) by inbox.dpdk.org (Postfix) with ESMTP id 5E8FA46A87 for ; Wed, 9 Jul 2025 15:52:16 +0200 (CEST) Received: from mails.dpdk.org (localhost [127.0.0.1]) by mails.dpdk.org (Postfix) with ESMTP id 58749402A9; Wed, 9 Jul 2025 15:52:16 +0200 (CEST) Received: from mail-pl1-f227.google.com (mail-pl1-f227.google.com [209.85.214.227]) by mails.dpdk.org (Postfix) with ESMTP id 2559B402A9 for ; Wed, 9 Jul 2025 15:52:15 +0200 (CEST) Received: by mail-pl1-f227.google.com with SMTP id d9443c01a7336-23636167b30so56367695ad.1 for ; Wed, 09 Jul 2025 06:52:15 -0700 (PDT) DKIM-Signature: v=1; a=rsa-sha256; c=relaxed/relaxed; d=iol.unh.edu; s=unh-iol; t=1752069134; x=1752673934; darn=dpdk.org; h=references:in-reply-to:cc:to:from:subject:message-id:date:from:to :cc:subject:date:message-id:reply-to; bh=9/eppxxQitKqMTjK0veeYSU/jcx8gJAFKnnTAhsaUmQ=; b=i4HrNz2sg6gsq0FUfWyZuLoiRNQytJiXhwffhRKm4KKtxOiNub3wyfcwNeqBEXgZJu jNlZLBYKaxilvWSz6kPLIuiP6btWgihNAYIF1oPMQKalZawyzQhfh9sMDJFKuntZFBdc OwnrMTP6DR3MH1B6rsBCl2ds85l5Xasbt1nF8= X-Google-DKIM-Signature: v=1; a=rsa-sha256; c=relaxed/relaxed; d=1e100.net; s=20230601; t=1752069134; x=1752673934; h=references:in-reply-to:cc:to:from:subject:message-id:date :x-gm-message-state:from:to:cc:subject:date:message-id:reply-to; bh=9/eppxxQitKqMTjK0veeYSU/jcx8gJAFKnnTAhsaUmQ=; b=CyCsH9QZm0ALpMmJ2JGCU8jlJHQslISIXHzDwSZUrNK2NoPg+TLDf0Pn2sNC8FXm90 2VLINvOfVwE50izTue9SWgcoPNJF/eBu66MQi+jlyr+w0T6Axi7vochiT9pIioSdZfvV aX5LMFRZBBCDRtygwanomRpEWQjhy0EhGC1AVZq1jBHUi0cKODmOQo6PSgBC68wtEfmW Ouw3fnh6EpxdzfIS3O5LTPkudwzUFW5gNqFFaSfQXxK6cPAJ9b7Cui/bYzHF3JJrpI05 g6C/9gkCDVKRi+UnEVBI6nJaaaCsCweiv43cUcgi1/RHgcI9XkYV0YdSVawUE+IZbQWc XDMA== X-Gm-Message-State: AOJu0YwW0jDbIpjroLwVbARU9l7t2dtns0LiYmLmOotUV75/rxh4h5hu aLHuDiv2JoOg3FM50Lgo7u/T8jnRxQBr0RZmfa9wrPD2TwbhDZpz1frU6cIpG68lwVKge2oAfUx hFrzfn9xIAbKGjJVs2J7CjNdg+CdLmWtKAVNA7udAY7AyY60VihEvy/sWgzf7 X-Gm-Gg: ASbGnctUx4nhaG0incxdUejvJp+fYNPm05s5OhtT7MNvm0Q+QiTcQvrJ7cJO22Z9BVD slar0J+bCsrD12TV4ogVUvnAn6BJ9aF/FoqxjuHZ8jge/RtwoCQ5za1+gErXFCSMiHrpZHlJUJp 5AVJgk+e70056kNBj8174AqPMHwmTZJTswRW3f8hid5uYMbzWwqTjzRFYF5xwUTSp9Bi1NDDdMW oWhUodm1XXTniLLQUZCMv53lgDF26hqJ8fk7kpNp70Xs2oLJuh0R33j94bbDVF9tmg1APyXfMxx 5XCzW4va0b+I6zv3gMOzWkBP1+lYo42VuAdc5ZVoo2NoLE4= X-Google-Smtp-Source: AGHT+IEwan7L1BH2Ydo4xW0mxgYlVbE3xAlh8M2SN7u60Q4y/bfgLeZUKnTcwwbatQUV3czB2+2D1IeauXDS X-Received: by 2002:a17:903:3bac:b0:237:c8de:f289 with SMTP id d9443c01a7336-23ddb30fbfbmr42347135ad.36.1752069134201; Wed, 09 Jul 2025 06:52:14 -0700 (PDT) Received: from postal.iol.unh.edu (postal.iol.unh.edu. [2606:4100:3880:1234::84]) by smtp-relay.gmail.com with ESMTPS id d9443c01a7336-23c844e1410sm6368785ad.73.2025.07.09.06.52.14 (version=TLS1_2 cipher=ECDHE-ECDSA-AES128-GCM-SHA256 bits=128/128); Wed, 09 Jul 2025 06:52:14 -0700 (PDT) X-Relaying-Domain: iol.unh.edu Date: Wed, 09 Jul 2025 06:52:14 -0700 (PDT) Message-ID: <686e740e.170a0220.4ff8b.15beSMTPIN_ADDED_MISSING@mx.google.com> Received: from [172.21.0.5] (unknown [172.18.0.240]) by postal.iol.unh.edu (Postfix) with ESMTP id 66EE76051830; Wed, 9 Jul 2025 09:52:13 -0400 (EDT) Subject: |WARNING| pw155084 [PATCH] [RFC] add hints to CLAUDE From: dpdklab@iol.unh.edu To: Test Report Cc: dpdk-test-reports@iol.unh.edu In-Reply-To: <20250708190957.10108-1-stephen@networkplumber.org> References: <20250708190957.10108-1-stephen@networkplumber.org> Content-Type: text/plain X-BeenThere: test-report@dpdk.org X-Mailman-Version: 2.1.29 Precedence: list List-Id: automatic DPDK test reports List-Unsubscribe: , List-Archive: List-Post: List-Help: List-Subscribe: , Errors-To: test-report-bounces@dpdk.org Test-Label: iol-compile-amd64-testing Test-Status: WARNING http://dpdk.org/patch/155084 _Testing issues_ Submitter: Stephen Hemminger Date: Tuesday, July 08 2025 19:09:41 DPDK git baseline: Repo:dpdk Branch: master CommitID:e90979eebbea093f6bab2d7c222fc5f5c9a85eff 155084 --> testing issues Upstream job id: Windows-Compile-DPDK-Native#29673 Test environment and result as below: +-------------------------------+--------------------+-------------------+------------------+-------------------+-------------------------+----------------------+ | Environment | dpdk_meson_compile | dpdk_compile_spdk | dpdk_compile_ovs | dpdk_msvc_compile | dpdk_llvm_clang_compile | dpdk_mingw64_compile | +===============================+====================+===================+==================+===================+=========================+======================+ | Ubuntu 20.04 | PASS | SKIPPED | SKIPPED | SKIPPED | SKIPPED | SKIPPED | +-------------------------------+--------------------+-------------------+------------------+-------------------+-------------------------+----------------------+ | FreeBSD 14.2 | PASS | SKIPPED | SKIPPED | SKIPPED | SKIPPED | SKIPPED | +-------------------------------+--------------------+-------------------+------------------+-------------------+-------------------------+----------------------+ | CentOS Stream 9 | PASS | PASS | SKIPPED | SKIPPED | SKIPPED | SKIPPED | +-------------------------------+--------------------+-------------------+------------------+-------------------+-------------------------+----------------------+ | CentOS Stream 10 | PASS | SKIPPED | SKIPPED | SKIPPED | SKIPPED | SKIPPED | +-------------------------------+--------------------+-------------------+------------------+-------------------+-------------------------+----------------------+ | Debian GNU/Linux 12 | PASS | PASS | SKIPPED | SKIPPED | SKIPPED | SKIPPED | +-------------------------------+--------------------+-------------------+------------------+-------------------+-------------------------+----------------------+ | Fedora Linux 40 | PASS | PASS | SKIPPED | SKIPPED | SKIPPED | SKIPPED | +-------------------------------+--------------------+-------------------+------------------+-------------------+-------------------------+----------------------+ | Fedora Linux 41 | PASS | PASS | PASS | SKIPPED | SKIPPED | SKIPPED | +-------------------------------+--------------------+-------------------+------------------+-------------------+-------------------------+----------------------+ | Red Hat Enterprise Linux 8.10 | PASS | SKIPPED | SKIPPED | SKIPPED | SKIPPED | SKIPPED | +-------------------------------+--------------------+-------------------+------------------+-------------------+-------------------------+----------------------+ | Red Hat Enterprise Linux 9.5 | PASS | SKIPPED | SKIPPED | SKIPPED | SKIPPED | SKIPPED | +-------------------------------+--------------------+-------------------+------------------+-------------------+-------------------------+----------------------+ | Ubuntu 24.04 | PASS | PASS | PASS | SKIPPED | SKIPPED | SKIPPED | +-------------------------------+--------------------+-------------------+------------------+-------------------+-------------------------+----------------------+ | Alpine Linux 3.22.0 | PASS | SKIPPED | SKIPPED | SKIPPED | SKIPPED | SKIPPED | +-------------------------------+--------------------+-------------------+------------------+-------------------+-------------------------+----------------------+ | Ubuntu 22.04 | PASS | PASS | SKIPPED | SKIPPED | SKIPPED | SKIPPED | +-------------------------------+--------------------+-------------------+------------------+-------------------+-------------------------+----------------------+ | openSUSE Leap 15.6 | PASS | SKIPPED | SKIPPED | SKIPPED | SKIPPED | SKIPPED | +-------------------------------+--------------------+-------------------+------------------+-------------------+-------------------------+----------------------+ | Windows Server 2022 | SKIPPED | SKIPPED | SKIPPED | PASS | PASS | PASS | +-------------------------------+--------------------+-------------------+------------------+-------------------+-------------------------+----------------------+ Ubuntu 20.04 Kernel: 4.19 Compiler: gcc gcc (Ubuntu 9.4.0-1ubuntu1~20.04.2) 9.4.0 FreeBSD 14.2 Kernel: 14.2-RELEASE Compiler: clang 18.1.6 CentOS Stream 9 Kernel: 5.15 Compiler: gcc gcc (GCC) 11.5.0 20240719 (Red Hat 11.5.0-7) CentOS Stream 10 Kernel: 5.15 Compiler: gcc gcc (GCC) 14.2.1 20250110 (Red Hat 14.2.1-8) Debian GNU/Linux 12 Kernel: 5.15 Compiler: gcc gcc (Debian 12.2.0-14+deb12u1) 12.2.0 Fedora Linux 40 Kernel: 5.15 Compiler: clang gcc (GCC) 14.2.1 20240912 (Red Hat 14.2.1-3) Fedora Linux 41 Kernel: 5.15 Compiler: clang gcc (GCC) 14.3.1 20250523 (Red Hat 14.3.1-1) Red Hat Enterprise Linux 8.10 Kernel: 5.15 Compiler: gcc gcc (GCC) 8.5.0 20210514 (Red Hat 8.5.0-22) Red Hat Enterprise Linux 9.5 Kernel: 5.15 Compiler: gcc gcc (GCC) 11.5.0 20240719 (Red Hat 11.5.0-2) Ubuntu 24.04 Kernel: 5.15 Compiler: gcc gcc (Ubuntu 13.3.0-6ubuntu2~24.04) 13.3.0 Alpine Linux 3.22.0 Kernel: 5.15 Compiler: gcc gcc (Alpine 14.2.0) 14.2.0 Ubuntu 22.04 Kernel: 5.15 Compiler: gcc gcc (Ubuntu 11.4.0-1ubuntu1~22.04) 11.4.0 openSUSE Leap 15.6 Kernel: 5.15 Compiler: gcc gcc (SUSE Linux) 7.5.0 Windows Server 2022 Kernel: 10.0.20348.2031 Compiler: clang 15.0.7, gcc 14.1.0 (MinGW), and MSVC VS 19.39.33521 To view detailed results, visit: https://lab.dpdk.org/results/dashboard/patchsets/33617/ UNH-IOL DPDK Community Lab To manage your email subscriptions, visit: https://lab.dpdk.org/results/dashboard/preferences/subscriptions/