From mboxrd@z Thu Jan 1 00:00:00 1970 Return-Path: Received: from mails.dpdk.org (mails.dpdk.org [217.70.189.124]) by inbox.dpdk.org (Postfix) with ESMTP id B5DB146B30 for ; Wed, 9 Jul 2025 15:55:13 +0200 (CEST) Received: from mails.dpdk.org (localhost [127.0.0.1]) by mails.dpdk.org (Postfix) with ESMTP id AE91D402A9; Wed, 9 Jul 2025 15:55:13 +0200 (CEST) Received: from mail-pl1-f226.google.com (mail-pl1-f226.google.com [209.85.214.226]) by mails.dpdk.org (Postfix) with ESMTP id ADD16402A9 for ; Wed, 9 Jul 2025 15:55:11 +0200 (CEST) Received: by mail-pl1-f226.google.com with SMTP id d9443c01a7336-234f17910d8so51427685ad.3 for ; Wed, 09 Jul 2025 06:55:11 -0700 (PDT) DKIM-Signature: v=1; a=rsa-sha256; c=relaxed/relaxed; d=iol.unh.edu; s=unh-iol; t=1752069311; x=1752674111; darn=dpdk.org; h=references:in-reply-to:cc:to:from:subject:message-id:date:from:to :cc:subject:date:message-id:reply-to; bh=d+RqOnG939iDj5YYzUstWB7wn6rCpM62lKTgrBLBnfk=; b=Kn+Nq5lN+XP5N9mjYO/YYwOzY5sVWWC+rXfDtrnbBW8KOFPr8n2gy0nilDVb1DxctC 48h0vXUrlXIsNVST9oJ5LMNq21/A1bM9ecDZUFPkMtITX7OwsIsSToijawd4rTcsGDmk BOFC7IXW2RVvhp+lVbNmM29t50zRtbn/iKdAI= X-Google-DKIM-Signature: v=1; a=rsa-sha256; c=relaxed/relaxed; d=1e100.net; s=20230601; t=1752069311; x=1752674111; h=references:in-reply-to:cc:to:from:subject:message-id:date :x-gm-message-state:from:to:cc:subject:date:message-id:reply-to; bh=d+RqOnG939iDj5YYzUstWB7wn6rCpM62lKTgrBLBnfk=; b=bnnQn80hN+O2jIBJl6KBggujjxUwRRsTUpeQBkoIUrhNIP6EqBU4aLl0XXUyLWezQW XUHFqpI+GRAeFvBT9mmgia0Sm+EeyBbYQT3tQ//4rXkGzTLUnkPLdD039bIK1PL5hUNh 6Fj53j6EJetimNH6cV5/lGCG42Cih1SbDyXSJY1ZM29bRTmwqUBbEgHAX9zpgvOyDchb Ys2+BYZpNnhX1YGQEIfFkHfqFzgrgD9Li5nwHXdC3HihuuPT3T8bnIlN3gF4Lg/PKPW2 27fKRkI3Y1nyIqLxMIJ61FyIhmjmNqhtr6/gXpLTEmbod+E1U10oUb35N+91lLikjUsc q5IQ== X-Gm-Message-State: AOJu0Yy8CGx1oE7r4BAOQ0d8mvKetjcE+MMLxo9E9OAw4eLmgrdYHVKI rmaE409N/x4cm51J4xlqNTbwq8Wbdhkn6OeVx72MDkd5jGFjyVVJ5XG0/SVrc0dJNo/oNgkgRR1 AgJfOLFjWI+5AvdbzH7gQwKB/HkwjqkHyJfL5URPvRLv0D9fiRP7h6tfgFMWK X-Gm-Gg: ASbGncv4+bz2Htn70sTSbTmDCriBJz7wIcrzFRuwUXo2naCAysryD8XTb+AlnG3NF+J ozKX/qwcVHSHXuG1XPuxrZkau8xKVLw0HWZiEpq6z+vcA71FTX/sD858tAAwDs7hu9iw7EWUSLp LbSQSqq6mMdMnFnsXSaaaYs64R2NFawVLWJ8Jln7B1P6zxAOLjGksNfH9MCyq67LbzdnJA3JTyr l3Sgmf1L+debE9qME4xC9/s+VyiqkBfT6nMuMASkWifCMQp/KWQ9GG/p7QC2PFUTC2mSV6JkJag ekAlsulGiqx6kqqvrkZsBX/+BktXhkY6yhoDO3b0bUtGPb4= X-Google-Smtp-Source: AGHT+IFnbYYXzxpdoNbfdpEeiTN+Hw2oIssVcqmhDpR4qikrbSml5gkvuBRaTvGv0Uac0EVAbCe3cw5RwabQ X-Received: by 2002:a17:903:3c50:b0:235:eb71:a389 with SMTP id d9443c01a7336-23ddb30fa39mr40932455ad.36.1752069310812; Wed, 09 Jul 2025 06:55:10 -0700 (PDT) Received: from postal.iol.unh.edu (postal.iol.unh.edu. [2606:4100:3880:1234::84]) by smtp-relay.gmail.com with ESMTPS id d9443c01a7336-23c842d10d6sm6707915ad.42.2025.07.09.06.55.10 (version=TLS1_2 cipher=ECDHE-ECDSA-AES128-GCM-SHA256 bits=128/128); Wed, 09 Jul 2025 06:55:10 -0700 (PDT) X-Relaying-Domain: iol.unh.edu Date: Wed, 09 Jul 2025 06:55:10 -0700 (PDT) Message-ID: <686e74be.170a0220.1b0ed2.3fb2SMTPIN_ADDED_MISSING@mx.google.com> Received: from [172.21.0.5] (unknown [172.18.0.240]) by postal.iol.unh.edu (Postfix) with ESMTP id 43E91604D420; Wed, 9 Jul 2025 09:55:10 -0400 (EDT) Subject: |SUCCESS| pw155087 [PATCH] maintainers: update for dlb2 From: dpdklab@iol.unh.edu To: Test Report Cc: dpdk-test-reports@iol.unh.edu In-Reply-To: <20250709050434.1296690-1-tirthendu.sarkar@intel.com> References: <20250709050434.1296690-1-tirthendu.sarkar@intel.com> Content-Type: text/plain X-BeenThere: test-report@dpdk.org X-Mailman-Version: 2.1.29 Precedence: list List-Id: automatic DPDK test reports List-Unsubscribe: , List-Archive: List-Post: List-Help: List-Subscribe: , Errors-To: test-report-bounces@dpdk.org Test-Label: iol-unit-arm64-testing Test-Status: SUCCESS http://dpdk.org/patch/155087 _Testing PASS_ Submitter: Tirthendu Sarkar Date: Wednesday, July 09 2025 05:04:34 DPDK git baseline: Repo:dpdk Branch: master CommitID:e90979eebbea093f6bab2d7c222fc5f5c9a85eff 155087 --> testing pass Upstream job id: Generic-Unit-Test-DPDK#354131 Test environment and result as below: +------------------------------+----------------+--------------+---------------------------+------------------------------+ | Environment | dpdk_unit_test | lpm_autotest | cryptodev_sw_zuc_autotest | cryptodev_sw_snow3g_autotest | +==============================+================+==============+===========================+==============================+ | CentOS Stream 9 | PASS | SKIPPED | SKIPPED | SKIPPED | +------------------------------+----------------+--------------+---------------------------+------------------------------+ | CentOS Stream 10 | PASS | SKIPPED | SKIPPED | SKIPPED | +------------------------------+----------------+--------------+---------------------------+------------------------------+ | Fedora Linux 40 | PASS | SKIPPED | SKIPPED | SKIPPED | +------------------------------+----------------+--------------+---------------------------+------------------------------+ | Fedora Linux 41 | PASS | SKIPPED | SKIPPED | SKIPPED | +------------------------------+----------------+--------------+---------------------------+------------------------------+ | Ubuntu 20.04 | PASS | PASS | SKIPPED | SKIPPED | +------------------------------+----------------+--------------+---------------------------+------------------------------+ | Red Hat Enterprise Linux 9.5 | PASS | SKIPPED | SKIPPED | SKIPPED | +------------------------------+----------------+--------------+---------------------------+------------------------------+ | Debian GNU/Linux 12 | PASS | SKIPPED | SKIPPED | SKIPPED | +------------------------------+----------------+--------------+---------------------------+------------------------------+ | Ubuntu 24.04 | PASS | SKIPPED | SKIPPED | SKIPPED | +------------------------------+----------------+--------------+---------------------------+------------------------------+ | Ubuntu 22.04 | PASS | SKIPPED | SKIPPED | SKIPPED | +------------------------------+----------------+--------------+---------------------------+------------------------------+ | Debian 12 (arm) | SKIPPED | SKIPPED | PASS | PASS | +------------------------------+----------------+--------------+---------------------------+------------------------------+ CentOS Stream 9 Kernel: 5.4 Compiler: gcc gcc (GCC) 11.5.0 20240719 (Red Hat 11.5.0-7) CentOS Stream 10 Kernel: 5.4 Compiler: gcc gcc (GCC) 14.2.1 20250110 (Red Hat 14.2.1-8) Fedora Linux 40 Kernel: 5.4 Compiler: clang gcc (GCC) 14.2.1 20240912 (Red Hat 14.2.1-3) Fedora Linux 41 Kernel: 5.4 Compiler: gcc gcc (GCC) 14.3.1 20250523 (Red Hat 14.3.1-1) Ubuntu 20.04 Kernel: 5.4 Compiler: gcc gcc (Ubuntu 9.4.0-1ubuntu1~20.04.2) 9.4.0 Red Hat Enterprise Linux 9.5 Kernel: 5.4 Compiler: gcc gcc (GCC) 11.5.0 20240719 (Red Hat 11.5.0-2) Debian GNU/Linux 12 Kernel: 5.4 Compiler: gcc gcc (Debian 12.2.0-14+deb12u1) 12.2.0 Ubuntu 24.04 Kernel: 5.4 Compiler: gcc gcc (Ubuntu 13.3.0-6ubuntu2~24.04) 13.3.0 Ubuntu 22.04 Kernel: 5.4 Compiler: gcc gcc (Ubuntu 11.4.0-1ubuntu1~22.04) 11.4.0 Debian 12 (arm) Kernel: Depends on container host Compiler: gcc (Debian 12.2.0-14) 12.2.0 To view detailed results, visit: https://lab.dpdk.org/results/dashboard/patchsets/33620/ UNH-IOL DPDK Community Lab To manage your email subscriptions, visit: https://lab.dpdk.org/results/dashboard/preferences/subscriptions/