From mboxrd@z Thu Jan 1 00:00:00 1970 Return-Path: Received: from mails.dpdk.org (mails.dpdk.org [217.70.189.124]) by inbox.dpdk.org (Postfix) with ESMTP id BD98346B32 for ; Wed, 9 Jul 2025 16:04:56 +0200 (CEST) Received: from mails.dpdk.org (localhost [127.0.0.1]) by mails.dpdk.org (Postfix) with ESMTP id 9FF4D402A9; Wed, 9 Jul 2025 16:04:56 +0200 (CEST) Received: from mail-oa1-f97.google.com (mail-oa1-f97.google.com [209.85.160.97]) by mails.dpdk.org (Postfix) with ESMTP id 657C8402A9 for ; Wed, 9 Jul 2025 16:04:55 +0200 (CEST) Received: by mail-oa1-f97.google.com with SMTP id 586e51a60fabf-2e95ab2704fso4436384fac.3 for ; Wed, 09 Jul 2025 07:04:55 -0700 (PDT) DKIM-Signature: v=1; a=rsa-sha256; c=relaxed/relaxed; d=iol.unh.edu; s=unh-iol; t=1752069894; x=1752674694; darn=dpdk.org; h=references:in-reply-to:cc:to:from:subject:message-id:date:from:to :cc:subject:date:message-id:reply-to; bh=x6r6IpHtpYFNXOhOj+qFrldQNXIfQczLRrAwen5ctMU=; b=CcB8gRoV6Zdn6ibIS5JB4sN3glm+9yRFtxQaKq/D8WplQJ8/pdHr0oEHzhAP8icFf8 CsvA659o7mQGDY3zJ6YLowHHErQgYRgjKoiwwUDv5Zvfb4r/awrDnwQJGFlZQS8XcgOO s1ounWQW/NXDRCZKYt7F10VvEQf9tWFruSMLo= X-Google-DKIM-Signature: v=1; a=rsa-sha256; c=relaxed/relaxed; d=1e100.net; s=20230601; t=1752069894; x=1752674694; h=references:in-reply-to:cc:to:from:subject:message-id:date :x-gm-message-state:from:to:cc:subject:date:message-id:reply-to; bh=x6r6IpHtpYFNXOhOj+qFrldQNXIfQczLRrAwen5ctMU=; b=ZKiGkzwJbM++PH3m6IB9/3oxdEWDrCSRdvJ+elJ+WR2twKw3fdC1h+B30biY9qev5Q sSCDfYOPqygrfTiQEqANUGn+3dGu0h1hyUu4GOkfUKUjeaRlkwPuzDEt/JzV/3y1evSS y3QK/GQb1ZT8OK+jZ5+LJp9kF9ZFyqFanlCkpuYMscQf7KAdp2tFEEySrTSzg/OnrXbQ G/sRV/NRghTx+VzDNS2NfUF73Nccwwctx59Vbbx8Z6B4NZc6I3sw3Nxf4nVljrj+wLDM n33Z/a7IeFf50Yl4W0G1oxGRmeEYkp90O87El+Qdqp1isZeKu1RknU9GCs5vwpPAc5qa RGuw== X-Gm-Message-State: AOJu0YzbNGGEA++LHrEPOHR4akDI7xiyE6nmU112ArtlLYzUTAvYxB13 QnkZ6O2zOpYlVisRF2WJAN6g12HO5dNzCDpzeTzKCIgip4vZJmoko4BfhrfjsSvLLuvGTyCe30m xKUHPVwUe9RbUaZqII56kCIyi0HKkcb74xv2z7YwSd4iQOMeXNYJp5YRPxBR9 X-Gm-Gg: ASbGnct4o8vk6RItuiRm3ye5Pm7JP/1tDomvbQ04yPGVkyrSH+6LjnCgsaRc1AXGWlR +hJR622BFUQv4NAO2VB74wQ0iLS08HqwXUKnj/h193aFIT2fK1zv2/oBHy23mZ/greehVYIyoUb QT8xF7RHJjbPVKFcmQ9MNyXMS5NgKhURXK5FQ9RY5gqAByo7ndlt4QKdVOyyzWrZc3oE5WKGs4x 8QOyyWDr+9MA/93HhmnCtmSmix+kqXPJRTsqucfNJ6or1k/LL6toDjhei5t2/IZjXwfaJMprPwm bi+NI5jO9ggzp1lf70Eip6KAVqy0p87J0A4Lh2L3X6XoamQ= X-Google-Smtp-Source: AGHT+IGkM6DKhcsL366iNFHzHH5j6suVTyHk4ErdSCHsAvAN89EBeA8TUjPW2w2eMbrBhjI3OflL78SSQb/V X-Received: by 2002:a05:6870:1d18:b0:2d6:2a40:fb9d with SMTP id 586e51a60fabf-2fef87650efmr1915333fac.28.1752069893319; Wed, 09 Jul 2025 07:04:53 -0700 (PDT) Received: from postal.iol.unh.edu (postal.iol.unh.edu. [2606:4100:3880:1234::84]) by smtp-relay.gmail.com with ESMTPS id 586e51a60fabf-2f7900544cdsm826440fac.19.2025.07.09.07.04.53 (version=TLS1_2 cipher=ECDHE-ECDSA-AES128-GCM-SHA256 bits=128/128); Wed, 09 Jul 2025 07:04:53 -0700 (PDT) X-Relaying-Domain: iol.unh.edu Date: Wed, 09 Jul 2025 07:04:53 -0700 (PDT) Message-ID: <686e7705.050a0220.12808e.b927SMTPIN_ADDED_MISSING@mx.google.com> Received: from [172.21.0.5] (unknown [172.18.0.240]) by postal.iol.unh.edu (Postfix) with ESMTP id C33D0604D420; Wed, 9 Jul 2025 10:04:52 -0400 (EDT) Subject: |SUCCESS| pw154945-154949 [PATCH] [v3,5/5] dts: add performance test From: dpdklab@iol.unh.edu To: Test Report Cc: dpdk-test-reports@iol.unh.edu In-Reply-To: <20250702052154.381690-5-probb@iol.unh.edu> References: <20250702052154.381690-5-probb@iol.unh.edu> Content-Type: text/plain X-BeenThere: test-report@dpdk.org X-Mailman-Version: 2.1.29 Precedence: list List-Id: automatic DPDK test reports List-Unsubscribe: , List-Archive: List-Post: List-Help: List-Subscribe: , Errors-To: test-report-bounces@dpdk.org Test-Label: iol-unit-amd64-testing Test-Status: SUCCESS http://dpdk.org/patch/154949 _Testing PASS_ Submitter: Patrick Robb Date: Wednesday, July 02 2025 05:21:54 DPDK git baseline: Repo:dpdk Branch: master CommitID:e90979eebbea093f6bab2d7c222fc5f5c9a85eff 154945-154949 --> testing pass Upstream job id: Generic-VM-Unit-Test-DPDK#29822 Test environment and result as below: +-------------------------------+----------------+ | Environment | dpdk_unit_test | +===============================+================+ | Red Hat Enterprise Linux 8.10 | PASS | +-------------------------------+----------------+ | Red Hat Enterprise Linux 9.5 | PASS | +-------------------------------+----------------+ | CentOS Stream 10 | PASS | +-------------------------------+----------------+ | CentOS Stream 9 | PASS | +-------------------------------+----------------+ | Fedora Linux 40 | PASS | +-------------------------------+----------------+ | Fedora Linux 41 | PASS | +-------------------------------+----------------+ | Debian GNU/Linux 12 | PASS | +-------------------------------+----------------+ | Ubuntu 20.04 | PASS | +-------------------------------+----------------+ | Ubuntu 22.04 | PASS | +-------------------------------+----------------+ | Ubuntu 24.04 | PASS | +-------------------------------+----------------+ | Windows Server 2022 | PASS | +-------------------------------+----------------+ Red Hat Enterprise Linux 8.10 Kernel: 5.15 Compiler: gcc gcc (GCC) 8.5.0 20210514 (Red Hat 8.5.0-22) Red Hat Enterprise Linux 9.5 Kernel: 5.15 Compiler: gcc gcc (GCC) 11.5.0 20240719 (Red Hat 11.5.0-2) CentOS Stream 10 Kernel: 5.15 Compiler: gcc gcc (GCC) 14.2.1 20250110 (Red Hat 14.2.1-8) CentOS Stream 9 Kernel: 5.15 Compiler: gcc gcc (GCC) 11.5.0 20240719 (Red Hat 11.5.0-7) Fedora Linux 40 Kernel: 5.15 Compiler: gcc gcc (GCC) 14.2.1 20240912 (Red Hat 14.2.1-3) Fedora Linux 41 Kernel: 5.15 Compiler: clang gcc (GCC) 14.3.1 20250523 (Red Hat 14.3.1-1) Debian GNU/Linux 12 Kernel: 5.15 Compiler: gcc gcc (Debian 12.2.0-14+deb12u1) 12.2.0 Ubuntu 20.04 Kernel: 5.15 Compiler: gcc gcc (Ubuntu 9.4.0-1ubuntu1~20.04.2) 9.4.0 Ubuntu 22.04 Kernel: 5.15 Compiler: gcc gcc (Ubuntu 11.4.0-1ubuntu1~22.04) 11.4.0 Ubuntu 24.04 Kernel: 5.15 Compiler: gcc gcc (Ubuntu 13.3.0-6ubuntu2~24.04) 13.3.0 Windows Server 2022 Kernel: 10.0.20348.2031 Compiler: clang 15.0.7, gcc 14.1.0 (MinGW), and MSVC VS 19.39.33521 To view detailed results, visit: https://lab.dpdk.org/results/dashboard/patchsets/33562/ UNH-IOL DPDK Community Lab To manage your email subscriptions, visit: https://lab.dpdk.org/results/dashboard/preferences/subscriptions/