From mboxrd@z Thu Jan 1 00:00:00 1970 Return-Path: Received: from mails.dpdk.org (mails.dpdk.org [217.70.189.124]) by inbox.dpdk.org (Postfix) with ESMTP id 4BB8846B32 for ; Wed, 9 Jul 2025 16:11:30 +0200 (CEST) Received: from mails.dpdk.org (localhost [127.0.0.1]) by mails.dpdk.org (Postfix) with ESMTP id 369C5402A9; Wed, 9 Jul 2025 16:11:30 +0200 (CEST) Received: from mail-io1-f98.google.com (mail-io1-f98.google.com [209.85.166.98]) by mails.dpdk.org (Postfix) with ESMTP id 29322402A9 for ; Wed, 9 Jul 2025 16:11:29 +0200 (CEST) Received: by mail-io1-f98.google.com with SMTP id ca18e2360f4ac-86cf9f46b06so201149139f.2 for ; Wed, 09 Jul 2025 07:11:29 -0700 (PDT) DKIM-Signature: v=1; a=rsa-sha256; c=relaxed/relaxed; d=iol.unh.edu; s=unh-iol; t=1752070288; x=1752675088; darn=dpdk.org; h=references:in-reply-to:cc:to:from:subject:message-id:date:from:to :cc:subject:date:message-id:reply-to; bh=9HYfN68G8hqC6RJif2aISkJLLysSIE+sNVoft8t1kkU=; b=cIdmgMUXDsPRO32/OhYZ8tA8+4FHPM5TF5oGvja6PueCRglIjZoVrOQZ1Sr+oN2yMU KTPr3Ho1DlmAdy/hdR5lelyIe+lNmItv50GEB8SP3vqKJisgmr1GUFx+c+XhpbZH56Bn MnFQX37fTBvb6DAs7947CVlCSryKRVd1BgBy0= X-Google-DKIM-Signature: v=1; a=rsa-sha256; c=relaxed/relaxed; d=1e100.net; s=20230601; t=1752070288; x=1752675088; h=references:in-reply-to:cc:to:from:subject:message-id:date :x-gm-message-state:from:to:cc:subject:date:message-id:reply-to; bh=9HYfN68G8hqC6RJif2aISkJLLysSIE+sNVoft8t1kkU=; b=ST+wygwOzPglHytzfqpIl3ELqWmD5ID044Rqw/Jehh/pBqwHdhYq+dgA14Mg7acuYg QISiUIM2xzOfy4VRoEcTAKxS+JiGB/5BkN9HAiMke/mCI5AwbyYZ6ctWPv8f7Ekyli8m p54FR9HRxzxkH2tPzbUDydQ3SZ+PYExv+H+3E97cU6giF8DpX9lx4Ao2itaEL0Ya0vGi PhLPlSlJ8WlEfYBoKLcj9C/Cnl9vJWG/TWcM/DrUh3i3RWOLirFH9rjbKiOTrsdeDwmX uf16ViP1BPz5Yzr9WG3t58FbCaEc0J1BlwvCGk2lCXqllrKAeMOt/P+nVsKbdI6z/yE6 unFw== X-Gm-Message-State: AOJu0YwWLjDJ7lJgAo1Rn/arWLDZfxqAfAQDG3Cfx0H9wiXE9APm7rWT nxCBBRwsne82zbDEyFkxHd7FagaCuvAtdKieHIF0DcLQm83nMIH7EZEby/HQvLZg3WilwF9JB0k BgnOW+8STWU8eEXKYx9KEO17+iEknYWlZ8pnjTGxAoapp X-Gm-Gg: ASbGncuFRixbYH2PTvh+tTxjdVGwdYiN1fxquTW8OLl27E4AINRdWOcKuvsdFyj2uXP pkMiBEItFHU56H7g8FYuAS918OmFGqipwX8ZSviJR7etqy7O/qMTPQmxW4L3JpsFe2GmjH1/VpB MjWXzeFyb+3IGIMJJkuEwVFiHeu6Ba3ZAtdqdpo3vWnthERioKg873NH2ejWMIc4ivQp7OoEAXb u3l+m5dvpj/9dMYJ9PdbNt9fI7LNTNtWF0rWLQs9t0SQBFx1821yLfqManeZmldGrObuoy5USuB a4rYdgXHRIO4oMrDy+UG0LkBfUAF9MAUMBMbh+rUZLvUT32jqtsH4fwuz7FW6MThTCzo2Q== X-Google-Smtp-Source: AGHT+IHANWTi78WjC9ou/rLX7TvQM/J6HdH+vuVxtYU2kjiJKbYmBRCi77xPyxssnVFe87iRpHIywSi+EubJ X-Received: by 2002:a05:6602:1584:b0:864:68b0:60b3 with SMTP id ca18e2360f4ac-879663cc6d4mr7948839f.12.1752070288270; Wed, 09 Jul 2025 07:11:28 -0700 (PDT) Received: from postal.iol.unh.edu (postal.iol.unh.edu. [132.177.123.84]) by smtp-relay.gmail.com with ESMTPS id 8926c6da1cb9f-503b5bb3252sm449857173.62.2025.07.09.07.11.28 (version=TLS1_2 cipher=ECDHE-ECDSA-AES128-GCM-SHA256 bits=128/128); Wed, 09 Jul 2025 07:11:28 -0700 (PDT) X-Relaying-Domain: iol.unh.edu Date: Wed, 09 Jul 2025 07:11:28 -0700 (PDT) Message-ID: <686e7890.050a0220.29848.78f7SMTPIN_ADDED_MISSING@mx.google.com> Received: from [172.21.0.8] (unknown [172.18.0.240]) by postal.iol.unh.edu (Postfix) with ESMTP id B9E1D604D420; Wed, 9 Jul 2025 10:11:27 -0400 (EDT) Subject: |WARNING| pw155086 [PATCH] net/mlx5: fix the queue length checking From: dpdklab@iol.unh.edu To: Test Report Cc: dpdk-test-reports@iol.unh.edu In-Reply-To: <20250709040000.112338-1-bingz@nvidia.com> References: <20250709040000.112338-1-bingz@nvidia.com> Content-Type: text/plain X-BeenThere: test-report@dpdk.org X-Mailman-Version: 2.1.29 Precedence: list List-Id: automatic DPDK test reports List-Unsubscribe: , List-Archive: List-Post: List-Help: List-Subscribe: , Errors-To: test-report-bounces@dpdk.org Test-Label: iol-compile-amd64-testing Test-Status: WARNING http://dpdk.org/patch/155086 _Testing issues_ Submitter: Bing Zhao Date: Wednesday, July 09 2025 04:00:00 DPDK git baseline: Repo:dpdk Branch: master CommitID:e2888614268cbf0abcc7cd72ad97ff4e4901d0a5 155086 --> testing issues Upstream job id: Generic-DPDK-Compile-Meson#407141 Test environment and result as below: +-------------------------------+--------------------+-------------------+-------------------+------------------+ | Environment | dpdk_meson_compile | dpdk_msvc_compile | dpdk_compile_spdk | dpdk_compile_ovs | +===============================+====================+===================+===================+==================+ | Ubuntu 20.04 | PASS | SKIPPED | SKIPPED | SKIPPED | +-------------------------------+--------------------+-------------------+-------------------+------------------+ | FreeBSD 14.2 | PASS | SKIPPED | SKIPPED | SKIPPED | +-------------------------------+--------------------+-------------------+-------------------+------------------+ | CentOS Stream 9 | PASS | SKIPPED | PASS | SKIPPED | +-------------------------------+--------------------+-------------------+-------------------+------------------+ | Debian GNU/Linux 12 | PASS | SKIPPED | PASS | SKIPPED | +-------------------------------+--------------------+-------------------+-------------------+------------------+ | Fedora Linux 40 | PASS | SKIPPED | WARN | SKIPPED | +-------------------------------+--------------------+-------------------+-------------------+------------------+ | Fedora Linux 41 | PASS | SKIPPED | PASS | PASS | +-------------------------------+--------------------+-------------------+-------------------+------------------+ | openSUSE Leap 15.6 | PASS | SKIPPED | SKIPPED | SKIPPED | +-------------------------------+--------------------+-------------------+-------------------+------------------+ | Red Hat Enterprise Linux 8.10 | PASS | SKIPPED | SKIPPED | SKIPPED | +-------------------------------+--------------------+-------------------+-------------------+------------------+ | Red Hat Enterprise Linux 9.5 | PASS | SKIPPED | SKIPPED | SKIPPED | +-------------------------------+--------------------+-------------------+-------------------+------------------+ | Ubuntu 22.04 | PASS | SKIPPED | PASS | SKIPPED | +-------------------------------+--------------------+-------------------+-------------------+------------------+ | Ubuntu 24.04 | PASS | SKIPPED | PASS | PASS | +-------------------------------+--------------------+-------------------+-------------------+------------------+ | Alpine Linux 3.22.0 | PASS | SKIPPED | SKIPPED | SKIPPED | +-------------------------------+--------------------+-------------------+-------------------+------------------+ | CentOS Stream 10 | PASS | SKIPPED | SKIPPED | SKIPPED | +-------------------------------+--------------------+-------------------+-------------------+------------------+ | Windows Server 2022 | SKIPPED | PASS | SKIPPED | SKIPPED | +-------------------------------+--------------------+-------------------+-------------------+------------------+ ==== 20 line log output for Fedora Linux 40 (dpdk_compile_spdk): ==== --- Failed to get log output --- ==== End log output ==== Ubuntu 20.04 Kernel: 4.19 Compiler: gcc gcc (Ubuntu 9.4.0-1ubuntu1~20.04.2) 9.4.0 FreeBSD 14.2 Kernel: 14.2-RELEASE Compiler: clang 18.1.6 CentOS Stream 9 Kernel: 5.15 Compiler: gcc gcc (GCC) 11.5.0 20240719 (Red Hat 11.5.0-7) Debian GNU/Linux 12 Kernel: 5.15 Compiler: gcc gcc (Debian 12.2.0-14+deb12u1) 12.2.0 Fedora Linux 40 Kernel: 5.15 Compiler: gcc gcc (GCC) 14.2.1 20240912 (Red Hat 14.2.1-3) Fedora Linux 41 Kernel: 5.15 Compiler: clang gcc (GCC) 14.3.1 20250523 (Red Hat 14.3.1-1) openSUSE Leap 15.6 Kernel: 5.15 Compiler: gcc gcc (SUSE Linux) 7.5.0 Red Hat Enterprise Linux 8.10 Kernel: 5.15 Compiler: gcc gcc (GCC) 8.5.0 20210514 (Red Hat 8.5.0-22) Red Hat Enterprise Linux 9.5 Kernel: 5.15 Compiler: gcc gcc (GCC) 11.5.0 20240719 (Red Hat 11.5.0-2) Ubuntu 22.04 Kernel: 5.15 Compiler: gcc gcc (Ubuntu 11.4.0-1ubuntu1~22.04) 11.4.0 Ubuntu 24.04 Kernel: 5.15 Compiler: gcc gcc (Ubuntu 13.3.0-6ubuntu2~24.04) 13.3.0 Alpine Linux 3.22.0 Kernel: 5.15 Compiler: gcc gcc (Alpine 14.2.0) 14.2.0 CentOS Stream 10 Kernel: 5.15 Compiler: gcc gcc (GCC) 14.2.1 20250110 (Red Hat 14.2.1-8) Windows Server 2022 Kernel: 10.0.20348.2031 Compiler: clang 15.0.7, gcc 14.1.0 (MinGW), and MSVC VS 19.39.33521 To view detailed results, visit: https://lab.dpdk.org/results/dashboard/patchsets/33619/ UNH-IOL DPDK Community Lab To manage your email subscriptions, visit: https://lab.dpdk.org/results/dashboard/preferences/subscriptions/