From mboxrd@z Thu Jan 1 00:00:00 1970 Return-Path: Received: from mails.dpdk.org (mails.dpdk.org [217.70.189.124]) by inbox.dpdk.org (Postfix) with ESMTP id 57D1E46B32 for ; Wed, 9 Jul 2025 16:12:04 +0200 (CEST) Received: from mails.dpdk.org (localhost [127.0.0.1]) by mails.dpdk.org (Postfix) with ESMTP id 5401F402A9; Wed, 9 Jul 2025 16:12:04 +0200 (CEST) Received: from mail-io1-f100.google.com (mail-io1-f100.google.com [209.85.166.100]) by mails.dpdk.org (Postfix) with ESMTP id 37EF2402A9 for ; Wed, 9 Jul 2025 16:12:03 +0200 (CEST) Received: by mail-io1-f100.google.com with SMTP id ca18e2360f4ac-8723a232750so530493239f.1 for ; Wed, 09 Jul 2025 07:12:03 -0700 (PDT) DKIM-Signature: v=1; a=rsa-sha256; c=relaxed/relaxed; d=iol.unh.edu; s=unh-iol; t=1752070322; x=1752675122; darn=dpdk.org; h=references:in-reply-to:cc:to:from:subject:message-id:date:from:to :cc:subject:date:message-id:reply-to; bh=O6nqM1B0mrEGHgZWvtUYEoqMfiyyxSUvGch+wJ5l7RE=; b=LK7SrwqgaiWp0BYbwpsq51vqNl1cbG4mffLtLiBxNcfQV+TtxQ/rjYqL1OAnRDy6cJ Tusoe1yKmcPmKvTum6Gr1fYqCUU6sNjQAAI1Wnp46kd/+t4A6OtQuSFMFB+V4wkSIxZ7 2chW4do+dAPp1j2RDP/T5l1k2XPoCbK7dwGBI= X-Google-DKIM-Signature: v=1; a=rsa-sha256; c=relaxed/relaxed; d=1e100.net; s=20230601; t=1752070322; x=1752675122; h=references:in-reply-to:cc:to:from:subject:message-id:date :x-gm-message-state:from:to:cc:subject:date:message-id:reply-to; bh=O6nqM1B0mrEGHgZWvtUYEoqMfiyyxSUvGch+wJ5l7RE=; b=qKZY6XRLFfjec6uo/x0zvGwwifcWWgX1/TBv0x/m8ym1kMQ4T+7rTAO1sibePvVrde iWW8YEXvSj1663hYLdAoTZUQTxL6Q07SEhezPtu+iKzqQKBspGh7xBkHmbtSmWwxw/5y x9kmiBmklTMmKpA9PDhdJZ4a4iLwX2h9zLTEi7+WIoq9n9ghY4XpW67evsImPoEO3wi6 3sGgspM6nkczN5HpOwN9ZT5nV87C7fQn4xPYO8qRLBZnPRn2HW2VIW6WCF3CnbkKxxCU 5tUm187BTwR7ck8D3Nkkho5yYjADBkLtfF+xoG3UVfZ6VsDsZIFBLKhKPXYItqu3Ev/I se1w== X-Gm-Message-State: AOJu0YyTuhn3+ifqFzAzVzE6UwFWD+Kgxz7aRCDBnmCWtA0K0SmQLHxW N9BGLM8YNI65HwgmSjq6oDyZInKhDq0zn3EhQ4KFKku/gZ2KdupBkBBA0+3en+VbDzJsgG8iCin +sU/efYOU+xP1Jni6x5LrqUJH/J7lwCfq7N+jbIxbrqer X-Gm-Gg: ASbGncsft54iJl466KSNOw+O9SM5VqTx5pvEzu1zIIqdW1fCJ+isobhM7A1bN+ctuCv V/+2at7eolyzaoN/iDaCnAen4PhMGs4TGZd/7A8i/4yNsXO0zXN8IpOCIdkXH1QVp77URl77KrC GIZuNibMLz4fAtCcuHuQO74c1DsWplKlS0mo91v8DD3MxJdHAgFhu55/nA3RrnLdDD9wsnf80tS rTUIm9ro3O2QuDynLpdGAbSXcf3NyHTVxzyRYYQXucFs1sJQtUx7rxnaXRckgFiD8pajZ9ZhnTw G/tYHv0vDhFHR3rAxXV3yJpj9qlo9PdGiAcZC9DY2ddU1us9krxsQoz6Wl8pB/y4eiaS8A== X-Google-Smtp-Source: AGHT+IFnhrokCbGrOOrYoEp6+Gc9EXhnsK3+QQ4dG/7XKoQc1QsciPLCSyALwpkT2EcrlQGKdMNaiCmpUYc3 X-Received: by 2002:a05:6602:148d:b0:873:1c2d:18e7 with SMTP id ca18e2360f4ac-879663d7b73mr6114039f.10.1752070322507; Wed, 09 Jul 2025 07:12:02 -0700 (PDT) Received: from postal.iol.unh.edu (postal.iol.unh.edu. [132.177.123.84]) by smtp-relay.gmail.com with ESMTPS id ca18e2360f4ac-876e07c619bsm58110839f.13.2025.07.09.07.12.02 (version=TLS1_2 cipher=ECDHE-ECDSA-AES128-GCM-SHA256 bits=128/128); Wed, 09 Jul 2025 07:12:02 -0700 (PDT) X-Relaying-Domain: iol.unh.edu Date: Wed, 09 Jul 2025 07:12:02 -0700 (PDT) Message-ID: <686e78b2.050a0220.51bba.eb93SMTPIN_ADDED_MISSING@mx.google.com> Received: from [172.21.0.6] (unknown [172.18.0.240]) by postal.iol.unh.edu (Postfix) with ESMTP id 06804604D420; Wed, 9 Jul 2025 10:12:02 -0400 (EDT) Subject: |SUCCESS| pw155091 [PATCH] net/i40e: support GTP in tunnel parameter From: dpdklab@iol.unh.edu To: Test Report Cc: dpdk-test-reports@iol.unh.edu In-Reply-To: References: Content-Type: text/plain X-BeenThere: test-report@dpdk.org X-Mailman-Version: 2.1.29 Precedence: list List-Id: automatic DPDK test reports List-Unsubscribe: , List-Archive: List-Post: List-Help: List-Subscribe: , Errors-To: test-report-bounces@dpdk.org Test-Label: iol-abi-testing Test-Status: SUCCESS http://dpdk.org/patch/155091 _Testing PASS_ Submitter: Yijun Geng <1204565380@qq.com> Date: Wednesday, July 09 2025 08:32:14 DPDK git baseline: Repo:dpdk Branch: master CommitID:a6b10031d251fcc7dadede461f7e1d005024b139 155091 --> testing pass Upstream job id: Generic-DPDK-Compile-ABI#133774 Test environment and result as below: +-------------------------------+----------+ | Environment | abi_test | +===============================+==========+ | CentOS Stream 9 | PASS | +-------------------------------+----------+ | CentOS Stream 10 | PASS | +-------------------------------+----------+ | Debian GNU/Linux 12 | PASS | +-------------------------------+----------+ | Fedora Linux 40 | PASS | +-------------------------------+----------+ | openSUSE Leap 15.6 | PASS | +-------------------------------+----------+ | Fedora Linux 41 | PASS | +-------------------------------+----------+ | Red Hat Enterprise Linux 8.10 | PASS | +-------------------------------+----------+ | Red Hat Enterprise Linux 9.5 | PASS | +-------------------------------+----------+ | Ubuntu 22.04 | PASS | +-------------------------------+----------+ | Ubuntu 24.04 | PASS | +-------------------------------+----------+ CentOS Stream 9 Kernel: 5.15 Compiler: gcc gcc (GCC) 11.5.0 20240719 (Red Hat 11.5.0-7) CentOS Stream 10 Kernel: 5.15 Compiler: gcc gcc (GCC) 14.2.1 20250110 (Red Hat 14.2.1-8) Debian GNU/Linux 12 Kernel: 5.15 Compiler: gcc gcc (Debian 12.2.0-14+deb12u1) 12.2.0 Fedora Linux 40 Kernel: 5.15 Compiler: clang gcc (GCC) 14.2.1 20240912 (Red Hat 14.2.1-3) openSUSE Leap 15.6 Kernel: 5.15 Compiler: gcc gcc (SUSE Linux) 7.5.0 Fedora Linux 41 Kernel: 5.15 Compiler: gcc gcc (GCC) 14.3.1 20250523 (Red Hat 14.3.1-1) Red Hat Enterprise Linux 8.10 Kernel: 5.15 Compiler: gcc gcc (GCC) 8.5.0 20210514 (Red Hat 8.5.0-22) Red Hat Enterprise Linux 9.5 Kernel: 5.15 Compiler: gcc gcc (GCC) 11.5.0 20240719 (Red Hat 11.5.0-2) Ubuntu 22.04 Kernel: 5.15 Compiler: gcc gcc (Ubuntu 11.4.0-1ubuntu1~22.04) 11.4.0 Ubuntu 24.04 Kernel: 5.15 Compiler: gcc gcc (Ubuntu 13.3.0-6ubuntu2~24.04) 13.3.0 To view detailed results, visit: https://lab.dpdk.org/results/dashboard/patchsets/33623/ UNH-IOL DPDK Community Lab To manage your email subscriptions, visit: https://lab.dpdk.org/results/dashboard/preferences/subscriptions/