From mboxrd@z Thu Jan 1 00:00:00 1970 Return-Path: Received: from mails.dpdk.org (mails.dpdk.org [217.70.189.124]) by inbox.dpdk.org (Postfix) with ESMTP id CE74546B32 for ; Wed, 9 Jul 2025 16:37:13 +0200 (CEST) Received: from mails.dpdk.org (localhost [127.0.0.1]) by mails.dpdk.org (Postfix) with ESMTP id B1340402A9; Wed, 9 Jul 2025 16:37:13 +0200 (CEST) Received: from mail-pf1-f225.google.com (mail-pf1-f225.google.com [209.85.210.225]) by mails.dpdk.org (Postfix) with ESMTP id C7383402A9 for ; Wed, 9 Jul 2025 16:37:12 +0200 (CEST) Received: by mail-pf1-f225.google.com with SMTP id d2e1a72fcca58-748e378ba4fso6758528b3a.1 for ; Wed, 09 Jul 2025 07:37:12 -0700 (PDT) DKIM-Signature: v=1; a=rsa-sha256; c=relaxed/relaxed; d=iol.unh.edu; s=unh-iol; t=1752071832; x=1752676632; darn=dpdk.org; h=references:in-reply-to:cc:to:from:subject:message-id:date:from:to :cc:subject:date:message-id:reply-to; bh=+YFJ6d7bHaJYVcO9IbO8VjWOcXuANdMdz4N8F/hdlec=; b=fC5kwqIU/iGQGpxs8VwxP6JDC/5bawfnjkqhKL+6avX4btpyR+4UtfYaKD9eqXD2/Q JAlwfyC74vReqCoRcsYfh0Utyeg5zQ2+22Wqgh74nrpPaaVgZ6C8AdvEXYOIwFKOnkq6 U6iNMIXy8POvmcHuyQyb5/jaW/Vf/Unj5Hfrw= X-Google-DKIM-Signature: v=1; a=rsa-sha256; c=relaxed/relaxed; d=1e100.net; s=20230601; t=1752071832; x=1752676632; h=references:in-reply-to:cc:to:from:subject:message-id:date :x-gm-message-state:from:to:cc:subject:date:message-id:reply-to; bh=+YFJ6d7bHaJYVcO9IbO8VjWOcXuANdMdz4N8F/hdlec=; b=gI8NmcpN6kEsh/4dKT1cqiEtzIx3ex8ZUnrslSuzz1bSHHT/Q05dDw+UEDiM9UuS8l OiKE50ssuDnOVeD/t5Ggzyogydmh0GzOTSWYTssYSiApacV064MUhzNYV1iEKLdj1BRr 8rOZKq9/idzrI8/voZNYLFFz+w4bFIPkJazNqiB0Wfa7TMVOhUlklLTtlzSxuzk45N2U rCqohzC6ZtM9GJcflXRDBiDP6sQ/c1i62lq2NSJ+xs+Fv9lvSrPnfjoujUi9fO6DSpx3 odo0pcvc/Bl5boETOGBityJ0rNEaiMpuxXi1+z5mzJwLARXevqApIKIkvwCEy4Z/Ha9Q naJQ== X-Gm-Message-State: AOJu0Yx9tySBEaBNiDj1GxhXsRz4119uPYJbZ8ZuXTubzvd4Qwbh2kxd HFwvKWtQt+uxQ/+lzPkc6pa7m1NBSWwIChaOxzg74n5LgWkCMKAGocQgvH+/S5PMrIT2bQSZw53 B7SFoEw6le5V9UhBo8VVaT1/MqqC7wNRHADB/apyXWfFNNUG9DgzP0+ZyoLxI X-Gm-Gg: ASbGncttrP/CsxJyGrVzuBRE070h7uvxcbeYxXFQlpA5mLJdLBJYFCmWP9DDARos2Et EC7ZncW2KKTXKrT2J6iuY+sz+WPAMAo0kkn1OjAp68woJV6xoDX/O9Tmj+qioZFwAvpRF6A3bvA WJEqgjwPP10PR4i5JUSn2+h19orem+LZnB3Xv9pkjCrB+RgY+PQ48s6Dbu01tOdKZkOXxTrUKEA A+qyFLXuGKwTuqFFsLOrN17D0U9o6kCqdxhszThbmAe4HB4XXKm+BgxJ8l0vm6NFm3RpmZyLCJe TEJDHx4lpeL3pPt1qQtsfBbQCZ8qSaQEm+95vqRytZC2r9s= X-Google-Smtp-Source: AGHT+IGJjuwjvfdqXUq/EAuYA1cJXz4c89fWs5IlS02CMHkTKncFx2ohjlxVEJypHDIcTBABSixbQt1jP8VB X-Received: by 2002:a05:6a21:6b04:b0:220:9174:dd5f with SMTP id adf61e73a8af0-22cd6cb9012mr4791085637.15.1752071831887; Wed, 09 Jul 2025 07:37:11 -0700 (PDT) Received: from postal.iol.unh.edu (postal.iol.unh.edu. [2606:4100:3880:1234::84]) by smtp-relay.gmail.com with ESMTPS id 41be03b00d2f7-b38ee4ec884sm698884a12.25.2025.07.09.07.37.11 (version=TLS1_2 cipher=ECDHE-ECDSA-AES128-GCM-SHA256 bits=128/128); Wed, 09 Jul 2025 07:37:11 -0700 (PDT) X-Relaying-Domain: iol.unh.edu Date: Wed, 09 Jul 2025 07:37:11 -0700 (PDT) Message-ID: <686e7e97.630a0220.15e1c0.49a0SMTPIN_ADDED_MISSING@mx.google.com> Received: from [172.21.0.6] (unknown [172.18.0.240]) by postal.iol.unh.edu (Postfix) with ESMTP id 1859960003F7; Wed, 9 Jul 2025 10:37:11 -0400 (EDT) Subject: |SUCCESS| pw155088-155089 [PATCH] [v5,2/2] crypto/uadk: use async mo From: dpdklab@iol.unh.edu To: Test Report Cc: dpdk-test-reports@iol.unh.edu In-Reply-To: <20250709064701.100676-3-zhangfei.gao@linaro.org> References: <20250709064701.100676-3-zhangfei.gao@linaro.org> Content-Type: text/plain X-BeenThere: test-report@dpdk.org X-Mailman-Version: 2.1.29 Precedence: list List-Id: automatic DPDK test reports List-Unsubscribe: , List-Archive: List-Post: List-Help: List-Subscribe: , Errors-To: test-report-bounces@dpdk.org Test-Label: iol-unit-arm64-testing Test-Status: SUCCESS http://dpdk.org/patch/155089 _Testing PASS_ Submitter: Zhangfei Gao Date: Wednesday, July 09 2025 06:47:01 DPDK git baseline: Repo:dpdk Branch: master CommitID:2f4f0dc5f678fcf62cf046fa69821c0b8786deb4 155088-155089 --> testing pass Upstream job id: Generic-Unit-Test-DPDK#354157 Test environment and result as below: +------------------------------+----------------+---------------------------+--------------+------------------------------+ | Environment | dpdk_unit_test | cryptodev_sw_zuc_autotest | lpm_autotest | cryptodev_sw_snow3g_autotest | +==============================+================+===========================+==============+==============================+ | CentOS Stream 9 | PASS | SKIPPED | SKIPPED | SKIPPED | +------------------------------+----------------+---------------------------+--------------+------------------------------+ | CentOS Stream 10 | PASS | SKIPPED | SKIPPED | SKIPPED | +------------------------------+----------------+---------------------------+--------------+------------------------------+ | Debian GNU/Linux 12 | PASS | SKIPPED | SKIPPED | SKIPPED | +------------------------------+----------------+---------------------------+--------------+------------------------------+ | Fedora Linux 40 | PASS | SKIPPED | SKIPPED | SKIPPED | +------------------------------+----------------+---------------------------+--------------+------------------------------+ | Fedora Linux 41 | PASS | SKIPPED | SKIPPED | SKIPPED | +------------------------------+----------------+---------------------------+--------------+------------------------------+ | Red Hat Enterprise Linux 9.5 | PASS | SKIPPED | SKIPPED | SKIPPED | +------------------------------+----------------+---------------------------+--------------+------------------------------+ | Ubuntu 20.04 | PASS | SKIPPED | PASS | SKIPPED | +------------------------------+----------------+---------------------------+--------------+------------------------------+ | Ubuntu 22.04 | PASS | SKIPPED | SKIPPED | SKIPPED | +------------------------------+----------------+---------------------------+--------------+------------------------------+ | Ubuntu 24.04 | PASS | SKIPPED | SKIPPED | SKIPPED | +------------------------------+----------------+---------------------------+--------------+------------------------------+ | Debian 12 (arm) | SKIPPED | PASS | SKIPPED | PASS | +------------------------------+----------------+---------------------------+--------------+------------------------------+ CentOS Stream 9 Kernel: 5.4 Compiler: gcc gcc (GCC) 11.5.0 20240719 (Red Hat 11.5.0-7) CentOS Stream 10 Kernel: 5.4 Compiler: gcc gcc (GCC) 14.2.1 20250110 (Red Hat 14.2.1-8) Debian GNU/Linux 12 Kernel: 5.4 Compiler: gcc gcc (Debian 12.2.0-14+deb12u1) 12.2.0 Fedora Linux 40 Kernel: 5.4 Compiler: gcc gcc (GCC) 14.2.1 20240912 (Red Hat 14.2.1-3) Fedora Linux 41 Kernel: 5.4 Compiler: clang gcc (GCC) 14.3.1 20250523 (Red Hat 14.3.1-1) Red Hat Enterprise Linux 9.5 Kernel: 5.4 Compiler: gcc gcc (GCC) 11.5.0 20240719 (Red Hat 11.5.0-2) Ubuntu 20.04 Kernel: 5.4 Compiler: gcc gcc (Ubuntu 9.4.0-1ubuntu1~20.04.2) 9.4.0 Ubuntu 22.04 Kernel: 5.4 Compiler: gcc gcc (Ubuntu 11.4.0-1ubuntu1~22.04) 11.4.0 Ubuntu 24.04 Kernel: 5.4 Compiler: gcc gcc (Ubuntu 13.3.0-6ubuntu2~24.04) 13.3.0 Debian 12 (arm) Kernel: Depends on container host Compiler: gcc (Debian 12.2.0-14) 12.2.0 To view detailed results, visit: https://lab.dpdk.org/results/dashboard/patchsets/33621/ UNH-IOL DPDK Community Lab To manage your email subscriptions, visit: https://lab.dpdk.org/results/dashboard/preferences/subscriptions/