From mboxrd@z Thu Jan 1 00:00:00 1970 Return-Path: Received: from mails.dpdk.org (mails.dpdk.org [217.70.189.124]) by inbox.dpdk.org (Postfix) with ESMTP id E57EB46B32 for ; Wed, 9 Jul 2025 16:44:10 +0200 (CEST) Received: from mails.dpdk.org (localhost [127.0.0.1]) by mails.dpdk.org (Postfix) with ESMTP id C4ADB402A9; Wed, 9 Jul 2025 16:44:10 +0200 (CEST) Received: from mail-oi1-f226.google.com (mail-oi1-f226.google.com [209.85.167.226]) by mails.dpdk.org (Postfix) with ESMTP id 2FF34402A9 for ; Wed, 9 Jul 2025 16:44:09 +0200 (CEST) Received: by mail-oi1-f226.google.com with SMTP id 5614622812f47-40ba3c10b3bso7791b6e.1 for ; Wed, 09 Jul 2025 07:44:09 -0700 (PDT) DKIM-Signature: v=1; a=rsa-sha256; c=relaxed/relaxed; d=iol.unh.edu; s=unh-iol; t=1752072248; x=1752677048; darn=dpdk.org; h=references:in-reply-to:cc:to:from:subject:message-id:date:from:to :cc:subject:date:message-id:reply-to; bh=h4TtCtuin5HzNTutq8Q5f/06ImnxwiO8XNNiETeNj5o=; b=g+qNfKkb5zSmNqSSeWLxgp1KjOa9lki7cb0eQ4zzmHWigeU/r/5nsuyoQOZtqI829a RbdTmUvLA0dhGGhmSgrcGjqw4XyFMzRSdKVguH1+ZBj78CgRtWKG3ZitRifVN7HmZtTy J9bRpwtmcl7+e6ixB1fRgdvY63EQ/GRI3zqXs= X-Google-DKIM-Signature: v=1; a=rsa-sha256; c=relaxed/relaxed; d=1e100.net; s=20230601; t=1752072248; x=1752677048; h=references:in-reply-to:cc:to:from:subject:message-id:date :x-gm-message-state:from:to:cc:subject:date:message-id:reply-to; bh=h4TtCtuin5HzNTutq8Q5f/06ImnxwiO8XNNiETeNj5o=; b=PUfAul9z9U74rIfkC0LqQVdWNw6hgZ1SjHGDuW4b/P8lau8s3JhpWuTCsk/KIYOxkk 9IbLzu6Dt3fcav7Tgbco+qyHz+ot+utGEU/nIiVG0RYo8RpSAX/Ki4+vMGSkQepMUa+j zY1z46dHrtDFjn5L3n3iUcgI2oFLBiwZIue1Gukr4xphks53xxKUkqwGmK6WkCCZj6Mm kPMYetCjrbTiCsa2XqYkLO6Ov3lHQww5/F6tKzHuSI3LV1M4xLz5m4eC+CP8CglOLmZy kuSpXq+B1voSU3xZ81RZpE1+Mr7Y/d8JdoBFKDrhQ3bMNBJ7nfF0PDtYFBSVOEoQl8QF UD4Q== X-Gm-Message-State: AOJu0YwH5xmprmftmCo7xoBVCguNlfESpSYR6PDQ9u+5zPDQRAcff/lG BsLAdGjWqejDon81hUbTgQAM6XRn3eW0m/ASGIHSyOgfLM7Ojc6s9f0ubtnwCnTGQsApVyVgw4a H07rS9+5sSEi5w2mzEjJPcL7KxqVtdhpxPjcX6868gGb2 X-Gm-Gg: ASbGncvfcJX2pv04dzpceFY7Ww3jGkWvMt/4Q8a8i9tUJYIM5G4S3GxC36TqE7MTdq1 YGYwQiOmldl5Sh2O+5DokDcORNa/pBAcjhkPtOdu3cFv/LL1W3ZUHhChHSX1eoO7HmFTJwl3Zbq SNupVuWnK96CrfWr0LqjYpi7XPXR2/zIPqE4Qz9n80P4xheGjqpkugCw5n9oScC4ptUu9guameB S9bCGsi76Sgp+xDilczTJ3TxLFKMQv1+SD/cMQR33fyM5kk1Ej0HqhaqIdNU30vbHSrsmmMUVHx BpspgSNItFWDvwABwJP5UghLhlqitE+VMr2OW/jZ6ghMIwW6wYoWLMctkMhswgtFO3sUHg== X-Google-Smtp-Source: AGHT+IE+4E2KQCGgHMyX/wKRfsc1fwOh2cAH+2mFIfbP1tS0vJqnIBDe9yXx3uOaj1KsoYjhbwB6N7jV67Fr X-Received: by 2002:a05:6808:23c3:b0:3f9:aeb6:6eac with SMTP id 5614622812f47-413ae88f37dmr40264b6e.30.1752072248288; Wed, 09 Jul 2025 07:44:08 -0700 (PDT) Received: from postal.iol.unh.edu (postal.iol.unh.edu. [132.177.123.84]) by smtp-relay.gmail.com with ESMTPS id 006d021491bc7-6138e49934csm478756eaf.6.2025.07.09.07.44.08 (version=TLS1_2 cipher=ECDHE-ECDSA-AES128-GCM-SHA256 bits=128/128); Wed, 09 Jul 2025 07:44:08 -0700 (PDT) X-Relaying-Domain: iol.unh.edu Date: Wed, 09 Jul 2025 07:44:08 -0700 (PDT) Message-ID: <686e8038.050a0220.3a57c4.9269SMTPIN_ADDED_MISSING@mx.google.com> Received: from [172.21.0.5] (unknown [172.18.0.240]) by postal.iol.unh.edu (Postfix) with ESMTP id C1C886051830; Wed, 9 Jul 2025 10:44:07 -0400 (EDT) Subject: |SUCCESS| pw155090 [PATCH] examples/ipsec-secgw: fix number of queue From: dpdklab@iol.unh.edu To: Test Report Cc: dpdk-test-reports@iol.unh.edu In-Reply-To: <20250709082325.771994-1-vfialko@marvell.com> References: <20250709082325.771994-1-vfialko@marvell.com> Content-Type: text/plain X-BeenThere: test-report@dpdk.org X-Mailman-Version: 2.1.29 Precedence: list List-Id: automatic DPDK test reports List-Unsubscribe: , List-Archive: List-Post: List-Help: List-Subscribe: , Errors-To: test-report-bounces@dpdk.org Test-Label: iol-unit-amd64-testing Test-Status: SUCCESS http://dpdk.org/patch/155090 _Testing PASS_ Submitter: Volodymyr Fialko Date: Wednesday, July 09 2025 08:23:25 DPDK git baseline: Repo:dpdk Branch: master CommitID:9b298e79703a1343d388d059f4029813f11ac6ad 155090 --> testing pass Upstream job id: Generic-Unit-Test-DPDK#354191 Test environment and result as below: +-------------------------------+----------------+ | Environment | dpdk_unit_test | +===============================+================+ | Debian GNU/Linux 12 | PASS | +-------------------------------+----------------+ | CentOS Stream 10 | PASS | +-------------------------------+----------------+ | Fedora Linux 40 | PASS | +-------------------------------+----------------+ | CentOS Stream 9 | PASS | +-------------------------------+----------------+ | Fedora Linux 41 | PASS | +-------------------------------+----------------+ | Ubuntu 20.04 | PASS | +-------------------------------+----------------+ | Red Hat Enterprise Linux 9.5 | PASS | +-------------------------------+----------------+ | Ubuntu 24.04 | PASS | +-------------------------------+----------------+ | Ubuntu 22.04 | PASS | +-------------------------------+----------------+ | Red Hat Enterprise Linux 8.10 | PASS | +-------------------------------+----------------+ Debian GNU/Linux 12 Kernel: 5.15 Compiler: gcc gcc (Debian 12.2.0-14+deb12u1) 12.2.0 CentOS Stream 10 Kernel: 5.15 Compiler: gcc gcc (GCC) 14.2.1 20250110 (Red Hat 14.2.1-8) Fedora Linux 40 Kernel: 5.15 Compiler: gcc gcc (GCC) 14.2.1 20240912 (Red Hat 14.2.1-3) CentOS Stream 9 Kernel: 5.15 Compiler: gcc gcc (GCC) 11.5.0 20240719 (Red Hat 11.5.0-7) Fedora Linux 41 Kernel: 5.15 Compiler: clang gcc (GCC) 14.3.1 20250523 (Red Hat 14.3.1-1) Ubuntu 20.04 Kernel: 5.15 Compiler: gcc gcc (Ubuntu 9.4.0-1ubuntu1~20.04.2) 9.4.0 Red Hat Enterprise Linux 9.5 Kernel: 5.15 Compiler: gcc gcc (GCC) 11.5.0 20240719 (Red Hat 11.5.0-2) Ubuntu 24.04 Kernel: 5.15 Compiler: gcc gcc (Ubuntu 13.3.0-6ubuntu2~24.04) 13.3.0 Ubuntu 22.04 Kernel: 5.15 Compiler: gcc gcc (Ubuntu 11.4.0-1ubuntu1~22.04) 11.4.0 Red Hat Enterprise Linux 8.10 Kernel: 5.15 Compiler: gcc gcc (GCC) 8.5.0 20210514 (Red Hat 8.5.0-22) To view detailed results, visit: https://lab.dpdk.org/results/dashboard/patchsets/33622/ UNH-IOL DPDK Community Lab To manage your email subscriptions, visit: https://lab.dpdk.org/results/dashboard/preferences/subscriptions/