From mboxrd@z Thu Jan 1 00:00:00 1970 Return-Path: Received: from mails.dpdk.org (mails.dpdk.org [217.70.189.124]) by inbox.dpdk.org (Postfix) with ESMTP id B6DB346B32 for ; Wed, 9 Jul 2025 16:53:22 +0200 (CEST) Received: from mails.dpdk.org (localhost [127.0.0.1]) by mails.dpdk.org (Postfix) with ESMTP id 98EA2402A9; Wed, 9 Jul 2025 16:53:22 +0200 (CEST) Received: from mail-il1-f228.google.com (mail-il1-f228.google.com [209.85.166.228]) by mails.dpdk.org (Postfix) with ESMTP id 4589A402A9 for ; Wed, 9 Jul 2025 16:53:21 +0200 (CEST) Received: by mail-il1-f228.google.com with SMTP id e9e14a558f8ab-3ddd2710d14so49661615ab.2 for ; Wed, 09 Jul 2025 07:53:21 -0700 (PDT) DKIM-Signature: v=1; a=rsa-sha256; c=relaxed/relaxed; d=iol.unh.edu; s=unh-iol; t=1752072800; x=1752677600; darn=dpdk.org; h=references:in-reply-to:cc:to:from:subject:message-id:date:from:to :cc:subject:date:message-id:reply-to; bh=keT41vWrJmsNXHGKTkjBnAFMBgDcuJhBBS4vnqTv1L8=; b=Xhm+W67L2KgpyZ1/Ny95fj3l5NGjS6j14SrVNodf6pntP9nqqdeoGNfdalv7Nc6QUi hs5YhybGZkoV1BA5WoOX1ETIZuXk/A9yOO+QvZNQfz+Isqn6kTfMOSv8Asq0gIdSoX35 mSex/EVs6Ke0Wuy9N7OlWnBGL4eeZbxjo359g= X-Google-DKIM-Signature: v=1; a=rsa-sha256; c=relaxed/relaxed; d=1e100.net; s=20230601; t=1752072800; x=1752677600; h=references:in-reply-to:cc:to:from:subject:message-id:date :x-gm-message-state:from:to:cc:subject:date:message-id:reply-to; bh=keT41vWrJmsNXHGKTkjBnAFMBgDcuJhBBS4vnqTv1L8=; b=OhAzxj+ErlVDszBcM5T7Z5KhAM5hMtMWdzhboJqnB/PopZKqIqfkWRPSwLOEaFGbdT 8xXSihRCCPzpqAV8LY0UXUwJW9gcopFbBW3RNFfonqViE86H3syrolHxe2Y4NCRXdOnv j2Ik07M0Wp91tKEPpJ1XyAJHVa96t2w16325TibjaWfvxd296WFlWGnF2iAklORGwds5 ktLmrnp+k4aKQuc25473eqMfsmIyMGR92i1sN1b8b0XawzGIg2dbwP8chjQVxEBsxW3y vOGAgyibitB+h7fCuZryMVDn9Fqf05ykPDV2onRbynElnKWemOLAZw0XaEmm2DKKQ3qt u+7g== X-Gm-Message-State: AOJu0YzOY6tpYVYxBhSsjmuG3/n17E6ERxv1tdjTs83r4b7cDFUsx/8O 9nx4l8tDKR1ESd4i+pHy9tKmrDYA353pcjH+kX3JmAgCPyRyDg+up3DtEJHQFmAng3zvKDhw7xU OCq2ajyj+KeVV3A1DrH3HnPn34I+nToaJD7CFCeRY2rUXLarn9o5fV/ob90km X-Gm-Gg: ASbGncsZB5OVC0oC8sLR0JCSo9Ap+FY70evNlohzJSIx754R9xFn5c615TT6MEzP+YD UagB5yrcK8fUeMZuv8Zx8kkIwY0O6Cc4E7XNRQTI0GjVuzV000vRCjxTou/M2q0HJf3aJ9GLo4+ 4/GG/lYyuW/hCAx7DdEQPpglLMY47vW33PLmN9XvPc2KS+CESc4DHw9Tlk3Eg2NCmQtPR4Ovnrj jgorO9yhU1Sq3L5Gmp+M/6LraMbAbtG6MZp5NoVb8LzStzUeZUlEW2LsbG8diK2179OSLIMLCqC s6eizFKR/Yn0QmPfdWxIhCu5DCyQG3IDX/SD4ruJH/CSOFM= X-Google-Smtp-Source: AGHT+IEG2uPTHqwO750QpJihlHGaVD5TpAJ3Lz3nJuOuxSxN4rO8P1qrkldyC4LGSH7JwV1EvF/vUE/Gu2Li X-Received: by 2002:a05:6e02:2602:b0:3e0:51bb:6e42 with SMTP id e9e14a558f8ab-3e16701b8e8mr31379695ab.6.1752072800518; Wed, 09 Jul 2025 07:53:20 -0700 (PDT) Received: from postal.iol.unh.edu (postal.iol.unh.edu. [2606:4100:3880:1234::84]) by smtp-relay.gmail.com with ESMTPS id e9e14a558f8ab-3e0f3434755sm7870715ab.12.2025.07.09.07.53.20 (version=TLS1_2 cipher=ECDHE-ECDSA-AES128-GCM-SHA256 bits=128/128); Wed, 09 Jul 2025 07:53:20 -0700 (PDT) X-Relaying-Domain: iol.unh.edu Date: Wed, 09 Jul 2025 07:53:20 -0700 (PDT) Message-ID: <686e8260.050a0220.206690.900eSMTPIN_ADDED_MISSING@mx.google.com> Received: from [172.21.0.6] (unknown [172.18.0.240]) by postal.iol.unh.edu (Postfix) with ESMTP id 0F84B6050A61; Wed, 9 Jul 2025 10:53:20 -0400 (EDT) Subject: |SUCCESS| pw154945-154949 [PATCH] [v3,5/5] dts: add performance test From: dpdklab@iol.unh.edu To: Test Report Cc: dpdk-test-reports@iol.unh.edu In-Reply-To: <20250702052154.381690-5-probb@iol.unh.edu> References: <20250702052154.381690-5-probb@iol.unh.edu> Content-Type: text/plain X-BeenThere: test-report@dpdk.org X-Mailman-Version: 2.1.29 Precedence: list List-Id: automatic DPDK test reports List-Unsubscribe: , List-Archive: List-Post: List-Help: List-Subscribe: , Errors-To: test-report-bounces@dpdk.org Test-Label: iol-unit-amd64-testing Test-Status: SUCCESS http://dpdk.org/patch/154949 _Testing PASS_ Submitter: Patrick Robb Date: Wednesday, July 02 2025 05:21:54 DPDK git baseline: Repo:dpdk Branch: master CommitID:e90979eebbea093f6bab2d7c222fc5f5c9a85eff 154945-154949 --> testing pass Upstream job id: Generic-VM-Unit-Test-DPDK#29823 Test environment and result as below: +-------------------------------+----------------+ | Environment | dpdk_unit_test | +===============================+================+ | Red Hat Enterprise Linux 8.10 | PASS | +-------------------------------+----------------+ | Red Hat Enterprise Linux 9.5 | PASS | +-------------------------------+----------------+ | CentOS Stream 10 | PASS | +-------------------------------+----------------+ | CentOS Stream 9 | PASS | +-------------------------------+----------------+ | Fedora Linux 40 | PASS | +-------------------------------+----------------+ | Fedora Linux 41 | PASS | +-------------------------------+----------------+ | Debian GNU/Linux 12 | PASS | +-------------------------------+----------------+ | Ubuntu 20.04 | PASS | +-------------------------------+----------------+ | Ubuntu 22.04 | PASS | +-------------------------------+----------------+ | Ubuntu 24.04 | PASS | +-------------------------------+----------------+ | Windows Server 2022 | PASS | +-------------------------------+----------------+ Red Hat Enterprise Linux 8.10 Kernel: 5.15 Compiler: gcc gcc (GCC) 8.5.0 20210514 (Red Hat 8.5.0-22) Red Hat Enterprise Linux 9.5 Kernel: 5.15 Compiler: gcc gcc (GCC) 11.5.0 20240719 (Red Hat 11.5.0-2) CentOS Stream 10 Kernel: 5.15 Compiler: gcc gcc (GCC) 14.2.1 20250110 (Red Hat 14.2.1-8) CentOS Stream 9 Kernel: 5.15 Compiler: gcc gcc (GCC) 11.5.0 20240719 (Red Hat 11.5.0-7) Fedora Linux 40 Kernel: 5.15 Compiler: gcc gcc (GCC) 14.2.1 20240912 (Red Hat 14.2.1-3) Fedora Linux 41 Kernel: 5.15 Compiler: clang gcc (GCC) 14.3.1 20250523 (Red Hat 14.3.1-1) Debian GNU/Linux 12 Kernel: 5.15 Compiler: gcc gcc (Debian 12.2.0-14+deb12u1) 12.2.0 Ubuntu 20.04 Kernel: 5.15 Compiler: gcc gcc (Ubuntu 9.4.0-1ubuntu1~20.04.2) 9.4.0 Ubuntu 22.04 Kernel: 5.15 Compiler: gcc gcc (Ubuntu 11.4.0-1ubuntu1~22.04) 11.4.0 Ubuntu 24.04 Kernel: 5.15 Compiler: gcc gcc (Ubuntu 13.3.0-6ubuntu2~24.04) 13.3.0 Windows Server 2022 Kernel: 10.0.20348.2031 Compiler: clang 15.0.7, gcc 14.1.0 (MinGW), and MSVC VS 19.39.33521 To view detailed results, visit: https://lab.dpdk.org/results/dashboard/patchsets/33562/ UNH-IOL DPDK Community Lab To manage your email subscriptions, visit: https://lab.dpdk.org/results/dashboard/preferences/subscriptions/