From mboxrd@z Thu Jan 1 00:00:00 1970 Return-Path: Received: from mails.dpdk.org (mails.dpdk.org [217.70.189.124]) by inbox.dpdk.org (Postfix) with ESMTP id 8039A46B32 for ; Wed, 9 Jul 2025 17:07:04 +0200 (CEST) Received: from mails.dpdk.org (localhost [127.0.0.1]) by mails.dpdk.org (Postfix) with ESMTP id 5AFDC4028C; Wed, 9 Jul 2025 17:07:04 +0200 (CEST) Received: from mail-oa1-f98.google.com (mail-oa1-f98.google.com [209.85.160.98]) by mails.dpdk.org (Postfix) with ESMTP id 2E8E74028C for ; Wed, 9 Jul 2025 17:07:03 +0200 (CEST) Received: by mail-oa1-f98.google.com with SMTP id 586e51a60fabf-2edec6c5511so1559935fac.2 for ; Wed, 09 Jul 2025 08:07:03 -0700 (PDT) DKIM-Signature: v=1; a=rsa-sha256; c=relaxed/relaxed; d=iol.unh.edu; s=unh-iol; t=1752073622; x=1752678422; darn=dpdk.org; h=references:in-reply-to:cc:to:from:subject:message-id:date:from:to :cc:subject:date:message-id:reply-to; bh=EStilRrmO61JPsbNJEFdyxNIbZ36KurJV4gEpEIrMio=; b=QlxHohiSbecZ7qH/Px+AwCsdpasz7NH6QnE7/ULftIAe3UvwS5nlExMp2xbV2VpUeM AvLn5URMx3EjGoTEcgupzS4ch+40iwnpKlo1BbD4sar9EGikAv2C1XkWTZbB81KQCFgO 5xjhFQueCaVcssj7boDp+7LJV4fl2liOpZdao= X-Google-DKIM-Signature: v=1; a=rsa-sha256; c=relaxed/relaxed; d=1e100.net; s=20230601; t=1752073622; x=1752678422; h=references:in-reply-to:cc:to:from:subject:message-id:date :x-gm-message-state:from:to:cc:subject:date:message-id:reply-to; bh=EStilRrmO61JPsbNJEFdyxNIbZ36KurJV4gEpEIrMio=; b=QjY+9iKCTckAB9un+PHqcJQjF7XCaHj1TSxcEeekKJPcYgQqIisp3Jf79+w5/Czx+o /sLIV7tv4fWt4JBy3P7AVD1HhKzrtFDf0lvObl4Mv9k3uxYFKBJWoeM+bPJnLwDI11Zn heowth5rQ+4sEK49+RVhJiJR76rQT1+bqO2fEM7hmbHO/3EY+UCmefePCE763f9hkH3h SzjrBvnZs+/1LUI2MMvquJZwD1SopOPCWGK4cor5A2ztgJ+wczjg01j5T3saBUKlZcmw FyRzFAFMM8bCoT6fMMzLp0WVUvFi9MaFZJKt9AslQvEdwIrQ/nf3WqC+sJW+N+kYj1mS OAuA== X-Gm-Message-State: AOJu0YwCIu2utOhWtersimcxsi7AO5VUI13FKsLUXzPyRlT4ISDx03vH LDqZirfPA6IJaTK4dBfdZxFyVhJ30N9Ib6FYk9UYucrNejdxMuXrNTUiSRJ2/o8PLYsxMI+oy9F sE1jq2bB8Qh3eBOkeYuZrDJ9GgB+8A6eCTEipCgn4/MY+ X-Gm-Gg: ASbGncs3Y7XxsEJhT17m8H2RuRoCyAQ1WxhyQapJZsg4lxQ1uyfYmOLmCyqMeT36rZN /ng+dsT3EzTcOsfIHbvYTWAzBbxx/ijuaFl+V6QOK4PZ93uadp2ZpMiunG5gF88SmdKzSrXjNGf VcVvqJ5uMPuuR/eUM+fN/zAzBwj/LZqT/MS87MCbI+3BdTYOR/uiilLRJ4PQZHKoPor+VNEkaha Ysgt2n5LbaN0/pVN/9O+RQHdEZk8vAJ4QOZ+8/6hLa2ohT+vi32pJJsoO4i9EQTM9mhbHttKi2W 1C466fBSWDx1079YTpnRRS0ZaC6LUSRnlMqp34A/DeESqdOTSLn5PxlnGMiJP2sCASkNlQ== X-Google-Smtp-Source: AGHT+IE46D1w2u6XNbAsiV9LCiYyR2t8V52AjnTn6dCeX/YdhIkNFY2zw39bj7KTT921kcFxi0+zMATPTz6e X-Received: by 2002:a05:6871:2c07:b0:29e:5de2:cffb with SMTP id 586e51a60fabf-2fef852547emr2231982fac.17.1752073622226; Wed, 09 Jul 2025 08:07:02 -0700 (PDT) Received: from postal.iol.unh.edu (postal.iol.unh.edu. [132.177.123.84]) by smtp-relay.gmail.com with ESMTPS id 586e51a60fabf-2f79018a9ebsm766297fac.41.2025.07.09.08.07.02 (version=TLS1_2 cipher=ECDHE-ECDSA-AES128-GCM-SHA256 bits=128/128); Wed, 09 Jul 2025 08:07:02 -0700 (PDT) X-Relaying-Domain: iol.unh.edu Date: Wed, 09 Jul 2025 08:07:02 -0700 (PDT) Message-ID: <686e8596.050a0220.2dfdf6.8628SMTPIN_ADDED_MISSING@mx.google.com> Received: from [172.21.0.6] (unknown [172.18.0.240]) by postal.iol.unh.edu (Postfix) with ESMTP id D7C28604D420; Wed, 9 Jul 2025 11:07:01 -0400 (EDT) Subject: |SUCCESS| pw155086 [PATCH] net/mlx5: fix the queue length checking From: dpdklab@iol.unh.edu To: Test Report Cc: dpdk-test-reports@iol.unh.edu In-Reply-To: <20250709040000.112338-1-bingz@nvidia.com> References: <20250709040000.112338-1-bingz@nvidia.com> Content-Type: text/plain X-BeenThere: test-report@dpdk.org X-Mailman-Version: 2.1.29 Precedence: list List-Id: automatic DPDK test reports List-Unsubscribe: , List-Archive: List-Post: List-Help: List-Subscribe: , Errors-To: test-report-bounces@dpdk.org Test-Label: iol-compile-arm64-testing Test-Status: SUCCESS http://dpdk.org/patch/155086 _Testing PASS_ Submitter: Bing Zhao Date: Wednesday, July 09 2025 04:00:00 DPDK git baseline: Repo:dpdk Branch: master CommitID:e2888614268cbf0abcc7cd72ad97ff4e4901d0a5 155086 --> testing pass Upstream job id: Generic-DPDK-Compile-Meson#407160 Test environment and result as below: +------------------------------+--------------------+ | Environment | dpdk_meson_compile | +==============================+====================+ | Red Hat Enterprise Linux 9.5 | PASS | +------------------------------+--------------------+ | Ubuntu 20.04 | PASS | +------------------------------+--------------------+ | Debian GNU/Linux 12 | PASS | +------------------------------+--------------------+ | Fedora Linux 40 | PASS | +------------------------------+--------------------+ | Fedora Linux 41 | PASS | +------------------------------+--------------------+ | Ubuntu 22.04 | PASS | +------------------------------+--------------------+ | Ubuntu 24.04 | PASS | +------------------------------+--------------------+ | CentOS Stream 9 | PASS | +------------------------------+--------------------+ | CentOS Stream 10 | PASS | +------------------------------+--------------------+ Red Hat Enterprise Linux 9.5 Kernel: 5.4 Compiler: gcc gcc (GCC) 11.5.0 20240719 (Red Hat 11.5.0-2) Ubuntu 20.04 Kernel: 5.15 Compiler: aarch64-linux-gnu-gcc gcc (Ubuntu 9.4.0-1ubuntu1~20.04.2) 9.4.0 Debian GNU/Linux 12 Kernel: 5.4 Compiler: gcc gcc (Debian 12.2.0-14+deb12u1) 12.2.0 Fedora Linux 40 Kernel: 5.4 Compiler: gcc gcc (GCC) 14.2.1 20240912 (Red Hat 14.2.1-3) Fedora Linux 41 Kernel: 5.4 Compiler: gcc gcc (GCC) 14.3.1 20250523 (Red Hat 14.3.1-1) Ubuntu 22.04 Kernel: 5.4 Compiler: gcc gcc (Ubuntu 11.4.0-1ubuntu1~22.04) 11.4.0 Ubuntu 24.04 Kernel: 5.4 Compiler: gcc gcc (Ubuntu 13.3.0-6ubuntu2~24.04) 13.3.0 CentOS Stream 9 Kernel: 5.4 Compiler: gcc gcc (GCC) 11.5.0 20240719 (Red Hat 11.5.0-7) CentOS Stream 10 Kernel: 5.4 Compiler: gcc gcc (GCC) 14.2.1 20250110 (Red Hat 14.2.1-8) To view detailed results, visit: https://lab.dpdk.org/results/dashboard/patchsets/33619/ UNH-IOL DPDK Community Lab To manage your email subscriptions, visit: https://lab.dpdk.org/results/dashboard/preferences/subscriptions/