From mboxrd@z Thu Jan 1 00:00:00 1970 Return-Path: Received: from mails.dpdk.org (mails.dpdk.org [217.70.189.124]) by inbox.dpdk.org (Postfix) with ESMTP id 6DB1B46B32 for ; Wed, 9 Jul 2025 17:07:08 +0200 (CEST) Received: from mails.dpdk.org (localhost [127.0.0.1]) by mails.dpdk.org (Postfix) with ESMTP id 665F14028C; Wed, 9 Jul 2025 17:07:08 +0200 (CEST) Received: from mail-qv1-f98.google.com (mail-qv1-f98.google.com [209.85.219.98]) by mails.dpdk.org (Postfix) with ESMTP id 227B740A6B for ; Wed, 9 Jul 2025 17:07:05 +0200 (CEST) Received: by mail-qv1-f98.google.com with SMTP id 6a1803df08f44-70478ba562aso12371616d6.1 for ; Wed, 09 Jul 2025 08:07:05 -0700 (PDT) DKIM-Signature: v=1; a=rsa-sha256; c=relaxed/relaxed; d=iol.unh.edu; s=unh-iol; t=1752073624; x=1752678424; darn=dpdk.org; h=references:in-reply-to:cc:to:from:subject:message-id:date:from:to :cc:subject:date:message-id:reply-to; bh=1+zDLeVFPp+ROTDbYUFxsOln8GZoE3DH4iZZxfW9JAM=; b=ZYxeS+ZUKNvgRYeIZr3j4hzPFafnhT30eaL2qEpVQu6g06vbl1/Kx7M0TIlL3J0iuz rEG7N6K6w5UAkpGV5Yw6CbbDC9NcYSHMyFOoInd7gOyjRxYh7/sQvqz8zCHGbaWxp2QI Ok2ux4LMKukhvwa4iNW5hnbl4IuS5uScxoVao= X-Google-DKIM-Signature: v=1; a=rsa-sha256; c=relaxed/relaxed; d=1e100.net; s=20230601; t=1752073624; x=1752678424; h=references:in-reply-to:cc:to:from:subject:message-id:date :x-gm-message-state:from:to:cc:subject:date:message-id:reply-to; bh=1+zDLeVFPp+ROTDbYUFxsOln8GZoE3DH4iZZxfW9JAM=; b=XBlK+9WjGZGC8Yq4cUZ2wxKShCwpegbQ8HvDaQWHPiHzr8uFNJWcEVr4X/jQkif+AK 4+wds6VXjHLXswC1vGGynQzX7P2+Jmgf7nV1agOQIQtd9gRw97UUhaCwNkapJO59pGI4 YQUjE9i7rj7qe3eFhUYDfMNyH5OiECyer51CnFZGbPizakGOkVc1qBxV+cqCqYjClTO/ gDMnFTs6LyAYw6cwMbPG+Pt1OYC9hRsMpCRcGpW7PW1ZILEEjWM2kXQA/pyL3ffbwRgH JMWFHilTeu7MDlXN18CqtAuojuTPBcmPmJHMuG06b75fi1TY556aHbplZ8Qjdl0M0i7t jFNw== X-Gm-Message-State: AOJu0YyegwGAuz1YZnPIbh0BUxEeau6Fyv3PqKpIoc/61zCUNM0iIjiX DyP+JMjTMGFfHqpOQ26XguP4bUUFYuuYNB7NClJ6FljvldMuQI9Y1yfdJm+Z9MYqczEIlmgAkA4 0c9ZFMJhOE54DkyiVDRkA9zlh3lb9zD3ifZzPDCbZ8EGTXenCaoc6Q586fDZn X-Gm-Gg: ASbGncsECY494IfWuUAzitz5pew2b0fw8TBmoSdRV9DBUT9cuzgbBeZru4nvr+zHdBC LRW3Um5fXhDRPfINXLmwDadMRuSQkPhhTD5bDg+U2M3BHCJcL4VrD+rrgTOFuZ6RC7KLagQ2zuD Dz4B4d1Zt6Ogct354qZdK4UxQLSJfVplUNuQjoER5x3d7QqupvUiAILrHJXaCzBOZQYYiKxUnFr 4WUBY82+kIfJ2SsKmeClStBW3hGOwfBUlpr3h4BxJ6Oho1zq5720KL/mHhB1SH1SHMiQ/3M2BLM KHNWjiWHt6UYr1+MaWTha/nMRxgEsN8ECRUMzRXeTBZ81Yc= X-Google-Smtp-Source: AGHT+IHsENL5JuX6RXJkVkAU2LlZN8Msg1mrhapdfaGjjkOW2rTqGbhVuvZdROqnZULVX1YUPhTjgE0o2/Pa X-Received: by 2002:ad4:5cce:0:b0:6fa:abd2:f2bb with SMTP id 6a1803df08f44-7048c48d4d4mr37506596d6.8.1752073624235; Wed, 09 Jul 2025 08:07:04 -0700 (PDT) Received: from postal.iol.unh.edu (postal.iol.unh.edu. [2606:4100:3880:1234::84]) by smtp-relay.gmail.com with ESMTPS id 6a1803df08f44-702c4d5b498sm6828876d6.67.2025.07.09.08.07.04 (version=TLS1_2 cipher=ECDHE-ECDSA-AES128-GCM-SHA256 bits=128/128); Wed, 09 Jul 2025 08:07:04 -0700 (PDT) X-Relaying-Domain: iol.unh.edu Date: Wed, 09 Jul 2025 08:07:04 -0700 (PDT) Message-ID: <686e8598.050a0220.1ec695.37ebSMTPIN_ADDED_MISSING@mx.google.com> Received: from [172.21.0.7] (unknown [172.18.0.240]) by postal.iol.unh.edu (Postfix) with ESMTP id E9F0E604D420; Wed, 9 Jul 2025 11:07:03 -0400 (EDT) Subject: |SUCCESS| pw155086 [PATCH] net/mlx5: fix the queue length checking From: dpdklab@iol.unh.edu To: Test Report Cc: dpdk-test-reports@iol.unh.edu In-Reply-To: <20250709040000.112338-1-bingz@nvidia.com> References: <20250709040000.112338-1-bingz@nvidia.com> Content-Type: text/plain X-BeenThere: test-report@dpdk.org X-Mailman-Version: 2.1.29 Precedence: list List-Id: automatic DPDK test reports List-Unsubscribe: , List-Archive: List-Post: List-Help: List-Subscribe: , Errors-To: test-report-bounces@dpdk.org Test-Label: iol-compile-arm64-testing Test-Status: SUCCESS http://dpdk.org/patch/155086 _Testing PASS_ Submitter: Bing Zhao Date: Wednesday, July 09 2025 04:00:00 DPDK git baseline: Repo:dpdk Branch: master CommitID:e2888614268cbf0abcc7cd72ad97ff4e4901d0a5 155086 --> testing pass Upstream job id: Generic-DPDK-Compile-Meson#407158 Test environment and result as below: +------------------------------+--------------------+ | Environment | dpdk_meson_compile | +==============================+====================+ | Red Hat Enterprise Linux 9.5 | PASS | +------------------------------+--------------------+ | Ubuntu 20.04 | PASS | +------------------------------+--------------------+ | Debian GNU/Linux 12 | PASS | +------------------------------+--------------------+ | Fedora Linux 40 | PASS | +------------------------------+--------------------+ | Fedora Linux 41 | PASS | +------------------------------+--------------------+ | Ubuntu 22.04 | PASS | +------------------------------+--------------------+ | Ubuntu 24.04 | PASS | +------------------------------+--------------------+ | CentOS Stream 9 | PASS | +------------------------------+--------------------+ | CentOS Stream 10 | PASS | +------------------------------+--------------------+ Red Hat Enterprise Linux 9.5 Kernel: 5.4 Compiler: gcc gcc (GCC) 11.5.0 20240719 (Red Hat 11.5.0-2) Ubuntu 20.04 Kernel: 5.15 Compiler: aarch64-linux-gnu-gcc gcc (Ubuntu 9.4.0-1ubuntu1~20.04.2) 9.4.0 Debian GNU/Linux 12 Kernel: 5.4 Compiler: gcc gcc (Debian 12.2.0-14+deb12u1) 12.2.0 Fedora Linux 40 Kernel: 5.4 Compiler: gcc gcc (GCC) 14.2.1 20240912 (Red Hat 14.2.1-3) Fedora Linux 41 Kernel: 5.4 Compiler: gcc gcc (GCC) 14.3.1 20250523 (Red Hat 14.3.1-1) Ubuntu 22.04 Kernel: 5.4 Compiler: gcc gcc (Ubuntu 11.4.0-1ubuntu1~22.04) 11.4.0 Ubuntu 24.04 Kernel: 5.4 Compiler: gcc gcc (Ubuntu 13.3.0-6ubuntu2~24.04) 13.3.0 CentOS Stream 9 Kernel: 5.4 Compiler: gcc gcc (GCC) 11.5.0 20240719 (Red Hat 11.5.0-7) CentOS Stream 10 Kernel: 5.4 Compiler: gcc gcc (GCC) 14.2.1 20250110 (Red Hat 14.2.1-8) To view detailed results, visit: https://lab.dpdk.org/results/dashboard/patchsets/33619/ UNH-IOL DPDK Community Lab To manage your email subscriptions, visit: https://lab.dpdk.org/results/dashboard/preferences/subscriptions/