From mboxrd@z Thu Jan 1 00:00:00 1970 Return-Path: Received: from mails.dpdk.org (mails.dpdk.org [217.70.189.124]) by inbox.dpdk.org (Postfix) with ESMTP id BEAA446B30 for ; Wed, 9 Jul 2025 17:10:20 +0200 (CEST) Received: from mails.dpdk.org (localhost [127.0.0.1]) by mails.dpdk.org (Postfix) with ESMTP id B8FC54028C; Wed, 9 Jul 2025 17:10:20 +0200 (CEST) Received: from mail-pl1-f225.google.com (mail-pl1-f225.google.com [209.85.214.225]) by mails.dpdk.org (Postfix) with ESMTP id 850864028C for ; Wed, 9 Jul 2025 17:10:19 +0200 (CEST) Received: by mail-pl1-f225.google.com with SMTP id d9443c01a7336-2352400344aso58297895ad.2 for ; Wed, 09 Jul 2025 08:10:19 -0700 (PDT) DKIM-Signature: v=1; a=rsa-sha256; c=relaxed/relaxed; d=iol.unh.edu; s=unh-iol; t=1752073819; x=1752678619; darn=dpdk.org; h=references:in-reply-to:cc:to:from:subject:message-id:date:from:to :cc:subject:date:message-id:reply-to; bh=JMxkD4Q3FACHYwbk4uGzE0G5n+v2lbIMLP4qg1W1cQs=; b=hPB8XfJSMtmWrGWWKXS/48pjsHGMEEclqZXgPZTKi/HcYtU50G6+0qc0fo+piT/FXf RRQ/o2LfPSTI5nx3j8zSKdOo/X0vrgysz/d2L/IK7nepzBOseB54CTRsXackZ9yKSCmH Q1qsql8vH8ZED4LvuVacAxmKjwUImuXscDuPg= X-Google-DKIM-Signature: v=1; a=rsa-sha256; c=relaxed/relaxed; d=1e100.net; s=20230601; t=1752073819; x=1752678619; h=references:in-reply-to:cc:to:from:subject:message-id:date :x-gm-message-state:from:to:cc:subject:date:message-id:reply-to; bh=JMxkD4Q3FACHYwbk4uGzE0G5n+v2lbIMLP4qg1W1cQs=; b=t4xbQvL2Hvof6MBQ31yBUPXOGcwWTudfyvt5YEc7bdsK/biKG8JQ5+5q+khzyk6iG5 dfJjSUrhfA8JxS5oTE/HIsdO9RA6vg3UDEGKf7q0SsBmA6DqXOnnSe9CRpk/THaq+mR+ x9c22EpR0EfrX2gAQSPMOpn7/9UgI3PmJCBJX+IIgszkLTwZHuB12LEamQ+Ow3Jq31iX m2V57GuC9h/VMP3KtBXVFF93dM5KfF/ncw6Zmnt7JFu5jn3p7PYlZ4a/XDb46y4nbwEB PyYhrbWLhlRYG1jAHsR5woAVaslhCeaHDwXtNrg/e1xsap/vaxyWuldjBsM4hMcpjbsL 9fgA== X-Gm-Message-State: AOJu0YyoYmEbnK5bVd0EjLVXJ8MM77mz7EYy3IIqi2Ve2OR9AeMDB3X8 XPAzDVurUqKR00bpbbY+kXBV45Kn96SRVqhLjQQOwv0riGa4hZAIlgJKX27iRs4JPc2d2jigXer JHD9cXlUqphB5eIIFkHuTp8cnDtTRuinALf5RlquNvF1c/Er49DFkeXS9Trto X-Gm-Gg: ASbGnctS+lSepS7sgEvjiKvNV3lfeKhdgS8l0VeBIPaU5C9vQq9aXnF5xXeQDkk51Nv RbkHpCyNE24ZlOskIBRPAUJTls/O4BRA3ZFLoxzR5EaJqbU0EYV/UTMSpJu0/PX2BIJBC6xOHjl W13UXUu50DBEwHgsWo973pSeaGv73Ap0R7eo3tRNnf5HrbFVa8gMdIhKaMfhr/HDq4XEstHQFwd xCXjw4UADBuxhtVWsPMRzWOaqsWP8m8LDWWLRo/i7xsyREwUvGztHbTAzihnLtXSI3oED3Hpw/+ omiRzE5hLvChdzrjb7iSoiZnxgL9FuV/4DG8R7HvdjupYgk= X-Google-Smtp-Source: AGHT+IEZyhew5xAqBcQp8EwpePvt8B79fnhQnM2qkloQO+VxOuOeJvfEOX4umFkJezaaVcH0E2xJudMsnExi X-Received: by 2002:a17:902:ce8e:b0:234:1163:ff99 with SMTP id d9443c01a7336-23ddb30199emr48629805ad.43.1752073818601; Wed, 09 Jul 2025 08:10:18 -0700 (PDT) Received: from postal.iol.unh.edu (postal.iol.unh.edu. [2606:4100:3880:1234::84]) by smtp-relay.gmail.com with ESMTPS id d9443c01a7336-23c842b5a1esm6565805ad.2.2025.07.09.08.10.18 (version=TLS1_2 cipher=ECDHE-ECDSA-AES128-GCM-SHA256 bits=128/128); Wed, 09 Jul 2025 08:10:18 -0700 (PDT) X-Relaying-Domain: iol.unh.edu Date: Wed, 09 Jul 2025 08:10:18 -0700 (PDT) Message-ID: <686e865a.170a0220.2a4d98.4248SMTPIN_ADDED_MISSING@mx.google.com> Received: from [172.21.0.5] (unknown [172.18.0.240]) by postal.iol.unh.edu (Postfix) with ESMTP id C3353604D420; Wed, 9 Jul 2025 11:10:17 -0400 (EDT) Subject: |WARNING| pw155085 [PATCH] [v3] pcapng: allow any protocol link type From: dpdklab@iol.unh.edu To: Test Report Cc: dpdk-test-reports@iol.unh.edu In-Reply-To: <20250708210245.3967578-1-schneide@qti.qualcomm.com> References: <20250708210245.3967578-1-schneide@qti.qualcomm.com> Content-Type: text/plain X-BeenThere: test-report@dpdk.org X-Mailman-Version: 2.1.29 Precedence: list List-Id: automatic DPDK test reports List-Unsubscribe: , List-Archive: List-Post: List-Help: List-Subscribe: , Errors-To: test-report-bounces@dpdk.org Test-Label: iol-compile-amd64-testing Test-Status: WARNING http://dpdk.org/patch/155085 _Testing issues_ Submitter: Schneide Date: Tuesday, July 08 2025 21:02:45 DPDK git baseline: Repo:dpdk Branch: master CommitID:e90979eebbea093f6bab2d7c222fc5f5c9a85eff 155085 --> testing issues Upstream job id: Generic-DPDK-Compile-Meson#407233 Test environment and result as below: +-------------------------------+--------------------+-------------------+-------------------+------------------+-------------------------+----------------------+ | Environment | dpdk_meson_compile | dpdk_msvc_compile | dpdk_compile_spdk | dpdk_compile_ovs | dpdk_llvm_clang_compile | dpdk_mingw64_compile | +===============================+====================+===================+===================+==================+=========================+======================+ | Ubuntu 20.04 | PASS | SKIPPED | SKIPPED | SKIPPED | SKIPPED | SKIPPED | +-------------------------------+--------------------+-------------------+-------------------+------------------+-------------------------+----------------------+ | FreeBSD 14.2 | PASS | SKIPPED | SKIPPED | SKIPPED | SKIPPED | SKIPPED | +-------------------------------+--------------------+-------------------+-------------------+------------------+-------------------------+----------------------+ | CentOS Stream 9 | PASS | SKIPPED | PASS | SKIPPED | SKIPPED | SKIPPED | +-------------------------------+--------------------+-------------------+-------------------+------------------+-------------------------+----------------------+ | CentOS Stream 10 | PASS | SKIPPED | SKIPPED | SKIPPED | SKIPPED | SKIPPED | +-------------------------------+--------------------+-------------------+-------------------+------------------+-------------------------+----------------------+ | Debian GNU/Linux 12 | PASS | SKIPPED | PASS | SKIPPED | SKIPPED | SKIPPED | +-------------------------------+--------------------+-------------------+-------------------+------------------+-------------------------+----------------------+ | Fedora Linux 40 | PASS | SKIPPED | PASS | SKIPPED | SKIPPED | SKIPPED | +-------------------------------+--------------------+-------------------+-------------------+------------------+-------------------------+----------------------+ | Fedora Linux 41 | PASS | SKIPPED | PASS | PASS | SKIPPED | SKIPPED | +-------------------------------+--------------------+-------------------+-------------------+------------------+-------------------------+----------------------+ | openSUSE Leap 15.6 | PASS | SKIPPED | SKIPPED | SKIPPED | SKIPPED | SKIPPED | +-------------------------------+--------------------+-------------------+-------------------+------------------+-------------------------+----------------------+ | Red Hat Enterprise Linux 8.10 | PASS | SKIPPED | SKIPPED | SKIPPED | SKIPPED | SKIPPED | +-------------------------------+--------------------+-------------------+-------------------+------------------+-------------------------+----------------------+ | Red Hat Enterprise Linux 9.5 | PASS | SKIPPED | SKIPPED | SKIPPED | SKIPPED | SKIPPED | +-------------------------------+--------------------+-------------------+-------------------+------------------+-------------------------+----------------------+ | Ubuntu 22.04 | PASS | SKIPPED | PASS | SKIPPED | SKIPPED | SKIPPED | +-------------------------------+--------------------+-------------------+-------------------+------------------+-------------------------+----------------------+ | Ubuntu 24.04 | PASS | SKIPPED | PASS | PASS | SKIPPED | SKIPPED | +-------------------------------+--------------------+-------------------+-------------------+------------------+-------------------------+----------------------+ | Alpine Linux 3.22.0 | PASS | SKIPPED | SKIPPED | SKIPPED | SKIPPED | SKIPPED | +-------------------------------+--------------------+-------------------+-------------------+------------------+-------------------------+----------------------+ | Windows Server 2022 | SKIPPED | PASS | SKIPPED | SKIPPED | PASS | PASS | +-------------------------------+--------------------+-------------------+-------------------+------------------+-------------------------+----------------------+ Ubuntu 20.04 Kernel: 4.19 Compiler: gcc gcc (Ubuntu 9.4.0-1ubuntu1~20.04.2) 9.4.0 FreeBSD 14.2 Kernel: 14.2-RELEASE Compiler: clang 18.1.6 CentOS Stream 9 Kernel: 5.15 Compiler: gcc gcc (GCC) 11.5.0 20240719 (Red Hat 11.5.0-7) CentOS Stream 10 Kernel: 5.15 Compiler: gcc gcc (GCC) 14.2.1 20250110 (Red Hat 14.2.1-8) Debian GNU/Linux 12 Kernel: 5.15 Compiler: gcc gcc (Debian 12.2.0-14+deb12u1) 12.2.0 Fedora Linux 40 Kernel: 5.15 Compiler: clang gcc (GCC) 14.2.1 20240912 (Red Hat 14.2.1-3) Fedora Linux 41 Kernel: 5.15 Compiler: clang gcc (GCC) 14.3.1 20250523 (Red Hat 14.3.1-1) openSUSE Leap 15.6 Kernel: 5.15 Compiler: gcc gcc (SUSE Linux) 7.5.0 Red Hat Enterprise Linux 8.10 Kernel: 5.15 Compiler: gcc gcc (GCC) 8.5.0 20210514 (Red Hat 8.5.0-22) Red Hat Enterprise Linux 9.5 Kernel: 5.15 Compiler: gcc gcc (GCC) 11.5.0 20240719 (Red Hat 11.5.0-2) Ubuntu 22.04 Kernel: 5.15 Compiler: gcc gcc (Ubuntu 11.4.0-1ubuntu1~22.04) 11.4.0 Ubuntu 24.04 Kernel: 5.15 Compiler: gcc gcc (Ubuntu 13.3.0-6ubuntu2~24.04) 13.3.0 Alpine Linux 3.22.0 Kernel: 5.15 Compiler: gcc gcc (Alpine 14.2.0) 14.2.0 Windows Server 2022 Kernel: 10.0.20348.2031 Compiler: clang 15.0.7, gcc 14.1.0 (MinGW), and MSVC VS 19.39.33521 To view detailed results, visit: https://lab.dpdk.org/results/dashboard/patchsets/33618/ UNH-IOL DPDK Community Lab To manage your email subscriptions, visit: https://lab.dpdk.org/results/dashboard/preferences/subscriptions/