From mboxrd@z Thu Jan 1 00:00:00 1970 Return-Path: Received: from mails.dpdk.org (mails.dpdk.org [217.70.189.124]) by inbox.dpdk.org (Postfix) with ESMTP id 6695B46B32 for ; Wed, 9 Jul 2025 17:30:20 +0200 (CEST) Received: from mails.dpdk.org (localhost [127.0.0.1]) by mails.dpdk.org (Postfix) with ESMTP id 5E288402A3; Wed, 9 Jul 2025 17:30:20 +0200 (CEST) Received: from mail-yb1-f225.google.com (mail-yb1-f225.google.com [209.85.219.225]) by mails.dpdk.org (Postfix) with ESMTP id 53DCD402A3 for ; Wed, 9 Jul 2025 17:30:19 +0200 (CEST) Received: by mail-yb1-f225.google.com with SMTP id 3f1490d57ef6-e81cf6103a6so5362435276.3 for ; Wed, 09 Jul 2025 08:30:19 -0700 (PDT) DKIM-Signature: v=1; a=rsa-sha256; c=relaxed/relaxed; d=iol.unh.edu; s=unh-iol; t=1752075018; x=1752679818; darn=dpdk.org; h=references:in-reply-to:cc:to:from:subject:message-id:date:from:to :cc:subject:date:message-id:reply-to; bh=HauQfFIX/Y9LOXWQYM5dEk/mGBDdEW9iuzbxmrnfxEQ=; b=blVgVlt3vCgn5iqcwhhHcIWY1t5bCUefs5qFaARrirG0458PLGDZ2WME2lu/A4b6tq lNwagq2an+jfgBBtTkuA3AF60hfBSRjQQDSV0/EBANwMgf1Vd4A1x5JwV7fiLAQlAoDO 6ZqPLySfMNu/9Zz78DUBBWjOu3TdYyyQMTocM= X-Google-DKIM-Signature: v=1; a=rsa-sha256; c=relaxed/relaxed; d=1e100.net; s=20230601; t=1752075018; x=1752679818; h=references:in-reply-to:cc:to:from:subject:message-id:date :x-gm-message-state:from:to:cc:subject:date:message-id:reply-to; bh=HauQfFIX/Y9LOXWQYM5dEk/mGBDdEW9iuzbxmrnfxEQ=; b=mg3z/q6FJewiPvx7NHr5A32DCCXSDi8a+D0hNBFIHdQAqwxIJ0Cyh6LMjN75dIXv2e BoikxKNT3J00TgsMrQN0ZQQ1HIPTFYeUr4FhH9Ftf6+aKV7O0AA+t+csIBIY2Nx4LQwc 0BQyiZUSXa80ZJpUnm6+oOvhPCVLG/78H2fJquUajfzRuKgVq5IiuWzXxcHc7jx/J0S3 C90yhey2xfPB2cQqJiDvccftlmKx44lH6blC3sdIqvTiN4DVfBatB38QkaPQfTsmtRcy Qvouic7oNJ1V8kbI2qCKZjGIQZgR8nQKYppTCDzxsyU0C3YUHQ/NWyuqpn0xW86Lrbqe XMGw== X-Gm-Message-State: AOJu0YwUqqpxfc6L71YkFdJtnebl3HaeKN0rZE3z4IuEIm5DoiZmYqD6 GqikCIQnD55NDtHZIXHjs1EfOVKr1TBboVKidK85ZCKh8RLTYdOabTaybUAWjJaw3coWtoBivXb /VLr9uQgCzFnEksdgZvzYP1RijTFzMfPYpvLhOEEDYWP8HKoqKFxyawuCF1oL X-Gm-Gg: ASbGnctfz3Y6MdZVl5/Le/AOMk6dnAgKuMqIsQXh2f+wUO1f9oaNWyxDnZEMhiOsaDI 2beoc8SDFNomn3eF5CWRu/7odkhCFwic/5nQGIYYvNeqE5Vbm1t9FUuNLNYpKr+zcKQXqq1xCs/ 67UsqfLfZyBlnGTaO6lHdnmYylRtM1NeCjCvW7Q2kAgeA7E/TMO11zgvQnYORGlRmLBXeh6T31W Vabsz2BRGNfFI7gXqf5tpO/QftuPDP0AGaDo/5gifKoc3wcRjeqMXBMlq2/BUJgtlRWPEcx8871 Kbj15ZneuWsd0FVkdFGOL9HTe4OK7Tu0tyN4XZ48Y9R8Bcg= X-Google-Smtp-Source: AGHT+IFOP/FqeYmtwkSu0ZP7mmyqEd1RJUY/ccWh5uIWEWXbO5hF3MbBHlbgRTTgszlHL59/ZaeAGXtAh9PE X-Received: by 2002:a05:690c:6707:b0:70c:a5c2:ceed with SMTP id 00721157ae682-717b1c772d8mr42106747b3.25.1752075018364; Wed, 09 Jul 2025 08:30:18 -0700 (PDT) Received: from postal.iol.unh.edu (postal.iol.unh.edu. [2606:4100:3880:1234::84]) by smtp-relay.gmail.com with ESMTPS id 00721157ae682-71665b5e648sm3696767b3.49.2025.07.09.08.30.18 (version=TLS1_2 cipher=ECDHE-ECDSA-AES128-GCM-SHA256 bits=128/128); Wed, 09 Jul 2025 08:30:18 -0700 (PDT) X-Relaying-Domain: iol.unh.edu Date: Wed, 09 Jul 2025 08:30:18 -0700 (PDT) Message-ID: <686e8b0a.050a0220.504f1.3b1fSMTPIN_ADDED_MISSING@mx.google.com> Received: from [172.21.0.5] (unknown [172.18.0.240]) by postal.iol.unh.edu (Postfix) with ESMTP id 03E7C604D420; Wed, 9 Jul 2025 11:30:18 -0400 (EDT) Subject: |WARNING| pw155084 [PATCH] [RFC] add hints to CLAUDE From: dpdklab@iol.unh.edu To: Test Report Cc: dpdk-test-reports@iol.unh.edu In-Reply-To: <20250708190957.10108-1-stephen@networkplumber.org> References: <20250708190957.10108-1-stephen@networkplumber.org> Content-Type: text/plain X-BeenThere: test-report@dpdk.org X-Mailman-Version: 2.1.29 Precedence: list List-Id: automatic DPDK test reports List-Unsubscribe: , List-Archive: List-Post: List-Help: List-Subscribe: , Errors-To: test-report-bounces@dpdk.org Test-Label: iol-compile-amd64-testing Test-Status: WARNING http://dpdk.org/patch/155084 _Testing issues_ Submitter: Stephen Hemminger Date: Tuesday, July 08 2025 19:09:41 DPDK git baseline: Repo:dpdk Branch: master CommitID:e90979eebbea093f6bab2d7c222fc5f5c9a85eff 155084 --> testing issues Upstream job id: Generic-DPDK-Compile-Meson#407236 Test environment and result as below: +-------------------------------+--------------------+-------------------+------------------+-------------------+-------------------------+----------------------+ | Environment | dpdk_meson_compile | dpdk_compile_spdk | dpdk_compile_ovs | dpdk_msvc_compile | dpdk_llvm_clang_compile | dpdk_mingw64_compile | +===============================+====================+===================+==================+===================+=========================+======================+ | CentOS Stream 9 | PASS | PASS | SKIPPED | SKIPPED | SKIPPED | SKIPPED | +-------------------------------+--------------------+-------------------+------------------+-------------------+-------------------------+----------------------+ | CentOS Stream 10 | PASS | SKIPPED | SKIPPED | SKIPPED | SKIPPED | SKIPPED | +-------------------------------+--------------------+-------------------+------------------+-------------------+-------------------------+----------------------+ | Fedora Linux 40 | PASS | WARN | SKIPPED | SKIPPED | SKIPPED | SKIPPED | +-------------------------------+--------------------+-------------------+------------------+-------------------+-------------------------+----------------------+ | Fedora Linux 41 | PASS | PASS | PASS | SKIPPED | SKIPPED | SKIPPED | +-------------------------------+--------------------+-------------------+------------------+-------------------+-------------------------+----------------------+ | Red Hat Enterprise Linux 8.10 | PASS | SKIPPED | SKIPPED | SKIPPED | SKIPPED | SKIPPED | +-------------------------------+--------------------+-------------------+------------------+-------------------+-------------------------+----------------------+ | Red Hat Enterprise Linux 9.5 | PASS | SKIPPED | SKIPPED | SKIPPED | SKIPPED | SKIPPED | +-------------------------------+--------------------+-------------------+------------------+-------------------+-------------------------+----------------------+ | Ubuntu 20.04 | PASS | SKIPPED | SKIPPED | SKIPPED | SKIPPED | SKIPPED | +-------------------------------+--------------------+-------------------+------------------+-------------------+-------------------------+----------------------+ | openSUSE Leap 15.6 | PASS | SKIPPED | SKIPPED | SKIPPED | SKIPPED | SKIPPED | +-------------------------------+--------------------+-------------------+------------------+-------------------+-------------------------+----------------------+ | Ubuntu 22.04 | PASS | PASS | SKIPPED | SKIPPED | SKIPPED | SKIPPED | +-------------------------------+--------------------+-------------------+------------------+-------------------+-------------------------+----------------------+ | Ubuntu 24.04 | PASS | PASS | PASS | SKIPPED | SKIPPED | SKIPPED | +-------------------------------+--------------------+-------------------+------------------+-------------------+-------------------------+----------------------+ | Alpine Linux 3.22.0 | PASS | SKIPPED | SKIPPED | SKIPPED | SKIPPED | SKIPPED | +-------------------------------+--------------------+-------------------+------------------+-------------------+-------------------------+----------------------+ | FreeBSD 14.2 | PASS | SKIPPED | SKIPPED | SKIPPED | SKIPPED | SKIPPED | +-------------------------------+--------------------+-------------------+------------------+-------------------+-------------------------+----------------------+ | Debian GNU/Linux 12 | PASS | PASS | SKIPPED | SKIPPED | SKIPPED | SKIPPED | +-------------------------------+--------------------+-------------------+------------------+-------------------+-------------------------+----------------------+ | Windows Server 2022 | SKIPPED | SKIPPED | SKIPPED | PASS | PASS | PASS | +-------------------------------+--------------------+-------------------+------------------+-------------------+-------------------------+----------------------+ ==== 20 line log output for Fedora Linux 40 (dpdk_compile_spdk): ==== --- Failed to get log output --- ==== End log output ==== CentOS Stream 9 Kernel: 5.15 Compiler: gcc gcc (GCC) 11.5.0 20240719 (Red Hat 11.5.0-7) CentOS Stream 10 Kernel: 5.15 Compiler: gcc gcc (GCC) 14.2.1 20250110 (Red Hat 14.2.1-8) Fedora Linux 40 Kernel: 5.15 Compiler: gcc gcc (GCC) 14.2.1 20240912 (Red Hat 14.2.1-3) Fedora Linux 41 Kernel: 5.15 Compiler: clang gcc (GCC) 14.3.1 20250523 (Red Hat 14.3.1-1) Red Hat Enterprise Linux 8.10 Kernel: 5.15 Compiler: gcc gcc (GCC) 8.5.0 20210514 (Red Hat 8.5.0-22) Red Hat Enterprise Linux 9.5 Kernel: 5.15 Compiler: gcc gcc (GCC) 11.5.0 20240719 (Red Hat 11.5.0-2) Ubuntu 20.04 Kernel: 5.15 Compiler: gcc gcc (Ubuntu 9.4.0-1ubuntu1~20.04.2) 9.4.0 openSUSE Leap 15.6 Kernel: 5.15 Compiler: gcc gcc (SUSE Linux) 7.5.0 Ubuntu 22.04 Kernel: 5.15 Compiler: gcc gcc (Ubuntu 11.4.0-1ubuntu1~22.04) 11.4.0 Ubuntu 24.04 Kernel: 5.15 Compiler: gcc gcc (Ubuntu 13.3.0-6ubuntu2~24.04) 13.3.0 Alpine Linux 3.22.0 Kernel: 5.15 Compiler: gcc gcc (Alpine 14.2.0) 14.2.0 FreeBSD 14.2 Kernel: 14.2-RELEASE Compiler: clang 18.1.6 Debian GNU/Linux 12 Kernel: 5.15 Compiler: gcc gcc (Debian 12.2.0-14+deb12u1) 12.2.0 Windows Server 2022 Kernel: 10.0.20348.2031 Compiler: clang 15.0.7, gcc 14.1.0 (MinGW), and MSVC VS 19.39.33521 To view detailed results, visit: https://lab.dpdk.org/results/dashboard/patchsets/33617/ UNH-IOL DPDK Community Lab To manage your email subscriptions, visit: https://lab.dpdk.org/results/dashboard/preferences/subscriptions/