From mboxrd@z Thu Jan 1 00:00:00 1970 Return-Path: Received: from mails.dpdk.org (mails.dpdk.org [217.70.189.124]) by inbox.dpdk.org (Postfix) with ESMTP id C2B0246A87 for ; Wed, 9 Jul 2025 17:33:54 +0200 (CEST) Received: from mails.dpdk.org (localhost [127.0.0.1]) by mails.dpdk.org (Postfix) with ESMTP id BE2FA4028C; Wed, 9 Jul 2025 17:33:54 +0200 (CEST) Received: from mail-il1-f225.google.com (mail-il1-f225.google.com [209.85.166.225]) by mails.dpdk.org (Postfix) with ESMTP id 454934028C for ; Wed, 9 Jul 2025 17:33:54 +0200 (CEST) Received: by mail-il1-f225.google.com with SMTP id e9e14a558f8ab-3df4bdadca5so22166475ab.1 for ; Wed, 09 Jul 2025 08:33:54 -0700 (PDT) DKIM-Signature: v=1; a=rsa-sha256; c=relaxed/relaxed; d=iol.unh.edu; s=unh-iol; t=1752075233; x=1752680033; darn=dpdk.org; h=references:in-reply-to:cc:to:from:subject:message-id:date:from:to :cc:subject:date:message-id:reply-to; bh=aZonee4Is4cf2zVFMelJbOjtNaoWdPxYanp0EkUB9L4=; b=OUKcE82TkRQjVtUkrHfg7eY6uU4giTaD1RxLg7F32/tfvpttowNVNi+QlC2M8CLzOF nNNqbefWjS1I1dUr4LVoErAKwBTejSaBkFlUrKqPhT0ipBNh5qIwXYNd+N49KdovAAV/ zeiHI9pnwT/5m9ASi79JrJInJbj+D1rFRMKYA= X-Google-DKIM-Signature: v=1; a=rsa-sha256; c=relaxed/relaxed; d=1e100.net; s=20230601; t=1752075233; x=1752680033; h=references:in-reply-to:cc:to:from:subject:message-id:date :x-gm-message-state:from:to:cc:subject:date:message-id:reply-to; bh=aZonee4Is4cf2zVFMelJbOjtNaoWdPxYanp0EkUB9L4=; b=jvM4VffMXOcfkc41AeeCD8c5vxeE/iijv3evRp8Y34bVlkmfJz6TMAf+6PZEfVwpFm E9+pFpML0zi4PhBO3zLjUF7gNL4a/xfpmAtt6AZtXwBzWkBUsV8TMb7m4jR2z/C1fW57 poUd7MUctsQtItq2ZKKwjQArWF8IEl5zUCUK3hR+55vA//TFHgo/XDr51fC4HXmdT0Ls zpmage1scZiT4VtH5gdsYSq1YbNSlxEulD1iuGco/IFdV8ZJDwUyLDV/04QB3MbTej2D xne8wxt/xYA49Al9gGTXj3LSSphl6NVaTP988gVKO3pBHn6J3RMvl1zUw2Zg6R7Dy9iY +Gwg== X-Gm-Message-State: AOJu0YyJF8YDXPbiSfdLjT+f0z3f+WDL1/48gaL4VbIdpHVzalrTIs+1 gJAbvmZ+nwrDhMRu0Q1qrcMnnxEWHg8Ir16gGIakQkXYlWaYx6/00I8FSQbDj8cZatA9lqUBPuY xiTDFfeFv4u0yHHlt9xFRVbPfdPNETK1M6HLDMHj3ILhiikuyVsAp2qhqzHLv X-Gm-Gg: ASbGncvmd4+gQX9ez7VZ97oaazJ9X4EwItSD1f4segYbS6Z38WE6w+ncLrZjjdJaQSF Wz0eWcegttGFeIxuIIg5j+ri8VS+RV2rYY0XsJgHtyyAhtlAVOFqvYTYhu99keVaU4TPeTnbKAM E22HLJYqL3AqN6XyNqZjWKbcGkHEGzG56U/GNWUbNVl3ODwPdYZ4VWSinsQyGyYdCozVrIW2SqV i70FNAu9X1BAvjD33/kXqtK9yspeOZaDV8d2AuofDJ+cbpo9jhlR+dSBOY5LigFxTIXbqn5juPA N90q1DpXGirKzpNdvPNJvh3EgewdPTyOk2S8vaA1SBmdQS8= X-Google-Smtp-Source: AGHT+IELV+bDqqv+fErsVzn4pRmNqzvKjb9T061Ik1bosH3UKELZ0QdCxgiUT76GEgjqOhKUJgmPqt/idBwQ X-Received: by 2002:a05:6e02:1c05:b0:3df:34b4:1db8 with SMTP id e9e14a558f8ab-3e166fed7femr30543685ab.4.1752075233472; Wed, 09 Jul 2025 08:33:53 -0700 (PDT) Received: from postal.iol.unh.edu (postal.iol.unh.edu. [2606:4100:3880:1234::84]) by smtp-relay.gmail.com with ESMTPS id 8926c6da1cb9f-503b5a1321esm472872173.20.2025.07.09.08.33.53 (version=TLS1_2 cipher=ECDHE-ECDSA-AES128-GCM-SHA256 bits=128/128); Wed, 09 Jul 2025 08:33:53 -0700 (PDT) X-Relaying-Domain: iol.unh.edu Date: Wed, 09 Jul 2025 08:33:53 -0700 (PDT) Message-ID: <686e8be1.050a0220.fb531.9338SMTPIN_ADDED_MISSING@mx.google.com> Received: from [172.21.0.5] (unknown [172.18.0.240]) by postal.iol.unh.edu (Postfix) with ESMTP id 09609604D420; Wed, 9 Jul 2025 11:33:53 -0400 (EDT) Subject: |SUCCESS| pw155090 [PATCH] examples/ipsec-secgw: fix number of queue From: dpdklab@iol.unh.edu To: Test Report Cc: dpdk-test-reports@iol.unh.edu In-Reply-To: <20250709082325.771994-1-vfialko@marvell.com> References: <20250709082325.771994-1-vfialko@marvell.com> Content-Type: text/plain X-BeenThere: test-report@dpdk.org X-Mailman-Version: 2.1.29 Precedence: list List-Id: automatic DPDK test reports List-Unsubscribe: , List-Archive: List-Post: List-Help: List-Subscribe: , Errors-To: test-report-bounces@dpdk.org Test-Label: iol-unit-arm64-testing Test-Status: SUCCESS http://dpdk.org/patch/155090 _Testing PASS_ Submitter: Volodymyr Fialko Date: Wednesday, July 09 2025 08:23:25 DPDK git baseline: Repo:dpdk Branch: master CommitID:9b298e79703a1343d388d059f4029813f11ac6ad 155090 --> testing pass Upstream job id: Generic-Unit-Test-DPDK#354179 Test environment and result as below: +------------------------------+----------------+---------------------------+--------------+------------------------------+ | Environment | dpdk_unit_test | cryptodev_sw_zuc_autotest | lpm_autotest | cryptodev_sw_snow3g_autotest | +==============================+================+===========================+==============+==============================+ | CentOS Stream 9 | PASS | SKIPPED | SKIPPED | SKIPPED | +------------------------------+----------------+---------------------------+--------------+------------------------------+ | Fedora Linux 40 | PASS | SKIPPED | SKIPPED | SKIPPED | +------------------------------+----------------+---------------------------+--------------+------------------------------+ | CentOS Stream 10 | PASS | SKIPPED | SKIPPED | SKIPPED | +------------------------------+----------------+---------------------------+--------------+------------------------------+ | Debian GNU/Linux 12 | PASS | SKIPPED | SKIPPED | SKIPPED | +------------------------------+----------------+---------------------------+--------------+------------------------------+ | Fedora Linux 41 | PASS | SKIPPED | SKIPPED | SKIPPED | +------------------------------+----------------+---------------------------+--------------+------------------------------+ | Ubuntu 20.04 | PASS | SKIPPED | PASS | SKIPPED | +------------------------------+----------------+---------------------------+--------------+------------------------------+ | Ubuntu 22.04 | PASS | SKIPPED | SKIPPED | SKIPPED | +------------------------------+----------------+---------------------------+--------------+------------------------------+ | Red Hat Enterprise Linux 9.5 | PASS | SKIPPED | SKIPPED | SKIPPED | +------------------------------+----------------+---------------------------+--------------+------------------------------+ | Ubuntu 24.04 | PASS | SKIPPED | SKIPPED | SKIPPED | +------------------------------+----------------+---------------------------+--------------+------------------------------+ | Debian 12 (arm) | SKIPPED | PASS | SKIPPED | PASS | +------------------------------+----------------+---------------------------+--------------+------------------------------+ CentOS Stream 9 Kernel: 5.4 Compiler: gcc gcc (GCC) 11.5.0 20240719 (Red Hat 11.5.0-7) Fedora Linux 40 Kernel: 5.4 Compiler: gcc gcc (GCC) 14.2.1 20240912 (Red Hat 14.2.1-3) CentOS Stream 10 Kernel: 5.4 Compiler: gcc gcc (GCC) 14.2.1 20250110 (Red Hat 14.2.1-8) Debian GNU/Linux 12 Kernel: 5.4 Compiler: gcc gcc (Debian 12.2.0-14+deb12u1) 12.2.0 Fedora Linux 41 Kernel: 5.4 Compiler: gcc gcc (GCC) 14.3.1 20250523 (Red Hat 14.3.1-1) Ubuntu 20.04 Kernel: 5.4 Compiler: gcc gcc (Ubuntu 9.4.0-1ubuntu1~20.04.2) 9.4.0 Ubuntu 22.04 Kernel: 5.4 Compiler: gcc gcc (Ubuntu 11.4.0-1ubuntu1~22.04) 11.4.0 Red Hat Enterprise Linux 9.5 Kernel: 5.4 Compiler: gcc gcc (GCC) 11.5.0 20240719 (Red Hat 11.5.0-2) Ubuntu 24.04 Kernel: 5.4 Compiler: gcc gcc (Ubuntu 13.3.0-6ubuntu2~24.04) 13.3.0 Debian 12 (arm) Kernel: Depends on container host Compiler: gcc (Debian 12.2.0-14) 12.2.0 To view detailed results, visit: https://lab.dpdk.org/results/dashboard/patchsets/33622/ UNH-IOL DPDK Community Lab To manage your email subscriptions, visit: https://lab.dpdk.org/results/dashboard/preferences/subscriptions/