From mboxrd@z Thu Jan 1 00:00:00 1970 Return-Path: Received: from mails.dpdk.org (mails.dpdk.org [217.70.189.124]) by inbox.dpdk.org (Postfix) with ESMTP id 149DD46B32 for ; Wed, 9 Jul 2025 17:47:19 +0200 (CEST) Received: from mails.dpdk.org (localhost [127.0.0.1]) by mails.dpdk.org (Postfix) with ESMTP id E07814028C; Wed, 9 Jul 2025 17:47:18 +0200 (CEST) Received: from mail-il1-f225.google.com (mail-il1-f225.google.com [209.85.166.225]) by mails.dpdk.org (Postfix) with ESMTP id 423584028C for ; Wed, 9 Jul 2025 17:47:18 +0200 (CEST) Received: by mail-il1-f225.google.com with SMTP id e9e14a558f8ab-3df3ce3ec91so20573135ab.2 for ; Wed, 09 Jul 2025 08:47:18 -0700 (PDT) DKIM-Signature: v=1; a=rsa-sha256; c=relaxed/relaxed; d=iol.unh.edu; s=unh-iol; t=1752076037; x=1752680837; darn=dpdk.org; h=references:in-reply-to:cc:to:from:subject:message-id:date:from:to :cc:subject:date:message-id:reply-to; bh=f294DsVSemcZUx0+HDDX0nUs1/hnWLLp/OsRAxR1WN8=; b=ewFDmGUJckxkCFJxrz784o1WaRLHZmgYk0wsJGaYjYSnd7uBoXAoy8AVx/CS/3zV9p KQKkgRRCh+KVI6ikasvOQ4Dqo1bdu6hLKgROUPiYywrb+T7pN/LgXQ6VKVFs4vVnOUEe 8/bQHBZUBSf7FmE8DaeZZBkGHjBca+vFoelIY= X-Google-DKIM-Signature: v=1; a=rsa-sha256; c=relaxed/relaxed; d=1e100.net; s=20230601; t=1752076037; x=1752680837; h=references:in-reply-to:cc:to:from:subject:message-id:date :x-gm-message-state:from:to:cc:subject:date:message-id:reply-to; bh=f294DsVSemcZUx0+HDDX0nUs1/hnWLLp/OsRAxR1WN8=; b=rfDw8+iKv9Qu6AY9Z7KHGyDuIERGy6TNde694DlSTdN3OK5t0zBQpUq+qBTGZM/GaJ TPRDi6Mb/oSx12s5hTNyU6eZFbToMJ/+3IvYjFlvOVdJRlek1n/siVrTQoNKsVzgPK2P JFMoY+mFrZILi4A4eFbzpRzGfMkummNPkAp7G6DU+/w7lXLqQJcpt3Gx5GkNkoD6odEV in/B12bzb8ovYRL18CXcmD6jJM7TAs3d/+BEYOFcs2+TfdL1SYjxT9YeYweA830WyTsE 2WIHh+ddZbWTaDOTJQPd7QXChwtRavTOtsCMScBt7y+326h5EtmhYDAg+Ib663xaEeHf L8Fg== X-Gm-Message-State: AOJu0YxTmUtb/ihcsAADLo2W7DFHQpt6jBtFGO4q7Zkl5KTy7O3HogsZ GPLkcByOelDQqTiI6doHWmWEcjncp/cxIlfb8e4UkpJjE/C5FYcENQSdhN3hGckqliUUJ4g3OWC LcXEe+4gn/px/W0bJr+q1aXSROJEGnAbZ3gCZCP2OFT2Y X-Gm-Gg: ASbGnctP6Uo3OLsnaqka4hWrrJpYVDt+SgJbmEgpCFGJiGDwFIaZXEX22aGJ+/2l/Q4 FXm8uquffNmNUURd9ui3gwuvx5RpIv3+Vu0tAhO7aaRtTZmkTjSBzFS4HIo/CPSmpqVcDubOITr aDFo+OMAN2DGTgZrPG4OHgqeYre5IcMWT16wyRK9KMSEVMEdczwh0Dj2aPh1sFS/5XbrtqBklia TdVFti0lZrDEOCtthDpEZNM4l6H0ASCPk5OuwXcJW/wAQf7uDpzffVxDN1Ja/9MIKKPJAbXX0dk B3GH96giFEsHWwbtybRv/7+lAx5uXa4FY5E2M2lb8HhfG4pjQp5Ih6kkAkMH3VZoL8FhmQ== X-Google-Smtp-Source: AGHT+IEz9W+KMK/XQZy8uPQ2f8rS47mWeiB6D5eB9XHZjQUyLjKtIYaEh0zdhTMQxvaVwqW9Yf8rULj0/kBK X-Received: by 2002:a05:6e02:2167:b0:3df:3154:2e90 with SMTP id e9e14a558f8ab-3e1670fac99mr32131055ab.19.1752076037512; Wed, 09 Jul 2025 08:47:17 -0700 (PDT) Received: from postal.iol.unh.edu (postal.iol.unh.edu. [132.177.123.84]) by smtp-relay.gmail.com with ESMTPS id 8926c6da1cb9f-503b5a1321esm473787173.20.2025.07.09.08.47.17 (version=TLS1_2 cipher=ECDHE-ECDSA-AES128-GCM-SHA256 bits=128/128); Wed, 09 Jul 2025 08:47:17 -0700 (PDT) X-Relaying-Domain: iol.unh.edu Date: Wed, 09 Jul 2025 08:47:17 -0700 (PDT) Message-ID: <686e8f05.050a0220.fb531.93f2SMTPIN_ADDED_MISSING@mx.google.com> Received: from [172.21.0.6] (unknown [172.18.0.240]) by postal.iol.unh.edu (Postfix) with ESMTP id F365C6050A61; Wed, 9 Jul 2025 11:47:16 -0400 (EDT) Subject: |SUCCESS| pw155087 [PATCH] maintainers: update for dlb2 From: dpdklab@iol.unh.edu To: Test Report Cc: dpdk-test-reports@iol.unh.edu In-Reply-To: <20250709050434.1296690-1-tirthendu.sarkar@intel.com> References: <20250709050434.1296690-1-tirthendu.sarkar@intel.com> Content-Type: text/plain X-BeenThere: test-report@dpdk.org X-Mailman-Version: 2.1.29 Precedence: list List-Id: automatic DPDK test reports List-Unsubscribe: , List-Archive: List-Post: List-Help: List-Subscribe: , Errors-To: test-report-bounces@dpdk.org Test-Label: iol-compile-arm64-testing Test-Status: SUCCESS http://dpdk.org/patch/155087 _Testing PASS_ Submitter: Tirthendu Sarkar Date: Wednesday, July 09 2025 05:04:34 DPDK git baseline: Repo:dpdk Branch: master CommitID:e90979eebbea093f6bab2d7c222fc5f5c9a85eff 155087 --> testing pass Upstream job id: Generic-DPDK-Compile-Meson#407189 Test environment and result as below: +------------------------------+--------------------+ | Environment | dpdk_meson_compile | +==============================+====================+ | Red Hat Enterprise Linux 9.5 | PASS | +------------------------------+--------------------+ | Ubuntu 20.04 | PASS | +------------------------------+--------------------+ | Debian GNU/Linux 12 | PASS | +------------------------------+--------------------+ | Fedora Linux 40 | PASS | +------------------------------+--------------------+ | Fedora Linux 41 | PASS | +------------------------------+--------------------+ | Ubuntu 22.04 | PASS | +------------------------------+--------------------+ | Ubuntu 24.04 | PASS | +------------------------------+--------------------+ | CentOS Stream 9 | PASS | +------------------------------+--------------------+ | CentOS Stream 10 | PASS | +------------------------------+--------------------+ Red Hat Enterprise Linux 9.5 Kernel: 5.4 Compiler: gcc gcc (GCC) 11.5.0 20240719 (Red Hat 11.5.0-2) Ubuntu 20.04 Kernel: 5.15 Compiler: aarch64-linux-gnu-gcc gcc (Ubuntu 9.4.0-1ubuntu1~20.04.2) 9.4.0 Debian GNU/Linux 12 Kernel: 5.4 Compiler: gcc gcc (Debian 12.2.0-14+deb12u1) 12.2.0 Fedora Linux 40 Kernel: 5.4 Compiler: gcc gcc (GCC) 14.2.1 20240912 (Red Hat 14.2.1-3) Fedora Linux 41 Kernel: 5.4 Compiler: gcc gcc (GCC) 14.3.1 20250523 (Red Hat 14.3.1-1) Ubuntu 22.04 Kernel: 5.4 Compiler: gcc gcc (Ubuntu 11.4.0-1ubuntu1~22.04) 11.4.0 Ubuntu 24.04 Kernel: 5.4 Compiler: gcc gcc (Ubuntu 13.3.0-6ubuntu2~24.04) 13.3.0 CentOS Stream 9 Kernel: 5.4 Compiler: gcc gcc (GCC) 11.5.0 20240719 (Red Hat 11.5.0-7) CentOS Stream 10 Kernel: 5.4 Compiler: gcc gcc (GCC) 14.2.1 20250110 (Red Hat 14.2.1-8) To view detailed results, visit: https://lab.dpdk.org/results/dashboard/patchsets/33620/ UNH-IOL DPDK Community Lab To manage your email subscriptions, visit: https://lab.dpdk.org/results/dashboard/preferences/subscriptions/