From mboxrd@z Thu Jan 1 00:00:00 1970 Return-Path: Received: from mails.dpdk.org (mails.dpdk.org [217.70.189.124]) by inbox.dpdk.org (Postfix) with ESMTP id 008DF46B32 for ; Wed, 9 Jul 2025 17:47:31 +0200 (CEST) Received: from mails.dpdk.org (localhost [127.0.0.1]) by mails.dpdk.org (Postfix) with ESMTP id F0DEE4028C; Wed, 9 Jul 2025 17:47:31 +0200 (CEST) Received: from mail-pl1-f227.google.com (mail-pl1-f227.google.com [209.85.214.227]) by mails.dpdk.org (Postfix) with ESMTP id 2BF014028C for ; Wed, 9 Jul 2025 17:47:31 +0200 (CEST) Received: by mail-pl1-f227.google.com with SMTP id d9443c01a7336-23aeac7d77aso243695ad.3 for ; Wed, 09 Jul 2025 08:47:31 -0700 (PDT) DKIM-Signature: v=1; a=rsa-sha256; c=relaxed/relaxed; d=iol.unh.edu; s=unh-iol; t=1752076050; x=1752680850; darn=dpdk.org; h=references:in-reply-to:cc:to:from:subject:message-id:date:from:to :cc:subject:date:message-id:reply-to; bh=pIzM0hzWiWdaRBK+dtwqjgKlyXmiAbH9oEqC7DZZK6k=; b=NGCsiItgQK/I2FAukES1W0ejLHP8+Wzi+HUs7dE/o0CMyjwLMsq6xkIgGVpRxnBIV5 2sU7svX5KujtsOzpvSyv3YoMkojvR3s25zY+G485DYg729y4E9dVWFidsiA6ssVtugSf 6wmztMKN/k3oGOxgXYxKT2UZ21GdV+YLQED4U= X-Google-DKIM-Signature: v=1; a=rsa-sha256; c=relaxed/relaxed; d=1e100.net; s=20230601; t=1752076050; x=1752680850; h=references:in-reply-to:cc:to:from:subject:message-id:date :x-gm-message-state:from:to:cc:subject:date:message-id:reply-to; bh=pIzM0hzWiWdaRBK+dtwqjgKlyXmiAbH9oEqC7DZZK6k=; b=iGtZ/zg5qia+H+5juVui/HBbPNNuzuw5nO4UkRYpkGD2AyLkvjkG0wPzN0UpnrYyme ryyHSgvztqLWzkYSmecalx1cgBwf4Rf0+sPXIBRrY9WiCGLZhTtJjGPbhQhHxnB97vb+ WWdT5BRC46ngUBS90zb6rrXI+eucixjTfLEU7DAaZpus0f81CVIaFQR5fDGSG4ckhkNP 78T1eIKx+Gq0gzI5qzYsqXVabUbt8BTLXtxFseVEz2tGoi3g/x/nCYctJ/ROnbC8Z7Dj M36GFkIctmO3OWLJTg95XBbpbPK8XFr5TrY75UO33ioGtdxMotvJ9Ylf3r3pZtn7dusx LE0g== X-Gm-Message-State: AOJu0Yz1e3Xxrq6SgGRUc/Y1iKCq+I4VN79C0cXJadSqBmqxbpLoSNS2 /9qMRRGeTHYCCOnCTdPZR/9aFuFH+mRriVQ+ZSIsch++r/MwyLE0RoXJEF5MxN7JqqCYtevziaN 5h6z4Y4D86Hsu7mpQozKd6mON21UioFAf18HH2w7WZmEUmZsBbDKw/kIkwWk0 X-Gm-Gg: ASbGncsrHVMxkoAtmze55udEflcHMltxHc3kUyCg630Sy6wOp4GEh1y22ibYZgRxDyx dmxu2AiA5FRA67gVPj0IgtjWGYPB4bRixRWEX8bHCLGkUxX7lAqpG16Df74WlsEJX74H2t6EqVD I2dHPdTfB1Bw8Uf4p7HpvJNWOKHjDFr6Q+Kgki7v2WI3ylC2j1H3GnDli7OAOO9c3JQlExqmu7k EcnlxjIWH9/+GEbzucBfuffaaC50joZqSKbmyFmRjDlUT0vRynF5+0j4kQIBbpBBGYng9qQ9uKO MEiw+bcgBFsyBX8j2SBpw5PSIl+a+26W9jS5fo2kAOoXQdc= X-Google-Smtp-Source: AGHT+IFMPriyHzf7ZpkYVtQw8sU6AS7tRU/aekD7Ya6r8HG4BwSYcwDu7xlAYI/NYWZROpVcfgVAOJ0nc2gU X-Received: by 2002:a17:902:e74b:b0:224:76f:9e4a with SMTP id d9443c01a7336-23ddb1a03c2mr51406715ad.14.1752076050244; Wed, 09 Jul 2025 08:47:30 -0700 (PDT) Received: from postal.iol.unh.edu (postal.iol.unh.edu. [2606:4100:3880:1234::84]) by smtp-relay.gmail.com with ESMTPS id d9443c01a7336-23c844e13a2sm6313965ad.62.2025.07.09.08.47.30 (version=TLS1_2 cipher=ECDHE-ECDSA-AES128-GCM-SHA256 bits=128/128); Wed, 09 Jul 2025 08:47:30 -0700 (PDT) X-Relaying-Domain: iol.unh.edu Date: Wed, 09 Jul 2025 08:47:30 -0700 (PDT) Message-ID: <686e8f12.170a0220.1b8a1f.1aa6SMTPIN_ADDED_MISSING@mx.google.com> Received: from [172.21.0.5] (unknown [172.18.0.240]) by postal.iol.unh.edu (Postfix) with ESMTP id 77D7A604D422; Wed, 9 Jul 2025 11:47:29 -0400 (EDT) Subject: |SUCCESS| pw155087 [PATCH] maintainers: update for dlb2 From: dpdklab@iol.unh.edu To: Test Report Cc: dpdk-test-reports@iol.unh.edu In-Reply-To: <20250709050434.1296690-1-tirthendu.sarkar@intel.com> References: <20250709050434.1296690-1-tirthendu.sarkar@intel.com> Content-Type: text/plain X-BeenThere: test-report@dpdk.org X-Mailman-Version: 2.1.29 Precedence: list List-Id: automatic DPDK test reports List-Unsubscribe: , List-Archive: List-Post: List-Help: List-Subscribe: , Errors-To: test-report-bounces@dpdk.org Test-Label: iol-compile-arm64-testing Test-Status: SUCCESS http://dpdk.org/patch/155087 _Testing PASS_ Submitter: Tirthendu Sarkar Date: Wednesday, July 09 2025 05:04:34 DPDK git baseline: Repo:dpdk Branch: master CommitID:e90979eebbea093f6bab2d7c222fc5f5c9a85eff 155087 --> testing pass Upstream job id: Generic-DPDK-Compile-Meson#407191 Test environment and result as below: +------------------------------+--------------------+ | Environment | dpdk_meson_compile | +==============================+====================+ | Red Hat Enterprise Linux 9.5 | PASS | +------------------------------+--------------------+ | Ubuntu 20.04 | PASS | +------------------------------+--------------------+ | Debian GNU/Linux 12 | PASS | +------------------------------+--------------------+ | Fedora Linux 40 | PASS | +------------------------------+--------------------+ | Fedora Linux 41 | PASS | +------------------------------+--------------------+ | Ubuntu 22.04 | PASS | +------------------------------+--------------------+ | Ubuntu 24.04 | PASS | +------------------------------+--------------------+ | CentOS Stream 9 | PASS | +------------------------------+--------------------+ | CentOS Stream 10 | PASS | +------------------------------+--------------------+ Red Hat Enterprise Linux 9.5 Kernel: 5.4 Compiler: gcc gcc (GCC) 11.5.0 20240719 (Red Hat 11.5.0-2) Ubuntu 20.04 Kernel: 5.15 Compiler: aarch64-linux-gnu-gcc gcc (Ubuntu 9.4.0-1ubuntu1~20.04.2) 9.4.0 Debian GNU/Linux 12 Kernel: 5.4 Compiler: gcc gcc (Debian 12.2.0-14+deb12u1) 12.2.0 Fedora Linux 40 Kernel: 5.4 Compiler: gcc gcc (GCC) 14.2.1 20240912 (Red Hat 14.2.1-3) Fedora Linux 41 Kernel: 5.4 Compiler: gcc gcc (GCC) 14.3.1 20250523 (Red Hat 14.3.1-1) Ubuntu 22.04 Kernel: 5.4 Compiler: gcc gcc (Ubuntu 11.4.0-1ubuntu1~22.04) 11.4.0 Ubuntu 24.04 Kernel: 5.4 Compiler: gcc gcc (Ubuntu 13.3.0-6ubuntu2~24.04) 13.3.0 CentOS Stream 9 Kernel: 5.4 Compiler: gcc gcc (GCC) 11.5.0 20240719 (Red Hat 11.5.0-7) CentOS Stream 10 Kernel: 5.4 Compiler: gcc gcc (GCC) 14.2.1 20250110 (Red Hat 14.2.1-8) To view detailed results, visit: https://lab.dpdk.org/results/dashboard/patchsets/33620/ UNH-IOL DPDK Community Lab To manage your email subscriptions, visit: https://lab.dpdk.org/results/dashboard/preferences/subscriptions/