automatic DPDK test reports
 help / color / mirror / Atom feed
* |SUCCESS| pw155009 [PATCH] net/bonding: avoid RSS reta update in flow-isolation mode
       [not found] <20250704132207.5021-1-madhuker.mythri@oracle.com>
@ 2025-07-04 12:47 ` qemudev
  2025-07-04 12:52 ` qemudev
                   ` (5 subsequent siblings)
  6 siblings, 0 replies; 7+ messages in thread
From: qemudev @ 2025-07-04 12:47 UTC (permalink / raw)
  To: test-report

Test-Label: loongarch-compilation
Test-Status: SUCCESS
http://dpdk.org/patch/155009

_Compilation OK_

Submitter: Madhuker Mythri <madhuker.mythri@oracle.com>
Date: Fri,  4 Jul 2025 18:52:07 +0530
DPDK git baseline: Repo:dpdk-next-net
  Branch: main
  CommitID: b18c543ec30729ccc7708a6e064a1f9db5d8c11f

155009 --> meson & ninja build successfully

Test environment and result as below:

+---------------------+----------------+
|     Environment     | compilation    |
+---------------------+----------------+
| Loongnix-Server 8.3 | PASS           |
+---------------------+----------------+

Loongnix-Server 8.3
    Kernel: 4.19.190+
    Compiler: gcc 8.3


^ permalink raw reply	[flat|nested] 7+ messages in thread

* |SUCCESS| pw155009 [PATCH] net/bonding: avoid RSS reta update in flow-isolation mode
       [not found] <20250704132207.5021-1-madhuker.mythri@oracle.com>
  2025-07-04 12:47 ` |SUCCESS| pw155009 [PATCH] net/bonding: avoid RSS reta update in flow-isolation mode qemudev
@ 2025-07-04 12:52 ` qemudev
  2025-07-04 13:22 ` |WARNING| " checkpatch
                   ` (4 subsequent siblings)
  6 siblings, 0 replies; 7+ messages in thread
From: qemudev @ 2025-07-04 12:52 UTC (permalink / raw)
  To: test-report

Test-Label: loongarch-unit-testing
Test-Status: SUCCESS
http://dpdk.org/patch/155009

_Unit Testing PASS_

Submitter: Madhuker Mythri <madhuker.mythri@oracle.com>
Date: Fri,  4 Jul 2025 18:52:07 +0530
DPDK git baseline: Repo:dpdk-next-net
  Branch: main
  CommitID: b18c543ec30729ccc7708a6e064a1f9db5d8c11f

155009 --> testing pass

Test environment and result as below:

+---------------------+----------------+
|     Environment     | dpdk_unit_test |
+---------------------+----------------+
| Loongnix-Server 8.3 | PASS           |
+---------------------+----------------+

Loongnix-Server 8.3
    Kernel: 4.19.190+
    Compiler: gcc 8.3


Test result details:
  1/121 DPDK:fast-tests / acl_autotest                            OK              3.28s
  2/121 DPDK:fast-tests / alarm_autotest                          OK              1.54s
  3/121 DPDK:fast-tests / argparse_autotest                       OK              0.55s
  4/121 DPDK:fast-tests / atomic_autotest                         OK              7.31s
  5/121 DPDK:fast-tests / bitcount_autotest                       OK              0.63s
  6/121 DPDK:fast-tests / bitmap_autotest                         OK              0.61s
  7/121 DPDK:fast-tests / bitops_autotest                         OK              2.13s
  8/121 DPDK:fast-tests / bitratestats_autotest                   OK              0.62s
  9/121 DPDK:fast-tests / bitset_autotest                         OK              3.31s
 10/121 DPDK:fast-tests / bpf_autotest                            OK              0.62s
 11/121 DPDK:fast-tests / bpf_convert_autotest                    OK              0.62s
 12/121 DPDK:fast-tests / byteorder_autotest                      OK              0.62s
 13/121 DPDK:fast-tests / cfgfile_autotest                        OK              0.62s
 14/121 DPDK:fast-tests / cksum_autotest                          OK              0.62s
 15/121 DPDK:fast-tests / cmdline_autotest                        OK              0.62s
 16/121 DPDK:fast-tests / common_autotest                         OK              1.50s
 17/121 DPDK:fast-tests / compressdev_autotest                    SKIP            0.08s   exit status 77
 18/121 DPDK:fast-tests / cpuflags_autotest                       OK              0.61s
 19/121 DPDK:fast-tests / crc_autotest                            OK              0.62s
 20/121 DPDK:fast-tests / user_delay_us                           OK              0.61s
 21/121 DPDK:fast-tests / debug_autotest                          OK             20.33s
 22/121 DPDK:fast-tests / devargs_autotest                        OK              0.61s
 23/121 DPDK:fast-tests / dispatcher_autotest                     OK              2.58s
 24/121 DPDK:fast-tests / distributor_autotest                    OK              1.21s
 25/121 DPDK:fast-tests / eal_flags_c_opt_autotest                OK              0.82s
 26/121 DPDK:fast-tests / eal_flags_main_opt_autotest             OK              0.23s
 27/121 DPDK:fast-tests / eal_flags_n_opt_autotest                OK              0.21s
 28/121 DPDK:fast-tests / eal_flags_hpet_autotest                 OK              0.14s
 29/121 DPDK:fast-tests / eal_flags_no_huge_autotest              OK              0.23s
 30/121 DPDK:fast-tests / eal_flags_a_opt_autotest                OK              0.32s
 31/121 DPDK:fast-tests / eal_flags_b_opt_autotest                OK              0.26s
 32/121 DPDK:fast-tests / eal_flags_vdev_opt_autotest             OK              0.21s
 33/121 DPDK:fast-tests / eal_flags_r_opt_autotest                OK              0.20s
 34/121 DPDK:fast-tests / eal_flags_mem_autotest                  OK              0.62s
 35/121 DPDK:fast-tests / eal_flags_file_prefix_autotest          OK             22.27s
 36/121 DPDK:fast-tests / eal_flags_misc_autotest                 OK              1.08s
 37/121 DPDK:fast-tests / eal_fs_autotest                         OK              0.62s
 38/121 DPDK:fast-tests / errno_autotest                          OK              0.61s
 39/121 DPDK:fast-tests / ethdev_link_status                      OK              0.61s
 40/121 DPDK:fast-tests / event_eth_tx_adapter_autotest           OK              1.69s
 41/121 DPDK:fast-tests / event_ring_autotest                     OK              0.62s
 42/121 DPDK:fast-tests / event_vector_adapter_autotest           OK              0.97s
 43/121 DPDK:fast-tests / eventdev_common_autotest                OK              0.61s
 44/121 DPDK:fast-tests / eventdev_selftest_sw                    OK              7.62s
 45/121 DPDK:fast-tests / fbarray_autotest                        OK              0.62s
 46/121 DPDK:fast-tests / fib_autotest                            OK              1.46s
 47/121 DPDK:fast-tests / fib6_autotest                           OK              1.25s
 48/121 DPDK:fast-tests / func_reentrancy_autotest                OK              2.22s
 49/121 DPDK:fast-tests / graph_autotest                          OK              0.63s
 50/121 DPDK:fast-tests / node_list_dump                          OK              0.62s
 51/121 DPDK:fast-tests / graph_feature_arc_autotest              OK              0.62s
 52/121 DPDK:fast-tests / hash_autotest                           OK              1.24s
 53/121 DPDK:fast-tests / hash_readwrite_func_autotest            OK              6.42s
 54/121 DPDK:fast-tests / interrupt_autotest                      OK              1.92s
 55/121 DPDK:fast-tests / ipfrag_autotest                         OK              0.08s
 56/121 DPDK:fast-tests / ipsec_autotest                          SKIP            0.59s   exit status 77
 57/121 DPDK:fast-tests / kvargs_autotest                         OK              0.60s
 58/121 DPDK:fast-tests / latencystats_autotest                   OK              0.60s
 59/121 DPDK:fast-tests / lcore_var_autotest                      OK              0.70s
 60/121 DPDK:fast-tests / lcores_autotest                         OK              5.39s
 61/121 DPDK:fast-tests / logs_autotest                           OK              0.59s
 62/121 DPDK:fast-tests / lpm_autotest                            OK              2.64s
 63/121 DPDK:fast-tests / lpm6_autotest                           OK              5.77s
 64/121 DPDK:fast-tests / malloc_autotest                         OK             65.12s
 65/121 DPDK:fast-tests / mbuf_autotest                           OK              4.37s
 66/121 DPDK:fast-tests / mcslock_autotest                        OK              3.08s
 67/121 DPDK:fast-tests / member_autotest                         OK              1.80s
 68/121 DPDK:fast-tests / memcpy_autotest                         OK              7.05s
 69/121 DPDK:fast-tests / memory_autotest                         OK              0.11s
 70/121 DPDK:fast-tests / mempool_autotest                        OK              0.44s
 71/121 DPDK:fast-tests / memzone_autotest                        OK              0.15s
 72/121 DPDK:fast-tests / meter_autotest                          OK              0.62s
 73/121 DPDK:fast-tests / metrics_autotest                        OK              0.62s
 74/121 DPDK:fast-tests / multiprocess_autotest                   OK              0.20s
 75/121 DPDK:fast-tests / net_ether_autotest                      OK              1.29s
 76/121 DPDK:fast-tests / net_ipv6_autotest                       OK              0.62s
 77/121 DPDK:fast-tests / pcapng_autotest                         OK              6.74s
 78/121 DPDK:fast-tests / pdcp_autotest                           SKIP            0.07s   exit status 77
 79/121 DPDK:fast-tests / pdump_autotest                          OK              0.74s
 80/121 DPDK:fast-tests / per_lcore_autotest                      OK              0.72s
 81/121 DPDK:fast-tests / pflock_autotest                         OK              1.42s
 82/121 DPDK:fast-tests / pie_autotest                            OK              0.62s
 83/121 DPDK:fast-tests / ring_pmd_autotest                       OK              0.62s
 84/121 DPDK:fast-tests / power_autotest                          OK              0.61s
 85/121 DPDK:fast-tests / power_cpufreq_autotest                  SKIP            0.08s   exit status 77
 86/121 DPDK:fast-tests / power_intel_uncore_autotest             SKIP            0.62s   exit status 77
 87/121 DPDK:fast-tests / power_kvm_vm_autotest                   SKIP            0.08s   exit status 77
 88/121 DPDK:fast-tests / prefetch_autotest                       OK              0.61s
 89/121 DPDK:fast-tests / ptr_compress_autotest                   OK              0.61s
 90/121 DPDK:fast-tests / rawdev_autotest                         OK              0.61s
 91/121 DPDK:fast-tests / rcu_qsbr_autotest                       OK              1.14s
 92/121 DPDK:fast-tests / reorder_autotest                        OK              0.67s
 93/121 DPDK:fast-tests / rib_autotest                            OK              9.27s
 94/121 DPDK:fast-tests / rib6_autotest                           OK              9.26s
 95/121 DPDK:fast-tests / ring_autotest                           OK              0.64s
 96/121 DPDK:fast-tests / rwlock_test1_autotest                   OK              1.36s
 97/121 DPDK:fast-tests / rwlock_rda_autotest                     OK              5.61s
 98/121 DPDK:fast-tests / rwlock_rds_wrm_autotest                 OK              5.62s
 99/121 DPDK:fast-tests / rwlock_rde_wro_autotest                 OK              5.61s
100/121 DPDK:fast-tests / sched_autotest                          OK              0.62s
101/121 DPDK:fast-tests / security_autotest                       OK              0.08s
102/121 DPDK:fast-tests / seqlock_autotest                        OK              2.59s
103/121 DPDK:fast-tests / service_autotest                        OK              3.21s
104/121 DPDK:fast-tests / soring_autotest                         OK              0.50s
105/121 DPDK:fast-tests / spinlock_autotest                       OK              0.57s
106/121 DPDK:fast-tests / stack_autotest                          OK              0.86s
107/121 DPDK:fast-tests / stack_lf_autotest                       SKIP            0.06s   exit status 77
108/121 DPDK:fast-tests / string_autotest                         OK              0.43s
109/121 DPDK:fast-tests / table_autotest                          OK              7.78s
110/121 DPDK:fast-tests / tailq_autotest                          OK              0.42s
111/121 DPDK:fast-tests / telemetry_data_autotest                 OK              0.43s
112/121 DPDK:fast-tests / telemetry_json_autotest                 OK              0.43s
113/121 DPDK:fast-tests / thash_autotest                          OK              0.44s
114/121 DPDK:fast-tests / threads_autotest                        OK              0.61s
115/121 DPDK:fast-tests / ticketlock_autotest                     OK              0.61s
116/121 DPDK:fast-tests / timer_autotest                          OK              3.95s
117/121 DPDK:fast-tests / trace_autotest                          OK              0.42s
118/121 DPDK:fast-tests / trace_autotest_with_traces              OK              0.43s
119/121 DPDK:fast-tests / vdev_autotest                           OK              0.42s
120/121 DPDK:fast-tests / version_autotest                        OK              0.43s
121/121 DPDK:fast-tests / telemetry_all                           OK              1.35s


Ok:                 114
Expected Fail:      0
Fail:               0
Unexpected Pass:    0
Skipped:            7
Timeout:            0


^ permalink raw reply	[flat|nested] 7+ messages in thread

* |WARNING| pw155009 [PATCH] net/bonding: avoid RSS reta update in flow-isolation mode
       [not found] <20250704132207.5021-1-madhuker.mythri@oracle.com>
  2025-07-04 12:47 ` |SUCCESS| pw155009 [PATCH] net/bonding: avoid RSS reta update in flow-isolation mode qemudev
  2025-07-04 12:52 ` qemudev
@ 2025-07-04 13:22 ` checkpatch
  2025-07-04 14:43 ` |SUCCESS| " 0-day Robot
                   ` (3 subsequent siblings)
  6 siblings, 0 replies; 7+ messages in thread
From: checkpatch @ 2025-07-04 13:22 UTC (permalink / raw)
  To: test-report; +Cc: madhuker.mythri

Test-Label: checkpatch
Test-Status: WARNING
http://dpdk.org/patch/155009

_coding style issues_


ERROR:TRAILING_WHITESPACE: trailing whitespace
#130: FILE: drivers/net/bonding/rte_eth_bond_pmd.c:1907:
+^I/* $

total: 1 errors, 0 warnings, 0 checks, 18 lines checked

^ permalink raw reply	[flat|nested] 7+ messages in thread

* |SUCCESS| pw155009 [PATCH] net/bonding: avoid RSS reta update in flow-isolation mode
       [not found] <20250704132207.5021-1-madhuker.mythri@oracle.com>
                   ` (2 preceding siblings ...)
  2025-07-04 13:22 ` |WARNING| " checkpatch
@ 2025-07-04 14:43 ` 0-day Robot
  2025-07-09 15:54 ` |WARNING| " dpdklab
                   ` (2 subsequent siblings)
  6 siblings, 0 replies; 7+ messages in thread
From: 0-day Robot @ 2025-07-04 14:43 UTC (permalink / raw)
  To: test-report; +Cc: robot

From: robot@bytheb.org

Test-Label: github-robot: build
Test-Status: SUCCESS
http://patchwork.dpdk.org/patch/155009/

_github build: passed_
Build URL: https://github.com/ovsrobot/dpdk/actions/runs/16075178037

^ permalink raw reply	[flat|nested] 7+ messages in thread

* |WARNING| pw155009 [PATCH] net/bonding: avoid RSS reta update in flow-isolation mode
       [not found] <20250704132207.5021-1-madhuker.mythri@oracle.com>
                   ` (3 preceding siblings ...)
  2025-07-04 14:43 ` |SUCCESS| " 0-day Robot
@ 2025-07-09 15:54 ` dpdklab
  2025-07-09 16:53 ` dpdklab
  2025-07-09 20:06 ` dpdklab
  6 siblings, 0 replies; 7+ messages in thread
From: dpdklab @ 2025-07-09 15:54 UTC (permalink / raw)
  To: test-report; +Cc: dpdk-test-reports

Test-Label: iol-testing
Test-Status: WARNING
http://dpdk.org/patch/155009

_apply patch failure_

Submitter: Madhuker Mythri <madhuker.mythri@oracle.com>
Date: Friday, July 04 2025 13:22:07 
Applied on: CommitID:0c1a5ff96bfca1ac513b64f081a20f4992c6fcc0
Apply patch set 155009 failed:

Cloning the DPDK mirror at: https://github.com/DPDK/dpdk.git (Attempt 1 of 3)
Trying to checkout branch: origin/main
Checked out to main (0c1a5ff96bfca1ac513b64f081a20f4992c6fcc0)
Done: main commit 0c1a5ff96bfca1ac513b64f081a20f4992c6fcc0
Trying to checkout branch: origin/next-net-for-main
Checked out to next-net-for-main (ba982f9a1ca9b96ed0394b764f1523d482e963a2)
Applying patch...

Failed to apply patch:
Applying: net/bonding: avoid RSS reta update in flow-isolation mode
.git/rebase-apply/patch:15: trailing whitespace.
	/* 
warning: 1 line adds whitespace errors.
Using index info to reconstruct a base tree...
M	drivers/net/bonding/rte_eth_bond_pmd.c
Falling back to patching base and 3-way merge...
Auto-merging drivers/net/bonding/rte_eth_bond_pmd.c
CONFLICT (content): Merge conflict in drivers/net/bonding/rte_eth_bond_pmd.c
error: Failed to merge in the changes.
hint: Use 'git am --show-current-patch=diff' to see the failed patch
Patch failed at 0001 net/bonding: avoid RSS reta update in flow-isolation mode
When you have resolved this problem, run "git am --continue".
If you prefer to skip this patch, run "git am --skip" instead.
To restore the original branch and stop patching, run "git am --abort".


Trying to checkout branch: origin/main
Checked out to main (0c1a5ff96bfca1ac513b64f081a20f4992c6fcc0)
Applying patch...

Failed to apply patch:
Applying: net/bonding: avoid RSS reta update in flow-isolation mode
.git/rebase-apply/patch:15: trailing whitespace.
	/* 
warning: 1 line adds whitespace errors.
Using index info to reconstruct a base tree...
M	drivers/net/bonding/rte_eth_bond_pmd.c
Falling back to patching base and 3-way merge...
Auto-merging drivers/net/bonding/rte_eth_bond_pmd.c
CONFLICT (content): Merge conflict in drivers/net/bonding/rte_eth_bond_pmd.c
error: Failed to merge in the changes.
hint: Use 'git am --show-current-patch=diff' to see the failed patch
Patch failed at 0001 net/bonding: avoid RSS reta update in flow-isolation mode
When you have resolved this problem, run "git am --continue".
If you prefer to skip this patch, run "git am --skip" instead.
To restore the original branch and stop patching, run "git am --abort".


https://lab.dpdk.org/results/dashboard/patchsets/33592/

UNH-IOL DPDK Community Lab

^ permalink raw reply	[flat|nested] 7+ messages in thread

* |WARNING| pw155009 [PATCH] net/bonding: avoid RSS reta update in flow-isolation mode
       [not found] <20250704132207.5021-1-madhuker.mythri@oracle.com>
                   ` (4 preceding siblings ...)
  2025-07-09 15:54 ` |WARNING| " dpdklab
@ 2025-07-09 16:53 ` dpdklab
  2025-07-09 20:06 ` dpdklab
  6 siblings, 0 replies; 7+ messages in thread
From: dpdklab @ 2025-07-09 16:53 UTC (permalink / raw)
  To: test-report; +Cc: dpdk-test-reports

Test-Label: iol-testing
Test-Status: WARNING
http://dpdk.org/patch/155009

_apply patch failure_

Submitter: Madhuker Mythri <madhuker.mythri@oracle.com>
Date: Friday, July 04 2025 13:22:07 
Applied on: CommitID:ab79c1ba245646055cac3a3c6ec3544b217c6751
Apply patch set 155009 failed:

Cloning the DPDK mirror at: https://github.com/DPDK/dpdk.git (Attempt 1 of 3)
Trying to checkout branch: origin/main
Checked out to main (ab79c1ba245646055cac3a3c6ec3544b217c6751)
Done: main commit ab79c1ba245646055cac3a3c6ec3544b217c6751
Trying to checkout branch: origin/next-net-for-main
Checked out to next-net-for-main (ba982f9a1ca9b96ed0394b764f1523d482e963a2)
Applying patch...

Failed to apply patch:
Applying: net/bonding: avoid RSS reta update in flow-isolation mode
.git/rebase-apply/patch:15: trailing whitespace.
	/* 
warning: 1 line adds whitespace errors.
Using index info to reconstruct a base tree...
M	drivers/net/bonding/rte_eth_bond_pmd.c
Falling back to patching base and 3-way merge...
Auto-merging drivers/net/bonding/rte_eth_bond_pmd.c
CONFLICT (content): Merge conflict in drivers/net/bonding/rte_eth_bond_pmd.c
error: Failed to merge in the changes.
hint: Use 'git am --show-current-patch=diff' to see the failed patch
Patch failed at 0001 net/bonding: avoid RSS reta update in flow-isolation mode
When you have resolved this problem, run "git am --continue".
If you prefer to skip this patch, run "git am --skip" instead.
To restore the original branch and stop patching, run "git am --abort".


Trying to checkout branch: origin/main
Checked out to main (ab79c1ba245646055cac3a3c6ec3544b217c6751)
Applying patch...

Failed to apply patch:
Applying: net/bonding: avoid RSS reta update in flow-isolation mode
.git/rebase-apply/patch:15: trailing whitespace.
	/* 
warning: 1 line adds whitespace errors.
Using index info to reconstruct a base tree...
M	drivers/net/bonding/rte_eth_bond_pmd.c
Falling back to patching base and 3-way merge...
Auto-merging drivers/net/bonding/rte_eth_bond_pmd.c
CONFLICT (content): Merge conflict in drivers/net/bonding/rte_eth_bond_pmd.c
error: Failed to merge in the changes.
hint: Use 'git am --show-current-patch=diff' to see the failed patch
Patch failed at 0001 net/bonding: avoid RSS reta update in flow-isolation mode
When you have resolved this problem, run "git am --continue".
If you prefer to skip this patch, run "git am --skip" instead.
To restore the original branch and stop patching, run "git am --abort".


https://lab.dpdk.org/results/dashboard/patchsets/33592/

UNH-IOL DPDK Community Lab

^ permalink raw reply	[flat|nested] 7+ messages in thread

* |WARNING| pw155009 [PATCH] net/bonding: avoid RSS reta update in flow-isolation mode
       [not found] <20250704132207.5021-1-madhuker.mythri@oracle.com>
                   ` (5 preceding siblings ...)
  2025-07-09 16:53 ` dpdklab
@ 2025-07-09 20:06 ` dpdklab
  6 siblings, 0 replies; 7+ messages in thread
From: dpdklab @ 2025-07-09 20:06 UTC (permalink / raw)
  To: test-report; +Cc: dpdk-test-reports

Test-Label: iol-testing
Test-Status: WARNING
http://dpdk.org/patch/155009

_apply patch failure_

Submitter: Madhuker Mythri <madhuker.mythri@oracle.com>
Date: Friday, July 04 2025 13:22:07 
Applied on: CommitID:7e6d6106a4ef052d6a2a6bd6e83c5b16a36c65c9
Apply patch set 155009 failed:

Cloning the DPDK mirror at: https://github.com/DPDK/dpdk.git (Attempt 1 of 3)
Trying to checkout branch: origin/main
Checked out to main (7e6d6106a4ef052d6a2a6bd6e83c5b16a36c65c9)
Done: main commit 7e6d6106a4ef052d6a2a6bd6e83c5b16a36c65c9
Trying to checkout branch: origin/next-net-for-main
Checked out to next-net-for-main (ba982f9a1ca9b96ed0394b764f1523d482e963a2)
Applying patch...

Failed to apply patch:
Applying: net/bonding: avoid RSS reta update in flow-isolation mode
.git/rebase-apply/patch:15: trailing whitespace.
	/* 
warning: 1 line adds whitespace errors.
Using index info to reconstruct a base tree...
M	drivers/net/bonding/rte_eth_bond_pmd.c
Falling back to patching base and 3-way merge...
Auto-merging drivers/net/bonding/rte_eth_bond_pmd.c
CONFLICT (content): Merge conflict in drivers/net/bonding/rte_eth_bond_pmd.c
error: Failed to merge in the changes.
hint: Use 'git am --show-current-patch=diff' to see the failed patch
Patch failed at 0001 net/bonding: avoid RSS reta update in flow-isolation mode
When you have resolved this problem, run "git am --continue".
If you prefer to skip this patch, run "git am --skip" instead.
To restore the original branch and stop patching, run "git am --abort".


Trying to checkout branch: origin/main
Checked out to main (7e6d6106a4ef052d6a2a6bd6e83c5b16a36c65c9)
Applying patch...

Failed to apply patch:
Applying: net/bonding: avoid RSS reta update in flow-isolation mode
.git/rebase-apply/patch:15: trailing whitespace.
	/* 
warning: 1 line adds whitespace errors.
Using index info to reconstruct a base tree...
M	drivers/net/bonding/rte_eth_bond_pmd.c
Falling back to patching base and 3-way merge...
Auto-merging drivers/net/bonding/rte_eth_bond_pmd.c
CONFLICT (content): Merge conflict in drivers/net/bonding/rte_eth_bond_pmd.c
error: Failed to merge in the changes.
hint: Use 'git am --show-current-patch=diff' to see the failed patch
Patch failed at 0001 net/bonding: avoid RSS reta update in flow-isolation mode
When you have resolved this problem, run "git am --continue".
If you prefer to skip this patch, run "git am --skip" instead.
To restore the original branch and stop patching, run "git am --abort".


https://lab.dpdk.org/results/dashboard/patchsets/33592/

UNH-IOL DPDK Community Lab

^ permalink raw reply	[flat|nested] 7+ messages in thread

end of thread, other threads:[~2025-07-09 20:06 UTC | newest]

Thread overview: 7+ messages (download: mbox.gz / follow: Atom feed)
-- links below jump to the message on this page --
     [not found] <20250704132207.5021-1-madhuker.mythri@oracle.com>
2025-07-04 12:47 ` |SUCCESS| pw155009 [PATCH] net/bonding: avoid RSS reta update in flow-isolation mode qemudev
2025-07-04 12:52 ` qemudev
2025-07-04 13:22 ` |WARNING| " checkpatch
2025-07-04 14:43 ` |SUCCESS| " 0-day Robot
2025-07-09 15:54 ` |WARNING| " dpdklab
2025-07-09 16:53 ` dpdklab
2025-07-09 20:06 ` dpdklab

This is a public inbox, see mirroring instructions
for how to clone and mirror all data and code used for this inbox;
as well as URLs for NNTP newsgroup(s).