From mboxrd@z Thu Jan 1 00:00:00 1970 Return-Path: Received: from mails.dpdk.org (mails.dpdk.org [217.70.189.124]) by inbox.dpdk.org (Postfix) with ESMTP id 1625246B32 for ; Wed, 9 Jul 2025 17:59:49 +0200 (CEST) Received: from mails.dpdk.org (localhost [127.0.0.1]) by mails.dpdk.org (Postfix) with ESMTP id 0F1564028C; Wed, 9 Jul 2025 17:59:49 +0200 (CEST) Received: from mail-il1-f227.google.com (mail-il1-f227.google.com [209.85.166.227]) by mails.dpdk.org (Postfix) with ESMTP id 0585D4028C for ; Wed, 9 Jul 2025 17:59:48 +0200 (CEST) Received: by mail-il1-f227.google.com with SMTP id e9e14a558f8ab-3df2d111fefso49943265ab.1 for ; Wed, 09 Jul 2025 08:59:47 -0700 (PDT) DKIM-Signature: v=1; a=rsa-sha256; c=relaxed/relaxed; d=iol.unh.edu; s=unh-iol; t=1752076787; x=1752681587; darn=dpdk.org; h=references:in-reply-to:cc:to:from:subject:message-id:date:from:to :cc:subject:date:message-id:reply-to; bh=gO7Nk1so8Z/X/rDmNUUHeJPJ5WYtu4kkNOKd2od6wh4=; b=SZfytGA0RaulaM8nHdklT+XSXn94cQ+vTNIm6F+HvCKkOukGgVsvhAUyjZ5kMt9S1M Q+Z4gmInt5FG4UErcng7b0/qJvbo3EzQMjJjQJv+dIekVsOKjNPIIww1yT3zZahhkUst mvJdMOkYhxdCceeis1W0e7QQv4kKi4CIu5wnc= X-Google-DKIM-Signature: v=1; a=rsa-sha256; c=relaxed/relaxed; d=1e100.net; s=20230601; t=1752076787; x=1752681587; h=references:in-reply-to:cc:to:from:subject:message-id:date :x-gm-message-state:from:to:cc:subject:date:message-id:reply-to; bh=gO7Nk1so8Z/X/rDmNUUHeJPJ5WYtu4kkNOKd2od6wh4=; b=qPTVvS46VxvMRkuLPfGbadNvpxFTP6E35i36PLhDyBSVpar2YT0g1kOlnQE1gFtHf0 JR5JdQG70vuS8LDYtt7uxm7uPJ8ZGxtBK1cxqD1Y6Hbdy0gapFGxUNclj6RDB7LTruDi GP1v+8WmT+JeyzCb+lhUI3wRXa0LxV+frCyU59oooGyGm8SETBAmLis8tCBVZLFgIyt8 uqawpMgptkWtaCPmrYmb2EbiMXlhj844T2VyRh7aHDhMnoy+15BEeLryCxiobyudjd1h WmeVd6wnnu6UTwqOHpDJnE6sk32TBwn2F0HeHydgpeBFow+GzwP80/B0/bp4jCjpHALj 8wlA== X-Gm-Message-State: AOJu0YyhHSD+oDq9/K9HYSOPZc5gdtAdEq74vcTKyBv4E8Xxw5qRhN1r 3wbrWxAjZ9OiaqxaTTdyzFgzd3bgiyvhYkqbVEGunb4cOCJHzdebtMBgpqKGnEg2o2xZVJNkxqe WHVt0ZbDIXbeC1yOL3DaNP+18DmPJd3pbWZMFdG6LeXnJ X-Gm-Gg: ASbGnct0+sg16vng3LDRU379YvlDwmMoMOvMSrbMqp0Fgvslq+NxiUs0C61QXI9+e0O 1FYclVzMzFYuHKfHHX1l9L7W5L3Hpck8Sp5HWBQbGwtP7xFasSUyGoYAdUxztn8Q+lB+92i9etV bJFRPi0DQOVpSZcgIkkcbW3GChxZjJIQSy/HqOUbaQki7DRKDmktnD37J+dX5v19HxJPgmREYfz ephP5a8UzTIxf7/SdM3HA81lsrmy/cyrUdG99I2xu/fR2WTuhjYVHTr8K3UExsRc2Dutu5LNpTy BRvGwbmNgsaGcAenQjDr7ISXco4Wt+6fWuLJKw7/DUll4z2n3nNhzHriFYpCr7y3K4PU+Q== X-Google-Smtp-Source: AGHT+IGcQ4zxORcwgN9mIRH+U06fjPaCT/a85tqHfRENB61VDEyUo9SvK+TkK6Hoxu7o0i/abhOOKmNnLDpE X-Received: by 2002:a05:6e02:178c:b0:3df:3bb2:b8f8 with SMTP id e9e14a558f8ab-3e243fd4cc9mr3803695ab.11.1752076787313; Wed, 09 Jul 2025 08:59:47 -0700 (PDT) Received: from postal.iol.unh.edu (postal.iol.unh.edu. [132.177.123.84]) by smtp-relay.gmail.com with ESMTPS id 8926c6da1cb9f-503b5b78b0fsm465285173.36.2025.07.09.08.59.47 (version=TLS1_2 cipher=ECDHE-ECDSA-AES128-GCM-SHA256 bits=128/128); Wed, 09 Jul 2025 08:59:47 -0700 (PDT) X-Relaying-Domain: iol.unh.edu Date: Wed, 09 Jul 2025 08:59:47 -0700 (PDT) Message-ID: <686e91f3.050a0220.13d1eb.9016SMTPIN_ADDED_MISSING@mx.google.com> Received: from [172.21.0.8] (unknown [172.18.0.240]) by postal.iol.unh.edu (Postfix) with ESMTP id E7C62604D420; Wed, 9 Jul 2025 11:59:46 -0400 (EDT) Subject: |SUCCESS| pw155106 [PATCH] net/mlx5: fix panic for non template age From: dpdklab@iol.unh.edu To: Test Report Cc: dpdk-test-reports@iol.unh.edu In-Reply-To: <20250709102508.229287-1-mkashani@nvidia.com> References: <20250709102508.229287-1-mkashani@nvidia.com> Content-Type: text/plain X-BeenThere: test-report@dpdk.org X-Mailman-Version: 2.1.29 Precedence: list List-Id: automatic DPDK test reports List-Unsubscribe: , List-Archive: List-Post: List-Help: List-Subscribe: , Errors-To: test-report-bounces@dpdk.org Test-Label: iol-unit-amd64-testing Test-Status: SUCCESS http://dpdk.org/patch/155106 _Testing PASS_ Submitter: Maayan Kashani Date: Wednesday, July 09 2025 10:25:07 DPDK git baseline: Repo:dpdk Branch: master CommitID:6d828a3e774829165137aa2713e3040edd7f46bf 155106 --> testing pass Upstream job id: Generic-Unit-Test-DPDK#354218 Test environment and result as below: +-------------------------------+----------------+ | Environment | dpdk_unit_test | +===============================+================+ | CentOS Stream 9 | PASS | +-------------------------------+----------------+ | Debian GNU/Linux 12 | PASS | +-------------------------------+----------------+ | CentOS Stream 10 | PASS | +-------------------------------+----------------+ | Red Hat Enterprise Linux 9.5 | PASS | +-------------------------------+----------------+ | Fedora Linux 41 | PASS | +-------------------------------+----------------+ | Ubuntu 20.04 | PASS | +-------------------------------+----------------+ | Fedora Linux 40 | PASS | +-------------------------------+----------------+ | Ubuntu 24.04 | PASS | +-------------------------------+----------------+ | Red Hat Enterprise Linux 8.10 | PASS | +-------------------------------+----------------+ | Ubuntu 22.04 | PASS | +-------------------------------+----------------+ CentOS Stream 9 Kernel: 5.15 Compiler: gcc gcc (GCC) 11.5.0 20240719 (Red Hat 11.5.0-7) Debian GNU/Linux 12 Kernel: 5.15 Compiler: gcc gcc (Debian 12.2.0-14+deb12u1) 12.2.0 CentOS Stream 10 Kernel: 5.15 Compiler: gcc gcc (GCC) 14.2.1 20250110 (Red Hat 14.2.1-8) Red Hat Enterprise Linux 9.5 Kernel: 5.15 Compiler: gcc gcc (GCC) 11.5.0 20240719 (Red Hat 11.5.0-2) Fedora Linux 41 Kernel: 5.15 Compiler: clang gcc (GCC) 14.3.1 20250523 (Red Hat 14.3.1-1) Ubuntu 20.04 Kernel: 5.15 Compiler: gcc gcc (Ubuntu 9.4.0-1ubuntu1~20.04.2) 9.4.0 Fedora Linux 40 Kernel: 5.15 Compiler: clang gcc (GCC) 14.2.1 20240912 (Red Hat 14.2.1-3) Ubuntu 24.04 Kernel: 5.15 Compiler: gcc gcc (Ubuntu 13.3.0-6ubuntu2~24.04) 13.3.0 Red Hat Enterprise Linux 8.10 Kernel: 5.15 Compiler: gcc gcc (GCC) 8.5.0 20210514 (Red Hat 8.5.0-22) Ubuntu 22.04 Kernel: 5.15 Compiler: gcc gcc (Ubuntu 11.4.0-1ubuntu1~22.04) 11.4.0 To view detailed results, visit: https://lab.dpdk.org/results/dashboard/patchsets/33625/ UNH-IOL DPDK Community Lab To manage your email subscriptions, visit: https://lab.dpdk.org/results/dashboard/preferences/subscriptions/