From mboxrd@z Thu Jan 1 00:00:00 1970 Return-Path: Received: from mails.dpdk.org (mails.dpdk.org [217.70.189.124]) by inbox.dpdk.org (Postfix) with ESMTP id 2654746B33 for ; Wed, 9 Jul 2025 18:00:07 +0200 (CEST) Received: from mails.dpdk.org (localhost [127.0.0.1]) by mails.dpdk.org (Postfix) with ESMTP id 21E974028C; Wed, 9 Jul 2025 18:00:07 +0200 (CEST) Received: from mail-yb1-f226.google.com (mail-yb1-f226.google.com [209.85.219.226]) by mails.dpdk.org (Postfix) with ESMTP id 02CE14028C for ; Wed, 9 Jul 2025 18:00:06 +0200 (CEST) Received: by mail-yb1-f226.google.com with SMTP id 3f1490d57ef6-e8986a25cbfso4420672276.0 for ; Wed, 09 Jul 2025 09:00:05 -0700 (PDT) DKIM-Signature: v=1; a=rsa-sha256; c=relaxed/relaxed; d=iol.unh.edu; s=unh-iol; t=1752076805; x=1752681605; darn=dpdk.org; h=references:in-reply-to:cc:to:from:subject:message-id:date:from:to :cc:subject:date:message-id:reply-to; bh=70CpnnPr/sxYhKIjCdVNqxrr2380vFukFaKVqO/wlZs=; b=DT/GTKg/Tfj0Km54/RovGY8SjwL23UzjdP2+pE+C+x2R2Yp44Xj8yKd/OBo9i9p0YM xAAL3DL6lidLlMU+xC3bYYqc4UZ+cMPrQMXAW1kgP5R2eKQhu18ZPjO0qOdlqZk+CrWI +pD/kHTBA0+8OWhU16w1RIQkyxYg9UH67UP8s= X-Google-DKIM-Signature: v=1; a=rsa-sha256; c=relaxed/relaxed; d=1e100.net; s=20230601; t=1752076805; x=1752681605; h=references:in-reply-to:cc:to:from:subject:message-id:date :x-gm-message-state:from:to:cc:subject:date:message-id:reply-to; bh=70CpnnPr/sxYhKIjCdVNqxrr2380vFukFaKVqO/wlZs=; b=eZyHQiVidcTpjkUEItx/yrUMNixSpyqx09tOSpoR4autMjH3ETNioa2ukz/zo1FCtR Wv86VKrM920QrQzoI5y75UVDmvyonBnWyMhbNNwtOLZs3skTo81DMMA1bmE2EP/Pa/dS hVzbsU058dSGc9lSN0/2/XVAYWjWk9fYLD37HMHIPIUvtjvnlN57UeEOL/5557dDZtC/ K/BA7tDgEh39EY2r2XK3gejnee8XW8VqRz3m+5fvssIjHEcKGiD01J1BspWhrdSOh4uv FoHRmQfEolPWQXGM343lcH0tpOwG370n8w4cxq++4fOcgcetsamcLWkB5wJbyg4SdJPQ z+6g== X-Gm-Message-State: AOJu0Yy+ZtIn9PlsJ2a9w9HWYwNWzzlbi4P+icaLWCnZH4kcDa88Fjqm 4/5AMuiCSaAmJ4vH/AMImcUTBRC8yK879uP0okWUzHB1NBWAUlbZaC4huMhfK1mwUk73O6mGNDB gjEA235ik1zbpQ6VqO9zBjA+Ksqtd29ntyjRkiwnfp5sA X-Gm-Gg: ASbGncsHfHDhUdag8j68wtgLYjwVCnLmjlqovnSGBuT+hpDIeIHJ43noqTj+cGr8O/4 QD00Rcancqrb0VsDZwy/QATGkWqtcAKoltynhhSMseGCh+IYRJcQ0BDAGah0Nx+4Y26T0m/Lwfd s31tueQeEXrJGr0KyS3grtgWoIRWtmWClrgEoufA7oFWK5vwQim1qVAkHBTCi5cCqO75piQ6MHL BE4qu90F+zx20dss7Ry0mieAc+38bZke/S4i7cHx2WsuwYTRQCe29ZgjU9fF0JVkFwyThw4oE/o LQlq00qs3N6lGMWteh0yWfmhODkNpYjuix+LWl1Qz6L/V6clev5Nq2jtgHJgOKTLTCJ7gA== X-Google-Smtp-Source: AGHT+IE2FQBqyo49m3hAcgYiX10v+Rh03erg+5EB93Xs2T5fb6nTm2/Q1wne7Vl54heWC2mH7aj8Pfk6PnlM X-Received: by 2002:a05:690c:dd4:b0:70f:84c8:3105 with SMTP id 00721157ae682-717b1cbcd94mr47527997b3.37.1752076805007; Wed, 09 Jul 2025 09:00:05 -0700 (PDT) Received: from postal.iol.unh.edu (postal.iol.unh.edu. [132.177.123.84]) by smtp-relay.gmail.com with ESMTPS id 00721157ae682-71665b2840csm3727017b3.33.2025.07.09.09.00.04 (version=TLS1_2 cipher=ECDHE-ECDSA-AES128-GCM-SHA256 bits=128/128); Wed, 09 Jul 2025 09:00:05 -0700 (PDT) X-Relaying-Domain: iol.unh.edu Date: Wed, 09 Jul 2025 09:00:05 -0700 (PDT) Message-ID: <686e9205.050a0220.2870e.418fSMTPIN_ADDED_MISSING@mx.google.com> Received: from [172.21.0.7] (unknown [172.18.0.240]) by postal.iol.unh.edu (Postfix) with ESMTP id A3D8C604D420; Wed, 9 Jul 2025 12:00:04 -0400 (EDT) Subject: |SUCCESS| pw155106 [PATCH] net/mlx5: fix panic for non template age From: dpdklab@iol.unh.edu To: Test Report Cc: dpdk-test-reports@iol.unh.edu In-Reply-To: <20250709102508.229287-1-mkashani@nvidia.com> References: <20250709102508.229287-1-mkashani@nvidia.com> Content-Type: text/plain X-BeenThere: test-report@dpdk.org X-Mailman-Version: 2.1.29 Precedence: list List-Id: automatic DPDK test reports List-Unsubscribe: , List-Archive: List-Post: List-Help: List-Subscribe: , Errors-To: test-report-bounces@dpdk.org Test-Label: iol-unit-amd64-testing Test-Status: SUCCESS http://dpdk.org/patch/155106 _Testing PASS_ Submitter: Maayan Kashani Date: Wednesday, July 09 2025 10:25:07 DPDK git baseline: Repo:dpdk Branch: master CommitID:6d828a3e774829165137aa2713e3040edd7f46bf 155106 --> testing pass Upstream job id: Generic-Unit-Test-DPDK#354200 Test environment and result as below: +-------------------------------+----------------+ | Environment | dpdk_unit_test | +===============================+================+ | CentOS Stream 9 | PASS | +-------------------------------+----------------+ | Debian GNU/Linux 12 | PASS | +-------------------------------+----------------+ | CentOS Stream 10 | PASS | +-------------------------------+----------------+ | Red Hat Enterprise Linux 9.5 | PASS | +-------------------------------+----------------+ | Fedora Linux 41 | PASS | +-------------------------------+----------------+ | Ubuntu 20.04 | PASS | +-------------------------------+----------------+ | Fedora Linux 40 | PASS | +-------------------------------+----------------+ | Ubuntu 24.04 | PASS | +-------------------------------+----------------+ | Red Hat Enterprise Linux 8.10 | PASS | +-------------------------------+----------------+ | Ubuntu 22.04 | PASS | +-------------------------------+----------------+ CentOS Stream 9 Kernel: 5.15 Compiler: gcc gcc (GCC) 11.5.0 20240719 (Red Hat 11.5.0-7) Debian GNU/Linux 12 Kernel: 5.15 Compiler: gcc gcc (Debian 12.2.0-14+deb12u1) 12.2.0 CentOS Stream 10 Kernel: 5.15 Compiler: gcc gcc (GCC) 14.2.1 20250110 (Red Hat 14.2.1-8) Red Hat Enterprise Linux 9.5 Kernel: 5.15 Compiler: gcc gcc (GCC) 11.5.0 20240719 (Red Hat 11.5.0-2) Fedora Linux 41 Kernel: 5.15 Compiler: clang gcc (GCC) 14.3.1 20250523 (Red Hat 14.3.1-1) Ubuntu 20.04 Kernel: 5.15 Compiler: gcc gcc (Ubuntu 9.4.0-1ubuntu1~20.04.2) 9.4.0 Fedora Linux 40 Kernel: 5.15 Compiler: clang gcc (GCC) 14.2.1 20240912 (Red Hat 14.2.1-3) Ubuntu 24.04 Kernel: 5.15 Compiler: gcc gcc (Ubuntu 13.3.0-6ubuntu2~24.04) 13.3.0 Red Hat Enterprise Linux 8.10 Kernel: 5.15 Compiler: gcc gcc (GCC) 8.5.0 20210514 (Red Hat 8.5.0-22) Ubuntu 22.04 Kernel: 5.15 Compiler: gcc gcc (Ubuntu 11.4.0-1ubuntu1~22.04) 11.4.0 To view detailed results, visit: https://lab.dpdk.org/results/dashboard/patchsets/33625/ UNH-IOL DPDK Community Lab To manage your email subscriptions, visit: https://lab.dpdk.org/results/dashboard/preferences/subscriptions/