From mboxrd@z Thu Jan 1 00:00:00 1970 Return-Path: Received: from mails.dpdk.org (mails.dpdk.org [217.70.189.124]) by inbox.dpdk.org (Postfix) with ESMTP id 7588A46B33 for ; Wed, 9 Jul 2025 18:02:16 +0200 (CEST) Received: from mails.dpdk.org (localhost [127.0.0.1]) by mails.dpdk.org (Postfix) with ESMTP id 704A04028C; Wed, 9 Jul 2025 18:02:16 +0200 (CEST) Received: from mail-vk1-f226.google.com (mail-vk1-f226.google.com [209.85.221.226]) by mails.dpdk.org (Postfix) with ESMTP id A77D44028C for ; Wed, 9 Jul 2025 18:02:15 +0200 (CEST) Received: by mail-vk1-f226.google.com with SMTP id 71dfb90a1353d-5290be1aedcso913929e0c.1 for ; Wed, 09 Jul 2025 09:02:15 -0700 (PDT) DKIM-Signature: v=1; a=rsa-sha256; c=relaxed/relaxed; d=iol.unh.edu; s=unh-iol; t=1752076935; x=1752681735; darn=dpdk.org; h=references:in-reply-to:cc:to:from:subject:message-id:date:from:to :cc:subject:date:message-id:reply-to; bh=nC38Hss7ihRWN+vR4rciIcr1NGtM22SbDloMCzc1NpY=; b=LVgloKCqg5HELyivi9MqXyU3MHk7VLSAiz/PRBCWYBZ/IdDoUkK9/liVC7PRuztCBI Wn5YoR/lTmpjE/u6qhbYeuxTVIY2T7xrkrEkJtnOCDPH3ZImwr9cfB08yJhjirRtJZn1 XaJdFuzQiI1r1aXmbVNJbCbkgF2mIdumebuVQ= X-Google-DKIM-Signature: v=1; a=rsa-sha256; c=relaxed/relaxed; d=1e100.net; s=20230601; t=1752076935; x=1752681735; h=references:in-reply-to:cc:to:from:subject:message-id:date :x-gm-message-state:from:to:cc:subject:date:message-id:reply-to; bh=nC38Hss7ihRWN+vR4rciIcr1NGtM22SbDloMCzc1NpY=; b=UC7RlMYdCDSw/28xBHUsh8hfAYo5JwhIUC3tIsLvUusssgRzuR7w3dCfA2rvka2rVW c3Ki1XxIS2euM2yNxY3Il1skIprx5Yn1rMqQcUTgPSSJNy2GoQpzG932LJPTjoL6I4hX Z7Anh+Tm7OCuwy15kEpFV2d2zUorJ1sdvVleNtfcH9P7np5/55Csejdczn2KXyTULq4C go3Rm4c38fiyXQAtjzyBHo1Z5Mu6Mzr59TyxsXc6/DbcWNHia73hdFKrdX5BpSnrEnUg 3oYVL0m1qyjETq6o1vZnW9hu8BxsdDqFAyCsgBt8CycARsqG4RQtZYn9pVR7yptKRPeN 6/FQ== X-Gm-Message-State: AOJu0YzbleKQG5gfEoR31ax84nHAiaFFlvxqavtgTdCzNMyO0QcbvUtV 2AWOGLhdQfnWcRLdQM0Q6UxP2Ns3ro2AKy0184E/CaoEJxHt7MgBVsdy3KBa8FSXaFkBoaWlkqA h0D/ZtfRqntVFRg6QI/FJBsFDWglYcOa2Xyx8mBB2qIVQrHD7BQwcZYpuwske X-Gm-Gg: ASbGncv8h6WNSSFR/SZKDdpnmP18u7ASmSDPY4u0YV4LxHHBNKZflhCL/aaYeCN9Pqi RxnleWFVvRqeadXboKdd1siPxbZoMo1JVEDw2Rkbvyj3T0h/m0dD7JdZAcRVRtlLQoB5pIClXj8 3vJuT4MoRES2aBnHdM7Bi3meuxshSf39/a9GZQ2XqULlC9pGstloVGd5Nb/SqMxXlMHsehl3Ji/ sHRwuPU/Lfd7rSkPXg0s8Yr82kjdVID6X0xzg2TbJ5BG1xsrK9PX4OY6YUCp1PiIpMtto2176xG KjKHsgtWiYTdIMNtTef1q+yRL3O80Z13G67280zGyluKmSc= X-Google-Smtp-Source: AGHT+IEyM+OJ57CLHWccLmEiaS1vUBWDB5NNASGgxnFC4/FyVZ55SUUkOwrnS2QDiKgz2t3DaahwZp1SZ/m7 X-Received: by 2002:a05:6122:514:b0:535:dd55:b6e with SMTP id 71dfb90a1353d-535dd5513bcmr1430667e0c.4.1752076933354; Wed, 09 Jul 2025 09:02:13 -0700 (PDT) Received: from postal.iol.unh.edu (postal.iol.unh.edu. [2606:4100:3880:1234::84]) by smtp-relay.gmail.com with ESMTPS id 71dfb90a1353d-53478dafd37sm630511e0c.1.2025.07.09.09.02.13 (version=TLS1_2 cipher=ECDHE-ECDSA-AES128-GCM-SHA256 bits=128/128); Wed, 09 Jul 2025 09:02:13 -0700 (PDT) X-Relaying-Domain: iol.unh.edu Date: Wed, 09 Jul 2025 09:02:13 -0700 (PDT) Message-ID: <686e9285.050a0220.34ee33.0fb2SMTPIN_ADDED_MISSING@mx.google.com> Received: from [172.21.0.6] (unknown [172.18.0.240]) by postal.iol.unh.edu (Postfix) with ESMTP id 0C798604D420; Wed, 9 Jul 2025 12:02:12 -0400 (EDT) Subject: |SUCCESS| pw154925-154942 [PATCH] [V5,18/18] drivers/net: add hinic3 From: dpdklab@iol.unh.edu To: Test Report Cc: dpdk-test-reports@iol.unh.edu In-Reply-To: <20250702020953.599-19-wff_light@vip.163.com> References: <20250702020953.599-19-wff_light@vip.163.com> Content-Type: text/plain X-BeenThere: test-report@dpdk.org X-Mailman-Version: 2.1.29 Precedence: list List-Id: automatic DPDK test reports List-Unsubscribe: , List-Archive: List-Post: List-Help: List-Subscribe: , Errors-To: test-report-bounces@dpdk.org Test-Label: iol-unit-amd64-testing Test-Status: SUCCESS http://dpdk.org/patch/154942 _Testing PASS_ Submitter: Feifei Wang Date: Wednesday, July 02 2025 02:09:41 DPDK git baseline: Repo:dpdk Branch: master CommitID:ba982f9a1ca9b96ed0394b764f1523d482e963a2 154925-154942 --> testing pass Upstream job id: Generic-VM-Unit-Test-DPDK#29824 Test environment and result as below: +-------------------------------+----------------+ | Environment | dpdk_unit_test | +===============================+================+ | CentOS Stream 9 | PASS | +-------------------------------+----------------+ | Fedora Linux 40 | PASS | +-------------------------------+----------------+ | CentOS Stream 10 | PASS | +-------------------------------+----------------+ | Debian GNU/Linux 12 | PASS | +-------------------------------+----------------+ | Red Hat Enterprise Linux 8.10 | PASS | +-------------------------------+----------------+ | Fedora Linux 41 | PASS | +-------------------------------+----------------+ | Red Hat Enterprise Linux 9.5 | PASS | +-------------------------------+----------------+ | Ubuntu 20.04 | PASS | +-------------------------------+----------------+ | Ubuntu 24.04 | PASS | +-------------------------------+----------------+ | Ubuntu 22.04 | PASS | +-------------------------------+----------------+ | Windows Server 2022 | PASS | +-------------------------------+----------------+ CentOS Stream 9 Kernel: 5.15 Compiler: gcc gcc (GCC) 11.5.0 20240719 (Red Hat 11.5.0-7) Fedora Linux 40 Kernel: 5.15 Compiler: gcc gcc (GCC) 14.2.1 20240912 (Red Hat 14.2.1-3) CentOS Stream 10 Kernel: 5.15 Compiler: gcc gcc (GCC) 14.2.1 20250110 (Red Hat 14.2.1-8) Debian GNU/Linux 12 Kernel: 5.15 Compiler: gcc gcc (Debian 12.2.0-14+deb12u1) 12.2.0 Red Hat Enterprise Linux 8.10 Kernel: 5.15 Compiler: gcc gcc (GCC) 8.5.0 20210514 (Red Hat 8.5.0-22) Fedora Linux 41 Kernel: 5.15 Compiler: gcc gcc (GCC) 14.3.1 20250523 (Red Hat 14.3.1-1) Red Hat Enterprise Linux 9.5 Kernel: 5.15 Compiler: gcc gcc (GCC) 11.5.0 20240719 (Red Hat 11.5.0-2) Ubuntu 20.04 Kernel: 5.15 Compiler: gcc gcc (Ubuntu 9.4.0-1ubuntu1~20.04.2) 9.4.0 Ubuntu 24.04 Kernel: 5.15 Compiler: gcc gcc (Ubuntu 13.3.0-6ubuntu2~24.04) 13.3.0 Ubuntu 22.04 Kernel: 5.15 Compiler: gcc gcc (Ubuntu 11.4.0-1ubuntu1~22.04) 11.4.0 Windows Server 2022 Kernel: 10.0.20348.2031 Compiler: clang 15.0.7, gcc 14.1.0 (MinGW), and MSVC VS 19.39.33521 To view detailed results, visit: https://lab.dpdk.org/results/dashboard/patchsets/33560/ UNH-IOL DPDK Community Lab To manage your email subscriptions, visit: https://lab.dpdk.org/results/dashboard/preferences/subscriptions/