From mboxrd@z Thu Jan 1 00:00:00 1970 Return-Path: Received: from mails.dpdk.org (mails.dpdk.org [217.70.189.124]) by inbox.dpdk.org (Postfix) with ESMTP id 83D6246B33 for ; Wed, 9 Jul 2025 18:12:35 +0200 (CEST) Received: from mails.dpdk.org (localhost [127.0.0.1]) by mails.dpdk.org (Postfix) with ESMTP id 59C074028C; Wed, 9 Jul 2025 18:12:35 +0200 (CEST) Received: from mail-oa1-f100.google.com (mail-oa1-f100.google.com [209.85.160.100]) by mails.dpdk.org (Postfix) with ESMTP id AC9924028C for ; Wed, 9 Jul 2025 18:12:33 +0200 (CEST) Received: by mail-oa1-f100.google.com with SMTP id 586e51a60fabf-2fef7f6d776so14017fac.2 for ; Wed, 09 Jul 2025 09:12:33 -0700 (PDT) DKIM-Signature: v=1; a=rsa-sha256; c=relaxed/relaxed; d=iol.unh.edu; s=unh-iol; t=1752077553; x=1752682353; darn=dpdk.org; h=references:in-reply-to:cc:to:from:subject:message-id:date:from:to :cc:subject:date:message-id:reply-to; bh=qfJ5TQE3lU9BUE2cp9ltiK+5/5loqCH1aq/AOJSwk+4=; b=Nlxv+wFNuA4RZQ9fatXOUHKCgFHOgWUedAYdrS+zQ0Hz+h3YoGuSavYeLEpgRXMZrx BA276xsqbqqIsWTjN+kzZXD/vLlT1SkZ6wWIw1rEQ32s4CDGmcNN2EOlm4sXKnmO7bqZ xqDHUuqHqlAe1XipH4EDPBgapBMlpAMF8G5n0= X-Google-DKIM-Signature: v=1; a=rsa-sha256; c=relaxed/relaxed; d=1e100.net; s=20230601; t=1752077553; x=1752682353; h=references:in-reply-to:cc:to:from:subject:message-id:date :x-gm-message-state:from:to:cc:subject:date:message-id:reply-to; bh=qfJ5TQE3lU9BUE2cp9ltiK+5/5loqCH1aq/AOJSwk+4=; b=xD84lEGg6oFW4rkM20CT7YD5JmsUm2RJ14F4m+mnnUU+dpwHp1wC+dbVYdeom3603Z xSR9jz2b4iGJoxvBlr7Nh1JYy5wK5sxtiJaVGY/vVkxyWd9WAzAZ+2mGxNOHtQ2FpMas e92lbKLgFV8Faw2/A+XOgohbiPIyeh7KHkC2mIlU1jHpPVhe99IaOYfpwQdMqFUwyh9j IVLzZbXMGGmfoqxtJjLPKpgnRW62kIcr5cbx9wXZra2T+qP8CLUUWkhgHzbF6P2p3+Ms lqfLzXY+ZkOH9AdosBXb+MwYipEX/PF7zWWnwIJgPPC1GN/5NDiRb5HpyfoAI5oaisvV KCwA== X-Gm-Message-State: AOJu0YwNdEA7f+/s2FTdkdxGWP8L4Qvs0sG/FzBKca7dqV05fxRbw/Nk bP+LS94u2e03KeF7pq5FppILGY5GdVp07euwZamytFdojuFnXhm5PqZxt7X6vp0hfXaJQ/b1NMb 2uzJMaYOZA0TyS9xCR3GCzHko0qhff9rUdOiROOGdPnOT X-Gm-Gg: ASbGncuEkNa/vAeJPshVKrcbCovo2yhEc3sQ3qtbIXVCjAIRsjTksQ7nerZ+cW5fyBK vXgAH18yzJ5fDLq4iONTJgE/Freg3vPEboualgV3ixRou2geHrxizkUURlz8QBW0kJNZinrpDmG u1bjNQreEd6fMNoFILTkoaRaMJxzxH3v/5Lns5rwIWNLinUrl256uSHAJmI1MysjmiWHQFAcu0g 1Kd8KftYmc3djbO6HnAiQlLR+kS4dJMD72jnkvRoIwQnZSXn1GpXcq/SO5t2iRXzkuDUISHnAlo Igbwt4LJ1J8a9bgtWiUMjM8FcgG70yoFa8u9jUslbihVSZrQ03G+cnJm1T5uoi6HbQgFUg== X-Google-Smtp-Source: AGHT+IGP1iPpbiT8a0qi1wjAIuFK8CBCPj0za/z1I6JbiCLH4j0Rxg+zA5DI+8ey4YJRWyntWHoUSxrdQPwu X-Received: by 2002:a05:6870:313:b0:2d5:2955:aa6a with SMTP id 586e51a60fabf-2ff0b5fffc7mr186563fac.7.1752077552864; Wed, 09 Jul 2025 09:12:32 -0700 (PDT) Received: from postal.iol.unh.edu (postal.iol.unh.edu. [132.177.123.84]) by smtp-relay.gmail.com with ESMTPS id 586e51a60fabf-2f790127883sm807159fac.35.2025.07.09.09.12.32 (version=TLS1_2 cipher=ECDHE-ECDSA-AES128-GCM-SHA256 bits=128/128); Wed, 09 Jul 2025 09:12:32 -0700 (PDT) X-Relaying-Domain: iol.unh.edu Date: Wed, 09 Jul 2025 09:12:32 -0700 (PDT) Message-ID: <686e94f0.050a0220.a728a.c76fSMTPIN_ADDED_MISSING@mx.google.com> Received: from [172.21.0.5] (unknown [172.18.0.240]) by postal.iol.unh.edu (Postfix) with ESMTP id 5BD06604D420; Wed, 9 Jul 2025 12:12:32 -0400 (EDT) Subject: |SUCCESS| pw155088-155089 [PATCH] [v5,2/2] crypto/uadk: use async mo From: dpdklab@iol.unh.edu To: Test Report Cc: dpdk-test-reports@iol.unh.edu In-Reply-To: <20250709064701.100676-3-zhangfei.gao@linaro.org> References: <20250709064701.100676-3-zhangfei.gao@linaro.org> Content-Type: text/plain X-BeenThere: test-report@dpdk.org X-Mailman-Version: 2.1.29 Precedence: list List-Id: automatic DPDK test reports List-Unsubscribe: , List-Archive: List-Post: List-Help: List-Subscribe: , Errors-To: test-report-bounces@dpdk.org Test-Label: iol-compile-arm64-testing Test-Status: SUCCESS http://dpdk.org/patch/155089 _Testing PASS_ Submitter: Zhangfei Gao Date: Wednesday, July 09 2025 06:47:01 DPDK git baseline: Repo:dpdk Branch: master CommitID:2f4f0dc5f678fcf62cf046fa69821c0b8786deb4 155088-155089 --> testing pass Upstream job id: Generic-DPDK-Compile-Meson#407220 Test environment and result as below: +------------------------------+--------------------+ | Environment | dpdk_meson_compile | +==============================+====================+ | Red Hat Enterprise Linux 9.5 | PASS | +------------------------------+--------------------+ | Ubuntu 20.04 | PASS | +------------------------------+--------------------+ | Debian GNU/Linux 12 | PASS | +------------------------------+--------------------+ | Fedora Linux 40 | PASS | +------------------------------+--------------------+ | Fedora Linux 41 | PASS | +------------------------------+--------------------+ | Ubuntu 22.04 | PASS | +------------------------------+--------------------+ | Ubuntu 24.04 | PASS | +------------------------------+--------------------+ | CentOS Stream 9 | PASS | +------------------------------+--------------------+ | CentOS Stream 10 | PASS | +------------------------------+--------------------+ Red Hat Enterprise Linux 9.5 Kernel: 5.4 Compiler: gcc gcc (GCC) 11.5.0 20240719 (Red Hat 11.5.0-2) Ubuntu 20.04 Kernel: 5.15 Compiler: aarch64-linux-gnu-gcc gcc (Ubuntu 9.4.0-1ubuntu1~20.04.2) 9.4.0 Debian GNU/Linux 12 Kernel: 5.4 Compiler: gcc gcc (Debian 12.2.0-14+deb12u1) 12.2.0 Fedora Linux 40 Kernel: 5.4 Compiler: clang gcc (GCC) 14.2.1 20240912 (Red Hat 14.2.1-3) Fedora Linux 41 Kernel: 5.4 Compiler: gcc gcc (GCC) 14.3.1 20250523 (Red Hat 14.3.1-1) Ubuntu 22.04 Kernel: 5.4 Compiler: gcc gcc (Ubuntu 11.4.0-1ubuntu1~22.04) 11.4.0 Ubuntu 24.04 Kernel: 5.4 Compiler: gcc gcc (Ubuntu 13.3.0-6ubuntu2~24.04) 13.3.0 CentOS Stream 9 Kernel: 5.4 Compiler: gcc gcc (GCC) 11.5.0 20240719 (Red Hat 11.5.0-7) CentOS Stream 10 Kernel: 5.4 Compiler: gcc gcc (GCC) 14.2.1 20250110 (Red Hat 14.2.1-8) To view detailed results, visit: https://lab.dpdk.org/results/dashboard/patchsets/33621/ UNH-IOL DPDK Community Lab To manage your email subscriptions, visit: https://lab.dpdk.org/results/dashboard/preferences/subscriptions/