From: dpdklab@iol.unh.edu
To: Test Report <test-report@dpdk.org>
Cc: dpdk-test-reports@iol.unh.edu
Subject: |SUCCESS| pw155090 [PATCH] examples/ipsec-secgw: fix number of queue
Date: Wed, 09 Jul 2025 09:16:41 -0700 (PDT) [thread overview]
Message-ID: <686e95e9.170a0220.3b94a8.2e1aSMTPIN_ADDED_MISSING@mx.google.com> (raw)
In-Reply-To: <20250709082325.771994-1-vfialko@marvell.com>
Test-Label: iol-abi-testing
Test-Status: SUCCESS
http://dpdk.org/patch/155090
_Testing PASS_
Submitter: Volodymyr Fialko <vfialko@marvell.com>
Date: Wednesday, July 09 2025 08:23:25
DPDK git baseline: Repo:dpdk
Branch: master
CommitID:9b298e79703a1343d388d059f4029813f11ac6ad
155090 --> testing pass
Upstream job id: Generic-DPDK-Compile-ABI#133781
Test environment and result as below:
+-------------------------------+----------+
| Environment | abi_test |
+===============================+==========+
| CentOS Stream 9 | PASS |
+-------------------------------+----------+
| CentOS Stream 10 | PASS |
+-------------------------------+----------+
| Debian GNU/Linux 12 | PASS |
+-------------------------------+----------+
| Fedora Linux 40 | PASS |
+-------------------------------+----------+
| Fedora Linux 41 | PASS |
+-------------------------------+----------+
| openSUSE Leap 15.6 | PASS |
+-------------------------------+----------+
| Red Hat Enterprise Linux 9.5 | PASS |
+-------------------------------+----------+
| Red Hat Enterprise Linux 8.10 | PASS |
+-------------------------------+----------+
| Ubuntu 22.04 | PASS |
+-------------------------------+----------+
| Ubuntu 24.04 | PASS |
+-------------------------------+----------+
CentOS Stream 9
Kernel: 5.15
Compiler: gcc gcc (GCC) 11.5.0 20240719 (Red Hat 11.5.0-7)
CentOS Stream 10
Kernel: 5.15
Compiler: gcc gcc (GCC) 14.2.1 20250110 (Red Hat 14.2.1-8)
Debian GNU/Linux 12
Kernel: 5.15
Compiler: gcc gcc (Debian 12.2.0-14+deb12u1) 12.2.0
Fedora Linux 40
Kernel: 5.15
Compiler: clang gcc (GCC) 14.2.1 20240912 (Red Hat 14.2.1-3)
Fedora Linux 41
Kernel: 5.15
Compiler: clang gcc (GCC) 14.3.1 20250523 (Red Hat 14.3.1-1)
openSUSE Leap 15.6
Kernel: 5.15
Compiler: gcc gcc (SUSE Linux) 7.5.0
Red Hat Enterprise Linux 9.5
Kernel: 5.15
Compiler: gcc gcc (GCC) 11.5.0 20240719 (Red Hat 11.5.0-2)
Red Hat Enterprise Linux 8.10
Kernel: 5.15
Compiler: gcc gcc (GCC) 8.5.0 20210514 (Red Hat 8.5.0-22)
Ubuntu 22.04
Kernel: 5.15
Compiler: gcc gcc (Ubuntu 11.4.0-1ubuntu1~22.04) 11.4.0
Ubuntu 24.04
Kernel: 5.15
Compiler: gcc gcc (Ubuntu 13.3.0-6ubuntu2~24.04) 13.3.0
To view detailed results, visit:
https://lab.dpdk.org/results/dashboard/patchsets/33622/
UNH-IOL DPDK Community Lab
To manage your email subscriptions, visit:
https://lab.dpdk.org/results/dashboard/preferences/subscriptions/
next prev parent reply other threads:[~2025-07-09 16:16 UTC|newest]
Thread overview: 20+ messages / expand[flat|nested] mbox.gz Atom feed top
[not found] <20250709082325.771994-1-vfialko@marvell.com>
2025-07-09 8:15 ` |SUCCESS| pw155090 [PATCH] examples/ipsec-secgw: fix number of queue pairs qemudev
2025-07-09 8:19 ` qemudev
2025-07-09 8:22 ` checkpatch
2025-07-09 9:43 ` 0-day Robot
2025-07-09 13:40 ` |SUCCESS| pw155090 [PATCH] examples/ipsec-secgw: fix number of queue dpdklab
2025-07-09 13:40 ` dpdklab
2025-07-09 13:56 ` dpdklab
2025-07-09 14:01 ` |PENDING| " dpdklab
2025-07-09 14:02 ` |SUCCESS| " dpdklab
2025-07-09 14:25 ` |PENDING| " dpdklab
2025-07-09 14:33 ` dpdklab
2025-07-09 14:44 ` |SUCCESS| " dpdklab
2025-07-09 14:53 ` |PENDING| " dpdklab
2025-07-09 15:33 ` |SUCCESS| " dpdklab
2025-07-09 16:16 ` dpdklab [this message]
2025-07-09 16:17 ` dpdklab
2025-07-09 16:53 ` |WARNING| " dpdklab
2025-07-09 18:12 ` |SUCCESS| " dpdklab
2025-07-09 20:58 ` |WARNING| " dpdklab
2025-07-09 21:52 ` dpdklab
Reply instructions:
You may reply publicly to this message via plain-text email
using any one of the following methods:
* Save the following mbox file, import it into your mail client,
and reply-to-all from there: mbox
Avoid top-posting and favor interleaved quoting:
https://en.wikipedia.org/wiki/Posting_style#Interleaved_style
* Reply using the --to, --cc, and --in-reply-to
switches of git-send-email(1):
git send-email \
--in-reply-to=686e95e9.170a0220.3b94a8.2e1aSMTPIN_ADDED_MISSING@mx.google.com \
--to=dpdklab@iol.unh.edu \
--cc=dpdk-test-reports@iol.unh.edu \
--cc=test-report@dpdk.org \
/path/to/YOUR_REPLY
https://kernel.org/pub/software/scm/git/docs/git-send-email.html
* If your mail client supports setting the In-Reply-To header
via mailto: links, try the mailto: link
Be sure your reply has a Subject: header at the top and a blank line
before the message body.
This is a public inbox, see mirroring instructions
for how to clone and mirror all data and code used for this inbox;
as well as URLs for NNTP newsgroup(s).