From mboxrd@z Thu Jan 1 00:00:00 1970 Return-Path: Received: from mails.dpdk.org (mails.dpdk.org [217.70.189.124]) by inbox.dpdk.org (Postfix) with ESMTP id 27B0746A86 for ; Wed, 9 Jul 2025 18:16:44 +0200 (CEST) Received: from mails.dpdk.org (localhost [127.0.0.1]) by mails.dpdk.org (Postfix) with ESMTP id F31814028C; Wed, 9 Jul 2025 18:16:43 +0200 (CEST) Received: from mail-pl1-f225.google.com (mail-pl1-f225.google.com [209.85.214.225]) by mails.dpdk.org (Postfix) with ESMTP id D21EB4028C for ; Wed, 9 Jul 2025 18:16:42 +0200 (CEST) Received: by mail-pl1-f225.google.com with SMTP id d9443c01a7336-236377f00a1so652325ad.3 for ; Wed, 09 Jul 2025 09:16:42 -0700 (PDT) DKIM-Signature: v=1; a=rsa-sha256; c=relaxed/relaxed; d=iol.unh.edu; s=unh-iol; t=1752077802; x=1752682602; darn=dpdk.org; h=references:in-reply-to:cc:to:from:subject:message-id:date:from:to :cc:subject:date:message-id:reply-to; bh=UKwxfJvzD24SmEmippOOdgET+KhpiYLJ0Dly00SDPoM=; b=DsfKJq5bHtBynfZZb1s9qqEcWO0sTcXucpqke/kPGi459NMkMBLKRy1JpL2emeijIi Qsrs1hwaNR1g/QMLqrAALHevkF+gJN/KfHs78cdqM9t+vwqE38nXV/45prDzbKSjbHl0 rO+3m+k/76ddJvtDhu0UO5Pq0UTAku0ZLWUOk= X-Google-DKIM-Signature: v=1; a=rsa-sha256; c=relaxed/relaxed; d=1e100.net; s=20230601; t=1752077802; x=1752682602; h=references:in-reply-to:cc:to:from:subject:message-id:date :x-gm-message-state:from:to:cc:subject:date:message-id:reply-to; bh=UKwxfJvzD24SmEmippOOdgET+KhpiYLJ0Dly00SDPoM=; b=QogxxdiIYENX1oJnlLujDNevonNbs7aBJ+UJQ0ckV4V6/EfwLIyOYspPsJH4AC/Dob amSZJ1d8pcqWQM2xzq0aMP3FZz5PINEmL06GSF/MVWu7ejvZY1v0TFX/rpv76N/fkCAV BG9ayKJFmWFFZodoyXw1Jmst024ZP5bUGu36TfmuO75sQ8qj2PAcDURJpK3ZaNPQsI6A V0tdyT/jhU5Xed2TbKzMMtiJEAjgfSb0MHJ6+4LTn6ZlkDJuZpVHSU6h8GxQjhVxeQtn L3XVdis9Dc4NFbHk0YUxnhIXch/vU7FFakyhsfeNB2ULySoGtOFHqcoGuKCgB+BNRUSV JN6A== X-Gm-Message-State: AOJu0YybT3NNi91JrVySns/FtJARnbjW0x1GuB94I4K9lGglqD1c8vo2 eO/RaDIcVppg/2wl95lY0+NAPyu5u4q7MvM/PKp52ktS6K8UKHNTJg6Ns02mV5Qt761RjePwJOU mI7YnA1nyEyGOZAnF6duQ/Dg7OwmN6x0sLYtvkFpWHhji X-Gm-Gg: ASbGnctl8Ls3NOeyxVRNkeWzvKeoNw4fjKgvLZhFPt0JTx8rokEtBBp3fWMtdyE0yt9 KKVaASBBwYdyelKova+I0jGDYZ93/RWO4R2Kxf8chHC7tbEFDGka4sXA3vCc8ce53cdYlhoTQyz Jhky/A3x55KlCVZjgDk1rjcBu/bLT+33J0tviQducMwJ/V4L61tImJUfHRAJQSRl6njGxfxL4z9 YhT/VSuF0O/Dv8GWHPpaqADSSZEH+mDkdJat9I+3IoofC21dbLzlDgyscgV03c+Dqnf3UHPoIEs gjFfOV+Xy1wKFBfV8xiGT3ofc8qurwVZAy9tz6pLb+bYAmkVtOcUC0M7yFknKJQtXe7bZw== X-Google-Smtp-Source: AGHT+IFdU6T9IJ4K2ctc8NNzW+dCaJ1XzO9mIJ5mEarktcO2bAb1bN7I8JMIzFw7LRFzwdqbpkiK85Alu3ja X-Received: by 2002:a17:902:e743:b0:234:e8db:431d with SMTP id d9443c01a7336-23ddb1bba75mr36043125ad.20.1752077801663; Wed, 09 Jul 2025 09:16:41 -0700 (PDT) Received: from postal.iol.unh.edu (postal.iol.unh.edu. [132.177.123.84]) by smtp-relay.gmail.com with ESMTPS id d9443c01a7336-23c842d126bsm6634285ad.47.2025.07.09.09.16.41 (version=TLS1_2 cipher=ECDHE-ECDSA-AES128-GCM-SHA256 bits=128/128); Wed, 09 Jul 2025 09:16:41 -0700 (PDT) X-Relaying-Domain: iol.unh.edu Date: Wed, 09 Jul 2025 09:16:41 -0700 (PDT) Message-ID: <686e95e9.170a0220.3b94a8.2e1aSMTPIN_ADDED_MISSING@mx.google.com> Received: from [172.21.0.5] (unknown [172.18.0.240]) by postal.iol.unh.edu (Postfix) with ESMTP id 2799C604D420; Wed, 9 Jul 2025 12:16:41 -0400 (EDT) Subject: |SUCCESS| pw155090 [PATCH] examples/ipsec-secgw: fix number of queue From: dpdklab@iol.unh.edu To: Test Report Cc: dpdk-test-reports@iol.unh.edu In-Reply-To: <20250709082325.771994-1-vfialko@marvell.com> References: <20250709082325.771994-1-vfialko@marvell.com> Content-Type: text/plain X-BeenThere: test-report@dpdk.org X-Mailman-Version: 2.1.29 Precedence: list List-Id: automatic DPDK test reports List-Unsubscribe: , List-Archive: List-Post: List-Help: List-Subscribe: , Errors-To: test-report-bounces@dpdk.org Test-Label: iol-abi-testing Test-Status: SUCCESS http://dpdk.org/patch/155090 _Testing PASS_ Submitter: Volodymyr Fialko Date: Wednesday, July 09 2025 08:23:25 DPDK git baseline: Repo:dpdk Branch: master CommitID:9b298e79703a1343d388d059f4029813f11ac6ad 155090 --> testing pass Upstream job id: Generic-DPDK-Compile-ABI#133781 Test environment and result as below: +-------------------------------+----------+ | Environment | abi_test | +===============================+==========+ | CentOS Stream 9 | PASS | +-------------------------------+----------+ | CentOS Stream 10 | PASS | +-------------------------------+----------+ | Debian GNU/Linux 12 | PASS | +-------------------------------+----------+ | Fedora Linux 40 | PASS | +-------------------------------+----------+ | Fedora Linux 41 | PASS | +-------------------------------+----------+ | openSUSE Leap 15.6 | PASS | +-------------------------------+----------+ | Red Hat Enterprise Linux 9.5 | PASS | +-------------------------------+----------+ | Red Hat Enterprise Linux 8.10 | PASS | +-------------------------------+----------+ | Ubuntu 22.04 | PASS | +-------------------------------+----------+ | Ubuntu 24.04 | PASS | +-------------------------------+----------+ CentOS Stream 9 Kernel: 5.15 Compiler: gcc gcc (GCC) 11.5.0 20240719 (Red Hat 11.5.0-7) CentOS Stream 10 Kernel: 5.15 Compiler: gcc gcc (GCC) 14.2.1 20250110 (Red Hat 14.2.1-8) Debian GNU/Linux 12 Kernel: 5.15 Compiler: gcc gcc (Debian 12.2.0-14+deb12u1) 12.2.0 Fedora Linux 40 Kernel: 5.15 Compiler: clang gcc (GCC) 14.2.1 20240912 (Red Hat 14.2.1-3) Fedora Linux 41 Kernel: 5.15 Compiler: clang gcc (GCC) 14.3.1 20250523 (Red Hat 14.3.1-1) openSUSE Leap 15.6 Kernel: 5.15 Compiler: gcc gcc (SUSE Linux) 7.5.0 Red Hat Enterprise Linux 9.5 Kernel: 5.15 Compiler: gcc gcc (GCC) 11.5.0 20240719 (Red Hat 11.5.0-2) Red Hat Enterprise Linux 8.10 Kernel: 5.15 Compiler: gcc gcc (GCC) 8.5.0 20210514 (Red Hat 8.5.0-22) Ubuntu 22.04 Kernel: 5.15 Compiler: gcc gcc (Ubuntu 11.4.0-1ubuntu1~22.04) 11.4.0 Ubuntu 24.04 Kernel: 5.15 Compiler: gcc gcc (Ubuntu 13.3.0-6ubuntu2~24.04) 13.3.0 To view detailed results, visit: https://lab.dpdk.org/results/dashboard/patchsets/33622/ UNH-IOL DPDK Community Lab To manage your email subscriptions, visit: https://lab.dpdk.org/results/dashboard/preferences/subscriptions/