From mboxrd@z Thu Jan 1 00:00:00 1970 Return-Path: Received: from mails.dpdk.org (mails.dpdk.org [217.70.189.124]) by inbox.dpdk.org (Postfix) with ESMTP id 28F5046A86 for ; Wed, 9 Jul 2025 18:17:41 +0200 (CEST) Received: from mails.dpdk.org (localhost [127.0.0.1]) by mails.dpdk.org (Postfix) with ESMTP id 2587B4028C; Wed, 9 Jul 2025 18:17:41 +0200 (CEST) Received: from mail-oo1-f97.google.com (mail-oo1-f97.google.com [209.85.161.97]) by mails.dpdk.org (Postfix) with ESMTP id 115AE4028C for ; Wed, 9 Jul 2025 18:17:40 +0200 (CEST) Received: by mail-oo1-f97.google.com with SMTP id 006d021491bc7-6118b000506so30630eaf.0 for ; Wed, 09 Jul 2025 09:17:40 -0700 (PDT) DKIM-Signature: v=1; a=rsa-sha256; c=relaxed/relaxed; d=iol.unh.edu; s=unh-iol; t=1752077859; x=1752682659; darn=dpdk.org; h=references:in-reply-to:cc:to:from:subject:message-id:date:from:to :cc:subject:date:message-id:reply-to; bh=TUKK2NPQQ/WeR3mvINA9mVJDW8bgRKUVW+A0e+UXP8U=; b=QzYAcFJ4T+DSX/+1uPNTvc/b8TsbHsAiyxrrETEz+qUhI97bwf0BxjVEZjwzEjaci3 UnBfNdZbzUrxW5h9sKMdYRf4eQr2SqRsZLofS55Aq3Mj71D00mQgXwdZ8xjV5rehRJ5/ LPuZFlnDW9F5ReFHWWjuhWsOobZ9jFj9IVUyQ= X-Google-DKIM-Signature: v=1; a=rsa-sha256; c=relaxed/relaxed; d=1e100.net; s=20230601; t=1752077859; x=1752682659; h=references:in-reply-to:cc:to:from:subject:message-id:date :x-gm-message-state:from:to:cc:subject:date:message-id:reply-to; bh=TUKK2NPQQ/WeR3mvINA9mVJDW8bgRKUVW+A0e+UXP8U=; b=eZnGi+biT9F4ukQdkX5dmgunAlb0At/TAtaXViB+n6lQajbQbvR4FFzboekIB297Gk Pa31XpHEzKvke302kXJS7MaA59C0MAP16TvoXsY2q1LhmiJ4R2VIcqM6T6RxZpZlKkCu CoemAVFYWQ9BNINQYpSTQ4amoTdKcKc6zcQC4ts0GzMdPfk8d4F/7xQNB6U/zb8ETv3s utUVYntvmojFUP3YVrUzVEvwPWC4+mNs/ThdbRoRI2UMQvq9NgCB5eddhEsiKNUnaa5E /EaB7NO2d8yOvsge0vtA8gWKrvo3i+qzKMHMkGXV9ClqqTBF9d5bkoDDGfzd5HeH8aYD g87Q== X-Gm-Message-State: AOJu0YxCgwRb+qBM4n5qq/7K4s8e3PXDV4doKo1X6IUS3KIcEdwPCOvk EE9e7z0RSxHCeKrKkXmKZ7KniKV45fcF5at2VByRX1Nl3zK30OcWoFbHAi+dVDT/W570tGVI0Fv +dInmILnqhiWhSWkXmqp8kj6ukrz9prsusdhOgPTcMLhR X-Gm-Gg: ASbGncscHnTArPrsanwFRcCBuAoZnzOLlDZCYiZkvBoEpxJWkYUaQ/4Y44ZmyKi8bNZ NxSMQZdJnl/UBJrGgapcfV9dzIEV5nNN/x+WVeTxPVQ0QWPKwIEP4llihyMjIxxLW88Z3iTzhoG QUgW7gnMxefp0WTI0mpD8qfcQJTqbzvok1UZIWqz6JAjnaJGkF7LNjLZmwgRPe440cZVlhQt8C3 Z3cLBti9nyPNILrQFtvQ44AOQlPEDI3EhzkZoTHCt9B8iYicV1e91XUi4UebKyZoAqaG0mkyF2j mxnJemBPaiBlm+E+LtViMnkUUevVJssoV1oRz1bV6R237yUCJ+t90VLYFsBXNo0qqOe3XA== X-Google-Smtp-Source: AGHT+IH4eEoCCqhwm5tgiM+eQJZXOUgdvEjJxAZ9S4RrMu2b1S627v/cBOG8bUS/PBqPdrRpweAH55DZqel3 X-Received: by 2002:a05:6870:418e:b0:2c1:bc87:9bc0 with SMTP id 586e51a60fabf-2ff0b6ed0f2mr210353fac.15.1752077858984; Wed, 09 Jul 2025 09:17:38 -0700 (PDT) Received: from postal.iol.unh.edu (postal.iol.unh.edu. [132.177.123.84]) by smtp-relay.gmail.com with ESMTPS id 586e51a60fabf-2f790127883sm807683fac.35.2025.07.09.09.17.38 (version=TLS1_2 cipher=ECDHE-ECDSA-AES128-GCM-SHA256 bits=128/128); Wed, 09 Jul 2025 09:17:38 -0700 (PDT) X-Relaying-Domain: iol.unh.edu Date: Wed, 09 Jul 2025 09:17:38 -0700 (PDT) Message-ID: <686e9622.050a0220.a728a.c7e5SMTPIN_ADDED_MISSING@mx.google.com> Received: from [172.21.0.7] (unknown [172.18.0.240]) by postal.iol.unh.edu (Postfix) with ESMTP id 9C522604D420; Wed, 9 Jul 2025 12:17:38 -0400 (EDT) Subject: |SUCCESS| pw155106 [PATCH] net/mlx5: fix panic for non template age From: dpdklab@iol.unh.edu To: Test Report Cc: dpdk-test-reports@iol.unh.edu In-Reply-To: <20250709102508.229287-1-mkashani@nvidia.com> References: <20250709102508.229287-1-mkashani@nvidia.com> Content-Type: text/plain X-BeenThere: test-report@dpdk.org X-Mailman-Version: 2.1.29 Precedence: list List-Id: automatic DPDK test reports List-Unsubscribe: , List-Archive: List-Post: List-Help: List-Subscribe: , Errors-To: test-report-bounces@dpdk.org Test-Label: iol-abi-testing Test-Status: SUCCESS http://dpdk.org/patch/155106 _Testing PASS_ Submitter: Maayan Kashani Date: Wednesday, July 09 2025 10:25:07 DPDK git baseline: Repo:dpdk Branch: master CommitID:6d828a3e774829165137aa2713e3040edd7f46bf 155106 --> testing pass Upstream job id: Generic-DPDK-Compile-ABI#133800 Test environment and result as below: +-------------------------------+----------+ | Environment | abi_test | +===============================+==========+ | CentOS Stream 9 | PASS | +-------------------------------+----------+ | CentOS Stream 10 | PASS | +-------------------------------+----------+ | Debian GNU/Linux 12 | PASS | +-------------------------------+----------+ | Fedora Linux 41 | PASS | +-------------------------------+----------+ | Fedora Linux 40 | PASS | +-------------------------------+----------+ | openSUSE Leap 15.6 | PASS | +-------------------------------+----------+ | Red Hat Enterprise Linux 8.10 | PASS | +-------------------------------+----------+ | Red Hat Enterprise Linux 9.5 | PASS | +-------------------------------+----------+ | Ubuntu 22.04 | PASS | +-------------------------------+----------+ | Ubuntu 24.04 | PASS | +-------------------------------+----------+ CentOS Stream 9 Kernel: 5.15 Compiler: gcc gcc (GCC) 11.5.0 20240719 (Red Hat 11.5.0-7) CentOS Stream 10 Kernel: 5.15 Compiler: gcc gcc (GCC) 14.2.1 20250110 (Red Hat 14.2.1-8) Debian GNU/Linux 12 Kernel: 5.15 Compiler: gcc gcc (Debian 12.2.0-14+deb12u1) 12.2.0 Fedora Linux 41 Kernel: 5.15 Compiler: clang gcc (GCC) 14.3.1 20250523 (Red Hat 14.3.1-1) Fedora Linux 40 Kernel: 5.15 Compiler: clang gcc (GCC) 14.2.1 20240912 (Red Hat 14.2.1-3) openSUSE Leap 15.6 Kernel: 5.15 Compiler: gcc gcc (SUSE Linux) 7.5.0 Red Hat Enterprise Linux 8.10 Kernel: 5.15 Compiler: gcc gcc (GCC) 8.5.0 20210514 (Red Hat 8.5.0-22) Red Hat Enterprise Linux 9.5 Kernel: 5.15 Compiler: gcc gcc (GCC) 11.5.0 20240719 (Red Hat 11.5.0-2) Ubuntu 22.04 Kernel: 5.15 Compiler: gcc gcc (Ubuntu 11.4.0-1ubuntu1~22.04) 11.4.0 Ubuntu 24.04 Kernel: 5.15 Compiler: gcc gcc (Ubuntu 13.3.0-6ubuntu2~24.04) 13.3.0 To view detailed results, visit: https://lab.dpdk.org/results/dashboard/patchsets/33625/ UNH-IOL DPDK Community Lab To manage your email subscriptions, visit: https://lab.dpdk.org/results/dashboard/preferences/subscriptions/