From mboxrd@z Thu Jan 1 00:00:00 1970 Return-Path: Received: from mails.dpdk.org (mails.dpdk.org [217.70.189.124]) by inbox.dpdk.org (Postfix) with ESMTP id 38D0746A86 for ; Wed, 9 Jul 2025 18:17:43 +0200 (CEST) Received: from mails.dpdk.org (localhost [127.0.0.1]) by mails.dpdk.org (Postfix) with ESMTP id 303EF4028C; Wed, 9 Jul 2025 18:17:43 +0200 (CEST) Received: from mail-oi1-f226.google.com (mail-oi1-f226.google.com [209.85.167.226]) by mails.dpdk.org (Postfix) with ESMTP id 305F040B8D for ; Wed, 9 Jul 2025 18:17:41 +0200 (CEST) Received: by mail-oi1-f226.google.com with SMTP id 5614622812f47-40a4de175a3so67551b6e.0 for ; Wed, 09 Jul 2025 09:17:41 -0700 (PDT) DKIM-Signature: v=1; a=rsa-sha256; c=relaxed/relaxed; d=iol.unh.edu; s=unh-iol; t=1752077860; x=1752682660; darn=dpdk.org; h=references:in-reply-to:cc:to:from:subject:message-id:date:from:to :cc:subject:date:message-id:reply-to; bh=A646D0kQsbR/cKjJAcRwffIT4DXjTM9mN4l8kkp3dpU=; b=Yn74Q1dWDnBObLhzN1++aTDd1RipGIw4cpLYVHkecNFevWlCcW3lyqZATZ4cR4qXxD Um5OUuvMgFdaYZDot2tdtqDInVTGfoU0X5tynuhSvsEX20nOfy+aS6OT+CFzJE3XyZG/ 9cinU0fKoB2iqtZTME8sSgYuZ17vBYwglHtgE= X-Google-DKIM-Signature: v=1; a=rsa-sha256; c=relaxed/relaxed; d=1e100.net; s=20230601; t=1752077860; x=1752682660; h=references:in-reply-to:cc:to:from:subject:message-id:date :x-gm-message-state:from:to:cc:subject:date:message-id:reply-to; bh=A646D0kQsbR/cKjJAcRwffIT4DXjTM9mN4l8kkp3dpU=; b=qwj48B0S7sYowgztC0PBfeLUBa4xPg/4Gayz/hmjl4IMRsOaGZSRtcrfJ0jrGjYySd Pn92Xl6wszPAfR3JDTT9izhooPVDh3lClAfTziDc5sSdLTg1UTNKpodafnBtL8IM3+TP 0JO9anjM1BLpatCmB947KEW7UN/yb0da+wAJVY1J8pkPy5i+mIDmfkYnbi+V8bOPCEZO r4f9QocF0uJR7GxiGbb5b9TelHnCPuiVIH2kh+g+59aTEbtkNK+Mc9Y5SuzxVyERV3O8 HMKJ+xcxZrEqPQOtk9fahAnvawNAYDQUCXgcLEqhTk5fYAxhZWzwuH0nHrw9JKfN9B3f 0ZaQ== X-Gm-Message-State: AOJu0YzDoYeCModoOPD7XsV2+bZEXIiwi4qZOPsFXF3J7LnyQOBbTbir k6B4KFqyi2xYajVJtOmguifcCec8xhax6EvgR8OjH0zebjMxul2GJDtPzXTd74L45i8wOaTVM85 zoyxF/i0uaB8ejpNd32C5bO+kMqcj/MVnR90iATxQm5BN X-Gm-Gg: ASbGncvq607clzkS8m0F0wN70HpRQK+Js+/vslRSvvFQKlMLdQwppCvXwFCzBa9zVsn rb2evnnS489x5eWGZy8l3W31OxMMSue9KElR0uOsNxqs0uB36gf6HlUHyFgRsnTl1lx87ZU/Odk R5qB8TFjshI4g3hXLmj1iB3ySjLYV+1PgZN1Iu7WtXMbwry2IglE+zFfeiVAlWYBr6zZjvSFxNt v9OQkC48GQlispJi1uOxSX80kkiwS2ds1nPcin9V1VD0FvjCK3rIqnHx2zymsibeiTjgzgkFnxg 09U8Q3ardCJqsD5M0V7Wvm4raT0/395WWeADNn5mcfi6aMYtD2HKR/l2RIOZ+Qd4E9Tuog== X-Google-Smtp-Source: AGHT+IEZpZ9owW/fcnGTmjv3c/MekntILdJalLOTbL3vhb094hd4RNrGU6v+wR57IAXx3ZwZtLWyQqBnEX/M X-Received: by 2002:a05:6808:1641:b0:40a:525d:6220 with SMTP id 5614622812f47-413adad6731mr400547b6e.22.1752077860469; Wed, 09 Jul 2025 09:17:40 -0700 (PDT) Received: from postal.iol.unh.edu (postal.iol.unh.edu. [132.177.123.84]) by smtp-relay.gmail.com with ESMTPS id 006d021491bc7-6138e4b1c4bsm507308eaf.10.2025.07.09.09.17.40 (version=TLS1_2 cipher=ECDHE-ECDSA-AES128-GCM-SHA256 bits=128/128); Wed, 09 Jul 2025 09:17:40 -0700 (PDT) X-Relaying-Domain: iol.unh.edu Date: Wed, 09 Jul 2025 09:17:40 -0700 (PDT) Message-ID: <686e9624.050a0220.1f4631.a9a1SMTPIN_ADDED_MISSING@mx.google.com> Received: from [172.21.0.8] (unknown [172.18.0.240]) by postal.iol.unh.edu (Postfix) with ESMTP id EEFF7604D420; Wed, 9 Jul 2025 12:17:39 -0400 (EDT) Subject: |SUCCESS| pw155090 [PATCH] examples/ipsec-secgw: fix number of queue From: dpdklab@iol.unh.edu To: Test Report Cc: dpdk-test-reports@iol.unh.edu In-Reply-To: <20250709082325.771994-1-vfialko@marvell.com> References: <20250709082325.771994-1-vfialko@marvell.com> Content-Type: text/plain X-BeenThere: test-report@dpdk.org X-Mailman-Version: 2.1.29 Precedence: list List-Id: automatic DPDK test reports List-Unsubscribe: , List-Archive: List-Post: List-Help: List-Subscribe: , Errors-To: test-report-bounces@dpdk.org Test-Label: iol-abi-testing Test-Status: SUCCESS http://dpdk.org/patch/155090 _Testing PASS_ Submitter: Volodymyr Fialko Date: Wednesday, July 09 2025 08:23:25 DPDK git baseline: Repo:dpdk Branch: master CommitID:9b298e79703a1343d388d059f4029813f11ac6ad 155090 --> testing pass Upstream job id: Generic-DPDK-Compile-ABI#133782 Test environment and result as below: +-------------------------------+----------+ | Environment | abi_test | +===============================+==========+ | CentOS Stream 9 | PASS | +-------------------------------+----------+ | CentOS Stream 10 | PASS | +-------------------------------+----------+ | Debian GNU/Linux 12 | PASS | +-------------------------------+----------+ | Fedora Linux 40 | PASS | +-------------------------------+----------+ | Fedora Linux 41 | PASS | +-------------------------------+----------+ | openSUSE Leap 15.6 | PASS | +-------------------------------+----------+ | Red Hat Enterprise Linux 9.5 | PASS | +-------------------------------+----------+ | Red Hat Enterprise Linux 8.10 | PASS | +-------------------------------+----------+ | Ubuntu 22.04 | PASS | +-------------------------------+----------+ | Ubuntu 24.04 | PASS | +-------------------------------+----------+ CentOS Stream 9 Kernel: 5.15 Compiler: gcc gcc (GCC) 11.5.0 20240719 (Red Hat 11.5.0-7) CentOS Stream 10 Kernel: 5.15 Compiler: gcc gcc (GCC) 14.2.1 20250110 (Red Hat 14.2.1-8) Debian GNU/Linux 12 Kernel: 5.15 Compiler: gcc gcc (Debian 12.2.0-14+deb12u1) 12.2.0 Fedora Linux 40 Kernel: 5.15 Compiler: clang gcc (GCC) 14.2.1 20240912 (Red Hat 14.2.1-3) Fedora Linux 41 Kernel: 5.15 Compiler: clang gcc (GCC) 14.3.1 20250523 (Red Hat 14.3.1-1) openSUSE Leap 15.6 Kernel: 5.15 Compiler: gcc gcc (SUSE Linux) 7.5.0 Red Hat Enterprise Linux 9.5 Kernel: 5.15 Compiler: gcc gcc (GCC) 11.5.0 20240719 (Red Hat 11.5.0-2) Red Hat Enterprise Linux 8.10 Kernel: 5.15 Compiler: gcc gcc (GCC) 8.5.0 20210514 (Red Hat 8.5.0-22) Ubuntu 22.04 Kernel: 5.15 Compiler: gcc gcc (Ubuntu 11.4.0-1ubuntu1~22.04) 11.4.0 Ubuntu 24.04 Kernel: 5.15 Compiler: gcc gcc (Ubuntu 13.3.0-6ubuntu2~24.04) 13.3.0 To view detailed results, visit: https://lab.dpdk.org/results/dashboard/patchsets/33622/ UNH-IOL DPDK Community Lab To manage your email subscriptions, visit: https://lab.dpdk.org/results/dashboard/preferences/subscriptions/