From mboxrd@z Thu Jan 1 00:00:00 1970 Return-Path: Received: from mails.dpdk.org (mails.dpdk.org [217.70.189.124]) by inbox.dpdk.org (Postfix) with ESMTP id 410A146A86 for ; Wed, 9 Jul 2025 18:17:46 +0200 (CEST) Received: from mails.dpdk.org (localhost [127.0.0.1]) by mails.dpdk.org (Postfix) with ESMTP id 3D6374028C; Wed, 9 Jul 2025 18:17:46 +0200 (CEST) Received: from mail-qk1-f228.google.com (mail-qk1-f228.google.com [209.85.222.228]) by mails.dpdk.org (Postfix) with ESMTP id 2D3544028C for ; Wed, 9 Jul 2025 18:17:45 +0200 (CEST) Received: by mail-qk1-f228.google.com with SMTP id af79cd13be357-7d5bf3300e0so5417985a.0 for ; Wed, 09 Jul 2025 09:17:45 -0700 (PDT) DKIM-Signature: v=1; a=rsa-sha256; c=relaxed/relaxed; d=iol.unh.edu; s=unh-iol; t=1752077864; x=1752682664; darn=dpdk.org; h=references:in-reply-to:cc:to:from:subject:message-id:date:from:to :cc:subject:date:message-id:reply-to; bh=2NJNinATEyARv05yoL8ycTfROewLpPExqZvzST8BYUg=; b=Mam0tnc4RPySZScoPtg0NPKArH9SkHOAoVARRqJJgFis9FuCE+f2DeJtrJAOEgyQcR OUsN1NGj+hyKHoRNVZqH9udDPDd/5VPZJpbi59lpz1q/J8JTR7T22EHqsN9f48GpNh+/ 2K79eGIVg6S405wA7Xet5XdPq2PZvbqTV1YXg= X-Google-DKIM-Signature: v=1; a=rsa-sha256; c=relaxed/relaxed; d=1e100.net; s=20230601; t=1752077864; x=1752682664; h=references:in-reply-to:cc:to:from:subject:message-id:date :x-gm-message-state:from:to:cc:subject:date:message-id:reply-to; bh=2NJNinATEyARv05yoL8ycTfROewLpPExqZvzST8BYUg=; b=KEa1oOreSbDrs6xC049HyVDUkFZhiJwYpLDuDRqWYAc3RFfbHz0OjdK/t09+4itEMA 3Bny+fRrCXVrT3vPDyXrm1ief1RuxrYFeKBYf6s1rjSFj0JgsKX6H6U6zNIriIo9hfNB DrDdbZVgclx2w+phP4iIJSvW605q0vF8kvYF+prNt/o3Dz6r6S13pzej3u1bxcNFFzYM wRCvQVC5o/2FLIqlD9BbOftyAz3Q5Oi7DWkjdg+rfwiZuD2/zBW2OLJAZUK94cpdbW+3 rpmL0vdsP4zgG99Wcy5vrPMadjJ01D+riWEjHQWiBPbsob8prF5GXsnUtYn7kbKVdyM2 /Lkw== X-Gm-Message-State: AOJu0Ywiog0/IrC+MwwsajyBa8QDZ39RTUPwMQckrp1Phz4aG+5bTili K8PNea/D6JryCPdaJFxcPYBu7ZOQwhdg1TLNvq0gR2bwALye3KqVlWo8Tj5Eb1t9OXcyBHfUPwi zseCnaF9YspDBgmCkuWxIMH8eqh7FO1szfoDBFIR4NJQm X-Gm-Gg: ASbGnctDtbVlP+Sz4XNhbRKmpOFiEEWZyg6FJnSDTGEnUh81ajH8Yraai9AkI2xkbum 2OQNttqiRO8SwwnGnSsK7rfeTCjRwzsiar6W4K/cweTe2dNBHCu7MaWOUwWpWGYZnK+WMDCG90P hX2TiYtoepITUsGml+7DfVsRUIsl44TdeMuyoRR8J++k3XhN6cYhQF9qsjXHYmq65prAccGdx3y 9PhKTwbvK8SNs6VOX3cyIUBIiEHHAl7QHtsQoHOMCfA7cZlZLrtDYpEm1ZdW0m+joHubD2LWbET v7clFzqao+9a4WfQhSqo7/bc/ARYBfl0z6CTNSOglTSxtIie/yv9pSxjJogkpOVPH5t7Ww== X-Google-Smtp-Source: AGHT+IFqQyhMvLq+0Ry65xdGtoBtM7gjyYTBC9oIHyg/eHA+9UvDbLdC9wi7/xBYgSIAbhmCZrOXk2mw1IYT X-Received: by 2002:a05:620a:3949:b0:7c5:5fa0:4617 with SMTP id af79cd13be357-7dc94b6f0e6mr18852185a.40.1752077864212; Wed, 09 Jul 2025 09:17:44 -0700 (PDT) Received: from postal.iol.unh.edu (postal.iol.unh.edu. [132.177.123.84]) by smtp-relay.gmail.com with ESMTPS id af79cd13be357-7d5dbcf1930sm23550485a.0.2025.07.09.09.17.44 (version=TLS1_2 cipher=ECDHE-ECDSA-AES128-GCM-SHA256 bits=128/128); Wed, 09 Jul 2025 09:17:44 -0700 (PDT) X-Relaying-Domain: iol.unh.edu Date: Wed, 09 Jul 2025 09:17:44 -0700 (PDT) Message-ID: <686e9628.050a0220.e58a0.c0aaSMTPIN_ADDED_MISSING@mx.google.com> Received: from [172.21.0.10] (unknown [172.18.0.240]) by postal.iol.unh.edu (Postfix) with ESMTP id E883D604D420; Wed, 9 Jul 2025 12:17:43 -0400 (EDT) Subject: |SUCCESS| pw155086 [PATCH] net/mlx5: fix the queue length checking From: dpdklab@iol.unh.edu To: Test Report Cc: dpdk-test-reports@iol.unh.edu In-Reply-To: <20250709040000.112338-1-bingz@nvidia.com> References: <20250709040000.112338-1-bingz@nvidia.com> Content-Type: text/plain X-BeenThere: test-report@dpdk.org X-Mailman-Version: 2.1.29 Precedence: list List-Id: automatic DPDK test reports List-Unsubscribe: , List-Archive: List-Post: List-Help: List-Subscribe: , Errors-To: test-report-bounces@dpdk.org Test-Label: iol-abi-testing Test-Status: SUCCESS http://dpdk.org/patch/155086 _Testing PASS_ Submitter: Bing Zhao Date: Wednesday, July 09 2025 04:00:00 DPDK git baseline: Repo:dpdk Branch: master CommitID:e2888614268cbf0abcc7cd72ad97ff4e4901d0a5 155086 --> testing pass Upstream job id: Generic-DPDK-Compile-ABI#133807 Test environment and result as below: +-------------------------------+----------+ | Environment | abi_test | +===============================+==========+ | CentOS Stream 10 | PASS | +-------------------------------+----------+ | Fedora Linux 40 | PASS | +-------------------------------+----------+ | Fedora Linux 41 | PASS | +-------------------------------+----------+ | CentOS Stream 9 | PASS | +-------------------------------+----------+ | Debian GNU/Linux 12 | PASS | +-------------------------------+----------+ | Red Hat Enterprise Linux 8.10 | PASS | +-------------------------------+----------+ | openSUSE Leap 15.6 | PASS | +-------------------------------+----------+ | Red Hat Enterprise Linux 9.5 | PASS | +-------------------------------+----------+ | Ubuntu 22.04 | PASS | +-------------------------------+----------+ | Ubuntu 24.04 | PASS | +-------------------------------+----------+ CentOS Stream 10 Kernel: 5.15 Compiler: gcc gcc (GCC) 14.2.1 20250110 (Red Hat 14.2.1-8) Fedora Linux 40 Kernel: 5.15 Compiler: clang gcc (GCC) 14.2.1 20240912 (Red Hat 14.2.1-3) Fedora Linux 41 Kernel: 5.15 Compiler: clang gcc (GCC) 14.3.1 20250523 (Red Hat 14.3.1-1) CentOS Stream 9 Kernel: 5.15 Compiler: gcc gcc (GCC) 11.5.0 20240719 (Red Hat 11.5.0-7) Debian GNU/Linux 12 Kernel: 5.15 Compiler: gcc gcc (Debian 12.2.0-14+deb12u1) 12.2.0 Red Hat Enterprise Linux 8.10 Kernel: 5.15 Compiler: gcc gcc (GCC) 8.5.0 20210514 (Red Hat 8.5.0-22) openSUSE Leap 15.6 Kernel: 5.15 Compiler: gcc gcc (SUSE Linux) 7.5.0 Red Hat Enterprise Linux 9.5 Kernel: 5.15 Compiler: gcc gcc (GCC) 11.5.0 20240719 (Red Hat 11.5.0-2) Ubuntu 22.04 Kernel: 5.15 Compiler: gcc gcc (Ubuntu 11.4.0-1ubuntu1~22.04) 11.4.0 Ubuntu 24.04 Kernel: 5.15 Compiler: gcc gcc (Ubuntu 13.3.0-6ubuntu2~24.04) 13.3.0 To view detailed results, visit: https://lab.dpdk.org/results/dashboard/patchsets/33619/ UNH-IOL DPDK Community Lab To manage your email subscriptions, visit: https://lab.dpdk.org/results/dashboard/preferences/subscriptions/