From mboxrd@z Thu Jan 1 00:00:00 1970 Return-Path: Received: from mails.dpdk.org (mails.dpdk.org [217.70.189.124]) by inbox.dpdk.org (Postfix) with ESMTP id 710B446A86 for ; Wed, 9 Jul 2025 18:28:57 +0200 (CEST) Received: from mails.dpdk.org (localhost [127.0.0.1]) by mails.dpdk.org (Postfix) with ESMTP id 6C9D54028C; Wed, 9 Jul 2025 18:28:57 +0200 (CEST) Received: from mail-io1-f99.google.com (mail-io1-f99.google.com [209.85.166.99]) by mails.dpdk.org (Postfix) with ESMTP id F31024028C for ; Wed, 9 Jul 2025 18:28:55 +0200 (CEST) Received: by mail-io1-f99.google.com with SMTP id ca18e2360f4ac-86cfc1b6dcaso5404839f.0 for ; Wed, 09 Jul 2025 09:28:55 -0700 (PDT) DKIM-Signature: v=1; a=rsa-sha256; c=relaxed/relaxed; d=iol.unh.edu; s=unh-iol; t=1752078535; x=1752683335; darn=dpdk.org; h=references:in-reply-to:cc:to:from:subject:message-id:date:from:to :cc:subject:date:message-id:reply-to; bh=smQUsMEfI3RD5tQThAyKDJxkT9yUs7mPoohrDo1s7HE=; b=Ty0HaRJKxqvFJ2BVRw7ylQ9wC/qgBcym91EwsJVSIlLjlLirru81cfSPxWq8zMOsBC j4vAapGvgBsCwzYqloaXyLn7APhziQ1bWwHkKAr59MR9ujyO0tLjaNWuJ0Dme/BDsoUO Rb1EAm2x3UDbmgRkPiSvM2bB2rd476GwPGYy0= X-Google-DKIM-Signature: v=1; a=rsa-sha256; c=relaxed/relaxed; d=1e100.net; s=20230601; t=1752078535; x=1752683335; h=references:in-reply-to:cc:to:from:subject:message-id:date :x-gm-message-state:from:to:cc:subject:date:message-id:reply-to; bh=smQUsMEfI3RD5tQThAyKDJxkT9yUs7mPoohrDo1s7HE=; b=oRuxYbQyAGwoBLZ5uID/Ug9xiSi6mAFqU6dROQaYWxynx2BI5czVCCDNPxO8QNWKXC oCi0laLqsesprmcoIfc8J99UGmPwMYf8MMXi0mKaSwFrmKLnkmeunQX6D9qzGVVIylV9 BInkf/FM72arVSJpm90jF9xCIBTNLWJMEgy18dkDCnZkbNakFKUDVEEDOzr0KQiv/QIL sr6X2IXV2uZ8L850moUe4jw8Yejg1b21zgVD9GO+DFo+bkxdq7iPPSf/F6nAxrchQO+z TF+MZwtE9jeIB0vhrls8KRTNsfEeDrcgx/2Mu6//SGIEK75Mi+4ESTZlr9J17iFE2mCn tFFw== X-Gm-Message-State: AOJu0YxC8i8skHfML6C0eczmDuOQicXYuLoVs1cCyJlh+5Ym/wr10kk5 rgD6m+YqexR0zxPcNdF98hrnD9paVfMwwzD7r+mC1UoGLeqSqBGMXb0vgyNPbkkedg8w+6gPd+R BGoJFtJQKIyMtQR9c6fFzqIOlmS4zNzAUJ0JNoRgbBujm X-Gm-Gg: ASbGnctN53XEdZ5jI2oBX9eoK5JxaOzXmahTAKb5vcD+QP6waS43RzmKbC+HKH9i8N6 VOeyIjpu5b+MSOVpJdn9t8/k5Fd/EKzSJ3jQJidTMWFGCuypJ6ZZzwRv5tEnP7b9Hli3sqFRA+M vIcovF9fEZU2+aY0ujU47vTfeLgzW+MhI3nhQTYzbFCO9vca4CTJNFs4rlLIeH5PnD+05h4Tpi1 sw51V4sgNq9pKavZVkOA47GbG3hw2Q9hZhdXE7nzq5TAIIZ09dgrSAlHLcgo1S2skDylv6aeFw6 20TpjvyBsIIPJSj7gPRa0nzUyJQlHSyHsFwGPdu6mUsEvUDsT5m1hvzAqYBrq9AVOTZWRw== X-Google-Smtp-Source: AGHT+IG9eAtoVtST6HcOpk0vaaRJuxU6gXwlsttRhR5jh7QMtEYcGyr8lk3XWXrtEs/JNiP5Lv88+IuCc0Jz X-Received: by 2002:a05:6602:1591:b0:86c:f8ba:5f08 with SMTP id ca18e2360f4ac-8795b09f351mr348562339f.1.1752078535243; Wed, 09 Jul 2025 09:28:55 -0700 (PDT) Received: from postal.iol.unh.edu (postal.iol.unh.edu. [132.177.123.84]) by smtp-relay.gmail.com with ESMTPS id ca18e2360f4ac-876e079d9acsm57806639f.1.2025.07.09.09.28.55 (version=TLS1_2 cipher=ECDHE-ECDSA-AES128-GCM-SHA256 bits=128/128); Wed, 09 Jul 2025 09:28:55 -0700 (PDT) X-Relaying-Domain: iol.unh.edu Date: Wed, 09 Jul 2025 09:28:55 -0700 (PDT) Message-ID: <686e98c7.050a0220.1f55f.d94eSMTPIN_ADDED_MISSING@mx.google.com> Received: from [172.21.0.5] (unknown [172.18.0.240]) by postal.iol.unh.edu (Postfix) with ESMTP id B4F47604D420; Wed, 9 Jul 2025 12:28:54 -0400 (EDT) Subject: |SUCCESS| pw155106 [PATCH] net/mlx5: fix panic for non template age From: dpdklab@iol.unh.edu To: Test Report Cc: dpdk-test-reports@iol.unh.edu In-Reply-To: <20250709102508.229287-1-mkashani@nvidia.com> References: <20250709102508.229287-1-mkashani@nvidia.com> Content-Type: text/plain X-BeenThere: test-report@dpdk.org X-Mailman-Version: 2.1.29 Precedence: list List-Id: automatic DPDK test reports List-Unsubscribe: , List-Archive: List-Post: List-Help: List-Subscribe: , Errors-To: test-report-bounces@dpdk.org Test-Label: iol-unit-arm64-testing Test-Status: SUCCESS http://dpdk.org/patch/155106 _Testing PASS_ Submitter: Maayan Kashani Date: Wednesday, July 09 2025 10:25:07 DPDK git baseline: Repo:dpdk Branch: master CommitID:6d828a3e774829165137aa2713e3040edd7f46bf 155106 --> testing pass Upstream job id: Generic-Unit-Test-DPDK#354208 Test environment and result as below: +------------------------------+--------------+----------------+------------------------------+---------------------------+ | Environment | lpm_autotest | dpdk_unit_test | cryptodev_sw_snow3g_autotest | cryptodev_sw_zuc_autotest | +==============================+==============+================+==============================+===========================+ | Ubuntu 20.04 | PASS | PASS | SKIPPED | SKIPPED | +------------------------------+--------------+----------------+------------------------------+---------------------------+ | CentOS Stream 10 | SKIPPED | PASS | SKIPPED | SKIPPED | +------------------------------+--------------+----------------+------------------------------+---------------------------+ | CentOS Stream 9 | SKIPPED | PASS | SKIPPED | SKIPPED | +------------------------------+--------------+----------------+------------------------------+---------------------------+ | Fedora Linux 41 | SKIPPED | PASS | SKIPPED | SKIPPED | +------------------------------+--------------+----------------+------------------------------+---------------------------+ | Fedora Linux 40 | SKIPPED | PASS | SKIPPED | SKIPPED | +------------------------------+--------------+----------------+------------------------------+---------------------------+ | Debian GNU/Linux 12 | SKIPPED | PASS | SKIPPED | SKIPPED | +------------------------------+--------------+----------------+------------------------------+---------------------------+ | Ubuntu 22.04 | SKIPPED | PASS | SKIPPED | SKIPPED | +------------------------------+--------------+----------------+------------------------------+---------------------------+ | Ubuntu 24.04 | SKIPPED | PASS | SKIPPED | SKIPPED | +------------------------------+--------------+----------------+------------------------------+---------------------------+ | Red Hat Enterprise Linux 9.5 | SKIPPED | PASS | SKIPPED | SKIPPED | +------------------------------+--------------+----------------+------------------------------+---------------------------+ | Debian 12 (arm) | SKIPPED | SKIPPED | PASS | PASS | +------------------------------+--------------+----------------+------------------------------+---------------------------+ Ubuntu 20.04 Kernel: 5.4 Compiler: gcc gcc (Ubuntu 9.4.0-1ubuntu1~20.04.2) 9.4.0 CentOS Stream 10 Kernel: 5.4 Compiler: gcc gcc (GCC) 14.2.1 20250110 (Red Hat 14.2.1-8) CentOS Stream 9 Kernel: 5.4 Compiler: gcc gcc (GCC) 11.5.0 20240719 (Red Hat 11.5.0-7) Fedora Linux 41 Kernel: 5.4 Compiler: clang gcc (GCC) 14.3.1 20250523 (Red Hat 14.3.1-1) Fedora Linux 40 Kernel: 5.4 Compiler: gcc gcc (GCC) 14.2.1 20240912 (Red Hat 14.2.1-3) Debian GNU/Linux 12 Kernel: 5.4 Compiler: gcc gcc (Debian 12.2.0-14+deb12u1) 12.2.0 Ubuntu 22.04 Kernel: 5.4 Compiler: gcc gcc (Ubuntu 11.4.0-1ubuntu1~22.04) 11.4.0 Ubuntu 24.04 Kernel: 5.4 Compiler: gcc gcc (Ubuntu 13.3.0-6ubuntu2~24.04) 13.3.0 Red Hat Enterprise Linux 9.5 Kernel: 5.4 Compiler: gcc gcc (GCC) 11.5.0 20240719 (Red Hat 11.5.0-2) Debian 12 (arm) Kernel: Depends on container host Compiler: gcc (Debian 12.2.0-14) 12.2.0 To view detailed results, visit: https://lab.dpdk.org/results/dashboard/patchsets/33625/ UNH-IOL DPDK Community Lab To manage your email subscriptions, visit: https://lab.dpdk.org/results/dashboard/preferences/subscriptions/