From mboxrd@z Thu Jan 1 00:00:00 1970 Return-Path: Received: from mails.dpdk.org (mails.dpdk.org [217.70.189.124]) by inbox.dpdk.org (Postfix) with ESMTP id A7ADF46B2F for ; Wed, 9 Jul 2025 18:53:05 +0200 (CEST) Received: from mails.dpdk.org (localhost [127.0.0.1]) by mails.dpdk.org (Postfix) with ESMTP id A35584028C; Wed, 9 Jul 2025 18:53:05 +0200 (CEST) Received: from mail-yb1-f226.google.com (mail-yb1-f226.google.com [209.85.219.226]) by mails.dpdk.org (Postfix) with ESMTP id C154C4028C for ; Wed, 9 Jul 2025 18:53:03 +0200 (CEST) Received: by mail-yb1-f226.google.com with SMTP id 3f1490d57ef6-e898de36cfbso23745276.1 for ; Wed, 09 Jul 2025 09:53:03 -0700 (PDT) DKIM-Signature: v=1; a=rsa-sha256; c=relaxed/relaxed; d=iol.unh.edu; s=unh-iol; t=1752079983; x=1752684783; darn=dpdk.org; h=references:in-reply-to:cc:to:from:subject:message-id:date:from:to :cc:subject:date:message-id:reply-to; bh=wHhLjHpIlLzlfLo3AwcK0AKGmdVIkxsmgdURoavI+8k=; b=Di68+c+4+Djy/fFtQKG7u+4t8DOc9ZygJU2uYaYc1yeRgUSDF/3MUaZkWpnw6qHIXG FgKS8f+V4d53CHwL4KePYW5LCgTfwEPBMaxt3Mbj47A83KtAvQAel8cX6HKY8xGZfWHl 5RoZWsxD7eXS8sAyDUBAFpDrLtsBkaz5But5c= X-Google-DKIM-Signature: v=1; a=rsa-sha256; c=relaxed/relaxed; d=1e100.net; s=20230601; t=1752079983; x=1752684783; h=references:in-reply-to:cc:to:from:subject:message-id:date :x-gm-message-state:from:to:cc:subject:date:message-id:reply-to; bh=wHhLjHpIlLzlfLo3AwcK0AKGmdVIkxsmgdURoavI+8k=; b=wEAKAmYas3k5SnWanfqDnQK7qwoUVJHI5CPvPvCjMbtRVfwTIiH5qp+r7W0V1ex/AW TMDkv7RFLApkmkdUGXMoH2qqHfSKbfQgts0lckpmHp3Xr514RlraqHvjiLd+nm9lvJbq qyeeOHvRWsbQ/usUFh3cmlqLSQ1j2Wy/VqhZnevV64tOZN8VgX94y2jyei8yNjGSUUZA KRRkqZtGTuHsWoDKfj3yWawhmyBjNbjdCJFLtdYOtMB3O7iX8GW0INOrwPuKy6+FLEAj LE1CUsuL5z3t1BQKmx1TeweUOVK0DJ6wFxVBQtuvI5hSN2IDRMUjgvjinSYoAMbiQrB+ ixHA== X-Gm-Message-State: AOJu0YxDXOlXX53h+7d+l/fCOp+7icsuwgRER6pUYLln/WkpT1WlzLy3 YQL/SvrAfQAJDv/+w0oRW7CnzUbbSSlM6+wuw1YuqcM6kB06WTPu7QXUPTLdcOrj7bwrBE8cRoo got5pOsf42TunvUAHZHsJJSb+6X9ZLLoqLOwE6X6Q+h7v X-Gm-Gg: ASbGncseMJI7GXqs8pd2EceunTYs+t+aLFUr2SkotnAnOwS7Xqvqm0hfONXY/wZEMa4 SvGYu0ter6ukXjvUB44AF5Fos87OYCqEPK0NNAbMskFSyphFbx6XhtQhiOX6SBU5bzr/6Q8ZVIk FMbdH+OT/L/+9ARuLJwji9RCJ+BYHDQ+Q9uzENfkgisjkm94MJaUUJT/EcGsan2dOmYGpXShuRD BzkkRS8xUbO3tbOwnLvghn7b+9opvbViAYQFyHLO4rhEtu3c2NNIi6MjvldZmOUro1BvngMQS8/ KZQUsvdhMQrqJnTwKechzZdQYSWlMrIs3aun2OZ5NUSV8o6En52hLa/TelA6Ju6xXMCbvg== X-Google-Smtp-Source: AGHT+IHaH4FVVh+2XqM2Jvr+pD2ZsqlO9NeDe+UCRiyazy3qBZOEJZQkjDjbEGv6FuHKorKvkRiNxwEel2Xj X-Received: by 2002:a05:6902:2846:b0:e84:3769:d7e1 with SMTP id 3f1490d57ef6-e8b6e0dfd76mr4303752276.8.1752079983149; Wed, 09 Jul 2025 09:53:03 -0700 (PDT) Received: from postal.iol.unh.edu (postal.iol.unh.edu. [132.177.123.84]) by smtp-relay.gmail.com with ESMTPS id 3f1490d57ef6-e899c2fefa9sm666490276.10.2025.07.09.09.53.03 (version=TLS1_2 cipher=ECDHE-ECDSA-AES128-GCM-SHA256 bits=128/128); Wed, 09 Jul 2025 09:53:03 -0700 (PDT) X-Relaying-Domain: iol.unh.edu Date: Wed, 09 Jul 2025 09:53:03 -0700 (PDT) Message-ID: <686e9e6f.250a0220.2c5090.4295SMTPIN_ADDED_MISSING@mx.google.com> Received: from [172.21.0.7] (unknown [172.18.0.240]) by postal.iol.unh.edu (Postfix) with ESMTP id C8CA6604D420; Wed, 9 Jul 2025 12:53:02 -0400 (EDT) Subject: |WARNING| pw155090 [PATCH] examples/ipsec-secgw: fix number of queue From: dpdklab@iol.unh.edu To: Test Report Cc: dpdk-test-reports@iol.unh.edu In-Reply-To: <20250709082325.771994-1-vfialko@marvell.com> References: <20250709082325.771994-1-vfialko@marvell.com> Content-Type: text/plain X-BeenThere: test-report@dpdk.org X-Mailman-Version: 2.1.29 Precedence: list List-Id: automatic DPDK test reports List-Unsubscribe: , List-Archive: List-Post: List-Help: List-Subscribe: , Errors-To: test-report-bounces@dpdk.org Test-Label: iol-compile-amd64-testing Test-Status: WARNING http://dpdk.org/patch/155090 _Testing issues_ Submitter: Volodymyr Fialko Date: Wednesday, July 09 2025 08:23:25 DPDK git baseline: Repo:dpdk Branch: master CommitID:9b298e79703a1343d388d059f4029813f11ac6ad 155090 --> testing issues Upstream job id: Generic-DPDK-Compile-Meson#407250 Test environment and result as below: +-------------------------------+--------------------+-------------------+------------------+-------------------+ | Environment | dpdk_meson_compile | dpdk_compile_spdk | dpdk_compile_ovs | dpdk_msvc_compile | +===============================+====================+===================+==================+===================+ | CentOS Stream 10 | PASS | SKIPPED | SKIPPED | SKIPPED | +-------------------------------+--------------------+-------------------+------------------+-------------------+ | CentOS Stream 9 | PASS | PASS | SKIPPED | SKIPPED | +-------------------------------+--------------------+-------------------+------------------+-------------------+ | Red Hat Enterprise Linux 8.10 | PASS | SKIPPED | SKIPPED | SKIPPED | +-------------------------------+--------------------+-------------------+------------------+-------------------+ | Debian GNU/Linux 12 | PASS | PASS | SKIPPED | SKIPPED | +-------------------------------+--------------------+-------------------+------------------+-------------------+ | Fedora Linux 40 | PASS | PASS | SKIPPED | SKIPPED | +-------------------------------+--------------------+-------------------+------------------+-------------------+ | openSUSE Leap 15.6 | PASS | SKIPPED | SKIPPED | SKIPPED | +-------------------------------+--------------------+-------------------+------------------+-------------------+ | Fedora Linux 41 | PASS | PASS | PASS | SKIPPED | +-------------------------------+--------------------+-------------------+------------------+-------------------+ | Red Hat Enterprise Linux 9.5 | PASS | SKIPPED | SKIPPED | SKIPPED | +-------------------------------+--------------------+-------------------+------------------+-------------------+ | Ubuntu 22.04 | PASS | PASS | SKIPPED | SKIPPED | +-------------------------------+--------------------+-------------------+------------------+-------------------+ | Ubuntu 20.04 | PASS | SKIPPED | SKIPPED | SKIPPED | +-------------------------------+--------------------+-------------------+------------------+-------------------+ | Ubuntu 24.04 | PASS | PASS | PASS | SKIPPED | +-------------------------------+--------------------+-------------------+------------------+-------------------+ | Alpine Linux 3.22.0 | PASS | SKIPPED | SKIPPED | SKIPPED | +-------------------------------+--------------------+-------------------+------------------+-------------------+ | FreeBSD 14.2 | PASS | SKIPPED | SKIPPED | SKIPPED | +-------------------------------+--------------------+-------------------+------------------+-------------------+ | Windows Server 2022 | SKIPPED | SKIPPED | SKIPPED | PASS | +-------------------------------+--------------------+-------------------+------------------+-------------------+ CentOS Stream 10 Kernel: 5.15 Compiler: gcc gcc (GCC) 14.2.1 20250110 (Red Hat 14.2.1-8) CentOS Stream 9 Kernel: 5.15 Compiler: gcc gcc (GCC) 11.5.0 20240719 (Red Hat 11.5.0-7) Red Hat Enterprise Linux 8.10 Kernel: 5.15 Compiler: gcc gcc (GCC) 8.5.0 20210514 (Red Hat 8.5.0-22) Debian GNU/Linux 12 Kernel: 5.15 Compiler: gcc gcc (Debian 12.2.0-14+deb12u1) 12.2.0 Fedora Linux 40 Kernel: 5.15 Compiler: clang gcc (GCC) 14.2.1 20240912 (Red Hat 14.2.1-3) openSUSE Leap 15.6 Kernel: 5.15 Compiler: gcc gcc (SUSE Linux) 7.5.0 Fedora Linux 41 Kernel: 5.15 Compiler: clang gcc (GCC) 14.3.1 20250523 (Red Hat 14.3.1-1) Red Hat Enterprise Linux 9.5 Kernel: 5.15 Compiler: gcc gcc (GCC) 11.5.0 20240719 (Red Hat 11.5.0-2) Ubuntu 22.04 Kernel: 5.15 Compiler: gcc gcc (Ubuntu 11.4.0-1ubuntu1~22.04) 11.4.0 Ubuntu 20.04 Kernel: 5.15 Compiler: gcc gcc (Ubuntu 9.4.0-1ubuntu1~20.04.2) 9.4.0 Ubuntu 24.04 Kernel: 5.15 Compiler: gcc gcc (Ubuntu 13.3.0-6ubuntu2~24.04) 13.3.0 Alpine Linux 3.22.0 Kernel: 5.15 Compiler: gcc gcc (Alpine 14.2.0) 14.2.0 FreeBSD 14.2 Kernel: 14.2-RELEASE Compiler: clang 18.1.6 Windows Server 2022 Kernel: 10.0.20348.2031 Compiler: clang 15.0.7, gcc 14.1.0 (MinGW), and MSVC VS 19.39.33521 To view detailed results, visit: https://lab.dpdk.org/results/dashboard/patchsets/33622/ UNH-IOL DPDK Community Lab To manage your email subscriptions, visit: https://lab.dpdk.org/results/dashboard/preferences/subscriptions/