From mboxrd@z Thu Jan 1 00:00:00 1970 Return-Path: Received: from mails.dpdk.org (mails.dpdk.org [217.70.189.124]) by inbox.dpdk.org (Postfix) with ESMTP id CB69E46B2F for ; Wed, 9 Jul 2025 19:04:29 +0200 (CEST) Received: from mails.dpdk.org (localhost [127.0.0.1]) by mails.dpdk.org (Postfix) with ESMTP id B0B084028C; Wed, 9 Jul 2025 19:04:29 +0200 (CEST) Received: from mail-pl1-f227.google.com (mail-pl1-f227.google.com [209.85.214.227]) by mails.dpdk.org (Postfix) with ESMTP id C6C7A4028C for ; Wed, 9 Jul 2025 19:04:27 +0200 (CEST) Received: by mail-pl1-f227.google.com with SMTP id d9443c01a7336-2363616a1a6so1192105ad.3 for ; Wed, 09 Jul 2025 10:04:27 -0700 (PDT) DKIM-Signature: v=1; a=rsa-sha256; c=relaxed/relaxed; d=iol.unh.edu; s=unh-iol; t=1752080667; x=1752685467; darn=dpdk.org; h=references:in-reply-to:cc:to:from:subject:message-id:date:from:to :cc:subject:date:message-id:reply-to; bh=MwVUdM5kGcuqdQ8w6BKLvLQ/YBn7mU0OJn3YUbpCCDo=; b=HxymrsgMSHIDn9yCCPCnb9WLcLNueEdEa4CaRdSjrLPQUYPtSqYZEVKAHiu9VLxRrM 2TyIg9yjKLKQiy82X1W3HzXE/MPvPTd764sy8ExVeuB8YTagetKbDPbH/pPAV5UekA2v 3btMSa0AgzoFxvf2AJM3rDGw5wEYI1UL053Ow= X-Google-DKIM-Signature: v=1; a=rsa-sha256; c=relaxed/relaxed; d=1e100.net; s=20230601; t=1752080667; x=1752685467; h=references:in-reply-to:cc:to:from:subject:message-id:date :x-gm-message-state:from:to:cc:subject:date:message-id:reply-to; bh=MwVUdM5kGcuqdQ8w6BKLvLQ/YBn7mU0OJn3YUbpCCDo=; b=IhgAXHeE/IGeBzt/PS/zd9oXPX1iHSIkFHDuHQ+Ch0zpUbwl6w3Jak9ThtrHgfgOdp VrrVamPB+z5ps0a52r2Ce62y/RF2uF+eJYbLx8EGDOfjLxtADlgw58nftiYftcqP04wz XqbSDslSevizg+GjnDFljtmcGuxGvAehkQ8JP4zeDrX0HQWCiALUSGShCHKt9RpIKH6R JN/7ZhLx4gGv6pvpJ/uFUuQubdiSiwuw7WAfD525lLumTXefCom6U2aNq+cktNmmnlkP +n4u4J5iHzfBgkx0/e8jitqcNpODxrd6+gqZKnD8l0jWJ/GcFwmfT1M03GqExzPimOlT QilA== X-Gm-Message-State: AOJu0YxTP1+UNHHhK7i8X97P1OiYr8F3dXN0H1tjvSpz2/XkYncK/A5T GthIUnz9OqSyaLGG7+W9bi4YejwwUfzxJZ2NbPTN1zYXUr9a5s4EkipWuiqIjnw3CTrWiaaZwAa sNKB18pBbLDAQC7IRXbodHc15p2xO1yIt8wTFKOOBoE6d X-Gm-Gg: ASbGncspuQWU1x8SR1mR2TZgVnfpjThQOe2GDeALHy7jNKotnbEjnqyQ5pB0NtK+Mp1 fbd6pQOZs6qugucn0ICqdMhfXxDTUZ4RQrD1mqP7hXO8zU9DQSRFwjsWLzAKfzcvLMvYKf3yjyo aBRpberXS5KqfAKntgD4s+2GlfOlBq+mb73ZorPfeG4lsSGkp9UZA2EMLj+PsbxOjJQlOx7RkNe eBKnXVfgPv/Jm6UCFvQm84IKlwQxGgplIvshPqueXrM0AJ4XPwVbEDGFUPPn5UAHy6z/jgpqua2 BHyuxwWiFi5XGm1+VldkOQrj8nzKCYZ2C5Vux6p5+bS1K8fNsQEZxIKtqsJ8+7llGPM/PA== X-Google-Smtp-Source: AGHT+IGtv533u5lf+IEQtncY1j+L3ulRN1K4P3MizWY7yCQv/b0+JQw9fEosFpFXuxYp7lCQUt6SJZLRvrvd X-Received: by 2002:a17:90b:4e8f:b0:311:a561:86f3 with SMTP id 98e67ed59e1d1-31c2fcc6403mr5622627a91.6.1752080666807; Wed, 09 Jul 2025 10:04:26 -0700 (PDT) Received: from postal.iol.unh.edu (postal.iol.unh.edu. [132.177.123.84]) by smtp-relay.gmail.com with ESMTPS id 98e67ed59e1d1-31c3005fc3dsm84554a91.1.2025.07.09.10.04.26 (version=TLS1_2 cipher=ECDHE-ECDSA-AES128-GCM-SHA256 bits=128/128); Wed, 09 Jul 2025 10:04:26 -0700 (PDT) X-Relaying-Domain: iol.unh.edu Date: Wed, 09 Jul 2025 10:04:26 -0700 (PDT) Message-ID: <686ea11a.170a0220.232e31.4883SMTPIN_ADDED_MISSING@mx.google.com> Received: from [172.21.0.6] (unknown [172.18.0.240]) by postal.iol.unh.edu (Postfix) with ESMTP id 0A439604D420; Wed, 9 Jul 2025 13:04:26 -0400 (EDT) Subject: |SUCCESS| pw154925-154942 [PATCH] [V5,18/18] drivers/net: add hinic3 From: dpdklab@iol.unh.edu To: Test Report Cc: dpdk-test-reports@iol.unh.edu In-Reply-To: <20250702020953.599-19-wff_light@vip.163.com> References: <20250702020953.599-19-wff_light@vip.163.com> Content-Type: text/plain X-BeenThere: test-report@dpdk.org X-Mailman-Version: 2.1.29 Precedence: list List-Id: automatic DPDK test reports List-Unsubscribe: , List-Archive: List-Post: List-Help: List-Subscribe: , Errors-To: test-report-bounces@dpdk.org Test-Label: iol-unit-amd64-testing Test-Status: SUCCESS http://dpdk.org/patch/154942 _Testing PASS_ Submitter: Feifei Wang Date: Wednesday, July 02 2025 02:09:41 DPDK git baseline: Repo:dpdk Branch: master CommitID:ba982f9a1ca9b96ed0394b764f1523d482e963a2 154925-154942 --> testing pass Upstream job id: Generic-VM-Unit-Test-DPDK#29825 Test environment and result as below: +-------------------------------+----------------+ | Environment | dpdk_unit_test | +===============================+================+ | CentOS Stream 9 | PASS | +-------------------------------+----------------+ | Fedora Linux 40 | PASS | +-------------------------------+----------------+ | CentOS Stream 10 | PASS | +-------------------------------+----------------+ | Debian GNU/Linux 12 | PASS | +-------------------------------+----------------+ | Red Hat Enterprise Linux 8.10 | PASS | +-------------------------------+----------------+ | Fedora Linux 41 | PASS | +-------------------------------+----------------+ | Red Hat Enterprise Linux 9.5 | PASS | +-------------------------------+----------------+ | Ubuntu 20.04 | PASS | +-------------------------------+----------------+ | Ubuntu 24.04 | PASS | +-------------------------------+----------------+ | Ubuntu 22.04 | PASS | +-------------------------------+----------------+ | Windows Server 2022 | PASS | +-------------------------------+----------------+ CentOS Stream 9 Kernel: 5.15 Compiler: gcc gcc (GCC) 11.5.0 20240719 (Red Hat 11.5.0-7) Fedora Linux 40 Kernel: 5.15 Compiler: gcc gcc (GCC) 14.2.1 20240912 (Red Hat 14.2.1-3) CentOS Stream 10 Kernel: 5.15 Compiler: gcc gcc (GCC) 14.2.1 20250110 (Red Hat 14.2.1-8) Debian GNU/Linux 12 Kernel: 5.15 Compiler: gcc gcc (Debian 12.2.0-14+deb12u1) 12.2.0 Red Hat Enterprise Linux 8.10 Kernel: 5.15 Compiler: gcc gcc (GCC) 8.5.0 20210514 (Red Hat 8.5.0-22) Fedora Linux 41 Kernel: 5.15 Compiler: gcc gcc (GCC) 14.3.1 20250523 (Red Hat 14.3.1-1) Red Hat Enterprise Linux 9.5 Kernel: 5.15 Compiler: gcc gcc (GCC) 11.5.0 20240719 (Red Hat 11.5.0-2) Ubuntu 20.04 Kernel: 5.15 Compiler: gcc gcc (Ubuntu 9.4.0-1ubuntu1~20.04.2) 9.4.0 Ubuntu 24.04 Kernel: 5.15 Compiler: gcc gcc (Ubuntu 13.3.0-6ubuntu2~24.04) 13.3.0 Ubuntu 22.04 Kernel: 5.15 Compiler: gcc gcc (Ubuntu 11.4.0-1ubuntu1~22.04) 11.4.0 Windows Server 2022 Kernel: 10.0.20348.2031 Compiler: clang 15.0.7, gcc 14.1.0 (MinGW), and MSVC VS 19.39.33521 To view detailed results, visit: https://lab.dpdk.org/results/dashboard/patchsets/33560/ UNH-IOL DPDK Community Lab To manage your email subscriptions, visit: https://lab.dpdk.org/results/dashboard/preferences/subscriptions/