From mboxrd@z Thu Jan 1 00:00:00 1970 Return-Path: Received: from mails.dpdk.org (mails.dpdk.org [217.70.189.124]) by inbox.dpdk.org (Postfix) with ESMTP id C1EDE46B2F for ; Wed, 9 Jul 2025 19:27:42 +0200 (CEST) Received: from mails.dpdk.org (localhost [127.0.0.1]) by mails.dpdk.org (Postfix) with ESMTP id 947304028C; Wed, 9 Jul 2025 19:27:42 +0200 (CEST) Received: from mail-pf1-f227.google.com (mail-pf1-f227.google.com [209.85.210.227]) by mails.dpdk.org (Postfix) with ESMTP id 0C36C4028C for ; Wed, 9 Jul 2025 19:27:41 +0200 (CEST) Received: by mail-pf1-f227.google.com with SMTP id d2e1a72fcca58-7490cb9a892so116220b3a.0 for ; Wed, 09 Jul 2025 10:27:40 -0700 (PDT) DKIM-Signature: v=1; a=rsa-sha256; c=relaxed/relaxed; d=iol.unh.edu; s=unh-iol; t=1752082060; x=1752686860; darn=dpdk.org; h=references:in-reply-to:cc:to:from:subject:message-id:date:from:to :cc:subject:date:message-id:reply-to; bh=5U4vzUDukEjnlfi34GAKT7DYiHtvqPJK6Y6IQCNQYMk=; b=K0FF1QQPwFNVdpQ4auN/HE0omDxi2qOKN0aZXgEGGTcbSJ+rX5FU4Ht0vuxIMcgw19 xi7QRTmXBs3GViKi9Hhm3incNJ8pSo21ApsoYw8AhLF/hU9BI9uG1qKWxOjKYhyFQD2v 4a3ErabiPF10tUOvpu3/C4oagSdcXOlxz/Ahk= X-Google-DKIM-Signature: v=1; a=rsa-sha256; c=relaxed/relaxed; d=1e100.net; s=20230601; t=1752082060; x=1752686860; h=references:in-reply-to:cc:to:from:subject:message-id:date :x-gm-message-state:from:to:cc:subject:date:message-id:reply-to; bh=5U4vzUDukEjnlfi34GAKT7DYiHtvqPJK6Y6IQCNQYMk=; b=tAao6sFo3LQV6s+UfPisAH1W92950kwwhCQ/OCoOdzlYijYe5hqtUO3PLKHcHLysD3 2H6AtXN92cfFMacK0U+yXD4LFzIVTr82llLoDtYm2MzrymEg9ILaN5HZoSKnNPeHQf8t j45Gg2fZ20lcYfSD661yKk/FBhZ8xcsohLn3lgbn3/qIfOnBzaC95V02DuMA5o2NR9v4 CA66amD/UxosSKvQvb4RDCowoSGQLjFtdWjwBl7a5MxCzsMV0yOh3XRF404Gh0X2bAEj ccrGLAGaPmVwVhIvzEVKRZrJ1tnIsJO3/Oswopp3Nt6zfoPAUbMHe3k3SO+XwtNIF3ZT uNcg== X-Gm-Message-State: AOJu0YyOe2rVJu5LKkcsmnDDHgM3Ra5yfMcHRK7yawWqI9QlMVkvnIKr OV8yepMdxzE1oasRKsINIvIHidBleiaSkNuDTZyze1VI5YQ1sB7BZLn5Wh6GTY6vGEzZLmjPrvu 8T55e8GrfpOSkWZT7lu7StWx9nvgylpDJNzqFIqN5dZSch6XSLZpCu2AVkXhy X-Gm-Gg: ASbGncsDCAlJIUznUvGetA4FpQyzf9Z2WK8DTGzDlH2z7/SmEE0Fxx3ERa1Q6NHSmW+ 8mIftinbhjBmxM0nG3XyBu+o3Owt64jH7TzE3hed9LyoLgSvXDRyL3YEFpSdwqx+Yf4uuA+zJA9 rc/HxnBHtIs1SIfsOiirkYBq9Dsx3z9sG15ZdzOwSi67dwoqd8d6SJ0rHmRKD9lfEv6F4iguQsS g6euGG+l4HXue21TrgbN6kowHrfW9WdlrIbxGp73+oDSbiXvAhN2groq2s5DrxRl6U+aZdCF/RY d0poSxsWKAZ2bK4aHsTQQlDtpJxmFPquxhLKo5wHdCl3T+c= X-Google-Smtp-Source: AGHT+IHAfpBZh4Y68QHRnyFTtbFk8boctjYyO7kcdBojLcPeutPd6GZ3KjmLZn7T/TiEbyo2f9r+eQvJ5nrD X-Received: by 2002:a05:6a00:189f:b0:747:accb:773c with SMTP id d2e1a72fcca58-74eb55ba360mr460463b3a.13.1752082060094; Wed, 09 Jul 2025 10:27:40 -0700 (PDT) Received: from postal.iol.unh.edu (postal.iol.unh.edu. [2606:4100:3880:1234::84]) by smtp-relay.gmail.com with ESMTPS id d2e1a72fcca58-74ce33ea197sm704907b3a.2.2025.07.09.10.27.39 (version=TLS1_2 cipher=ECDHE-ECDSA-AES128-GCM-SHA256 bits=128/128); Wed, 09 Jul 2025 10:27:40 -0700 (PDT) X-Relaying-Domain: iol.unh.edu Date: Wed, 09 Jul 2025 10:27:40 -0700 (PDT) Message-ID: <686ea68c.050a0220.bcae8.5738SMTPIN_ADDED_MISSING@mx.google.com> Received: from [172.21.0.6] (unknown [172.18.0.240]) by postal.iol.unh.edu (Postfix) with ESMTP id 4F36A604D420; Wed, 9 Jul 2025 13:27:39 -0400 (EDT) Subject: |SUCCESS| pw155108 [PATCH] [v1,1/1] net/iavf: fix order of inclusion From: dpdklab@iol.unh.edu To: Test Report Cc: dpdk-test-reports@iol.unh.edu In-Reply-To: <552f8241f4f65fce0c8b43797612a97dec5d9ebc.1752066381.git.anatoly.burakov@intel.com> References: <552f8241f4f65fce0c8b43797612a97dec5d9ebc.1752066381.git.anatoly.burakov@intel.com> Content-Type: text/plain X-BeenThere: test-report@dpdk.org X-Mailman-Version: 2.1.29 Precedence: list List-Id: automatic DPDK test reports List-Unsubscribe: , List-Archive: List-Post: List-Help: List-Subscribe: , Errors-To: test-report-bounces@dpdk.org Test-Label: iol-unit-arm64-testing Test-Status: SUCCESS http://dpdk.org/patch/155108 _Testing PASS_ Submitter: Burakov, Anatoly Date: Wednesday, July 09 2025 13:06:29 DPDK git baseline: Repo:dpdk Branch: master CommitID:f1853a0cc95eaae5842b88be0cbcd5becc2e94b7 155108 --> testing pass Upstream job id: Generic-Unit-Test-DPDK#354238 Test environment and result as below: +------------------------------+--------------+------------------------------+----------------+---------------------------+ | Environment | lpm_autotest | cryptodev_sw_snow3g_autotest | dpdk_unit_test | cryptodev_sw_zuc_autotest | +==============================+==============+==============================+================+===========================+ | Ubuntu 20.04 | PASS | SKIPPED | PASS | SKIPPED | +------------------------------+--------------+------------------------------+----------------+---------------------------+ | Debian 12 (arm) | SKIPPED | PASS | SKIPPED | PASS | +------------------------------+--------------+------------------------------+----------------+---------------------------+ | Debian GNU/Linux 12 | SKIPPED | SKIPPED | PASS | SKIPPED | +------------------------------+--------------+------------------------------+----------------+---------------------------+ | CentOS Stream 10 | SKIPPED | SKIPPED | PASS | SKIPPED | +------------------------------+--------------+------------------------------+----------------+---------------------------+ | Fedora Linux 40 | SKIPPED | SKIPPED | PASS | SKIPPED | +------------------------------+--------------+------------------------------+----------------+---------------------------+ | Fedora Linux 41 | SKIPPED | SKIPPED | PASS | SKIPPED | +------------------------------+--------------+------------------------------+----------------+---------------------------+ | CentOS Stream 9 | SKIPPED | SKIPPED | PASS | SKIPPED | +------------------------------+--------------+------------------------------+----------------+---------------------------+ | Red Hat Enterprise Linux 9.5 | SKIPPED | SKIPPED | PASS | SKIPPED | +------------------------------+--------------+------------------------------+----------------+---------------------------+ | Ubuntu 22.04 | SKIPPED | SKIPPED | PASS | SKIPPED | +------------------------------+--------------+------------------------------+----------------+---------------------------+ | Ubuntu 24.04 | SKIPPED | SKIPPED | PASS | SKIPPED | +------------------------------+--------------+------------------------------+----------------+---------------------------+ Ubuntu 20.04 Kernel: 5.4 Compiler: gcc gcc (Ubuntu 9.4.0-1ubuntu1~20.04.2) 9.4.0 Debian 12 (arm) Kernel: Depends on container host Compiler: gcc (Debian 12.2.0-14) 12.2.0 Debian GNU/Linux 12 Kernel: 5.4 Compiler: gcc gcc (Debian 12.2.0-14+deb12u1) 12.2.0 CentOS Stream 10 Kernel: 5.4 Compiler: gcc gcc (GCC) 14.2.1 20250110 (Red Hat 14.2.1-8) Fedora Linux 40 Kernel: 5.4 Compiler: clang gcc (GCC) 14.2.1 20240912 (Red Hat 14.2.1-3) Fedora Linux 41 Kernel: 5.4 Compiler: gcc gcc (GCC) 14.3.1 20250523 (Red Hat 14.3.1-1) CentOS Stream 9 Kernel: 5.4 Compiler: gcc gcc (GCC) 11.5.0 20240719 (Red Hat 11.5.0-7) Red Hat Enterprise Linux 9.5 Kernel: 5.4 Compiler: gcc gcc (GCC) 11.5.0 20240719 (Red Hat 11.5.0-2) Ubuntu 22.04 Kernel: 5.4 Compiler: gcc gcc (Ubuntu 11.4.0-1ubuntu1~22.04) 11.4.0 Ubuntu 24.04 Kernel: 5.4 Compiler: gcc gcc (Ubuntu 13.3.0-6ubuntu2~24.04) 13.3.0 To view detailed results, visit: https://lab.dpdk.org/results/dashboard/patchsets/33627/ UNH-IOL DPDK Community Lab To manage your email subscriptions, visit: https://lab.dpdk.org/results/dashboard/preferences/subscriptions/