From mboxrd@z Thu Jan 1 00:00:00 1970 Return-Path: Received: from mails.dpdk.org (mails.dpdk.org [217.70.189.124]) by inbox.dpdk.org (Postfix) with ESMTP id E0A1F46B2F for ; Wed, 9 Jul 2025 19:45:28 +0200 (CEST) Received: from mails.dpdk.org (localhost [127.0.0.1]) by mails.dpdk.org (Postfix) with ESMTP id DA184402DF; Wed, 9 Jul 2025 19:45:28 +0200 (CEST) Received: from mail-il1-f227.google.com (mail-il1-f227.google.com [209.85.166.227]) by mails.dpdk.org (Postfix) with ESMTP id A90AB402DF for ; Wed, 9 Jul 2025 19:45:26 +0200 (CEST) Received: by mail-il1-f227.google.com with SMTP id e9e14a558f8ab-3e057f2c8d8so863905ab.1 for ; Wed, 09 Jul 2025 10:45:26 -0700 (PDT) DKIM-Signature: v=1; a=rsa-sha256; c=relaxed/relaxed; d=iol.unh.edu; s=unh-iol; t=1752083126; x=1752687926; darn=dpdk.org; h=references:in-reply-to:cc:to:from:subject:message-id:date:from:to :cc:subject:date:message-id:reply-to; bh=8t7HqPp02i7RxR/7c3ZPWkE1GFh8NH3jEI0q4qHcy3Q=; b=hWDepXiRmyWT37oIN5p6m/LktvNa4/3DadfUqTMkXfdZ09ZgDjiHy1XoGKNLSJ8bJt clTrJbYd5LKGCKggrhy35P1E1yQCN36EAsrMAcImkUQsqABBW1+rftl5UR6pVL4at8ix YhD+fJlXROQyT5CjJuWan0SW2uOBWtYL7GNTw= X-Google-DKIM-Signature: v=1; a=rsa-sha256; c=relaxed/relaxed; d=1e100.net; s=20230601; t=1752083126; x=1752687926; h=references:in-reply-to:cc:to:from:subject:message-id:date :x-gm-message-state:from:to:cc:subject:date:message-id:reply-to; bh=8t7HqPp02i7RxR/7c3ZPWkE1GFh8NH3jEI0q4qHcy3Q=; b=Dzil8SzAxwDQSAwUXKaZglo3VPTCLOkShW68kRJwRnx41Bb5/mGSNOBmvEBdvq8m+0 Q8H787ucKR6aF3dv4FmgD5+wQ9TmzgU0VOQ0QiJQc0Ts7dv0TYvIzXSnumS9Q9x4GXN8 LLyADoPvzb2+cttSC/PsSF8qefFUUgONcBzRh0b9tw0bxZ17I9qdpTPwEUirdZoUqO+q S00wezeMxyJ34iNh49uO6I4s1baPaYIuHSjFFkAssZ9VNgOU7N5al13YMDXYJdA0bdBZ RKt03eBYYsLg5wzYvJ2pKT+vpm1z9SWw+UWR99L195FHeXpgXW3EJmML7FhffsdRfbKu 1qGg== X-Gm-Message-State: AOJu0Yyuv2JYq5o0au8RzyDxNZpbOV9AtgolUWv+MfA5XknPRmYjJZWD cn0MjwbC2EtNNsthy9UaBx8xqMZw8jMVUclCBHVp+M0hrKQf508fk8sfCuyu7CW3bY0xcr0NEQ6 BY8+alakhObtm9JhZZLVWOhG1l9xQBzmHYTg8q+UC7Vr/ X-Gm-Gg: ASbGncscvOAPZ9kohMsmJnHhRuvjsgnyTZf9L8h3jcVZ6a/A7kME1MiM6LEplwsuz4q MuVuUwKGKd72LzGH5pvLDM7Bj6l9WcvlLAIOGV3VLPgaHoqFH6oPaOVkikPkHlEnopNJeuTKuyJ QIDzJtWHFKnsWzVt0pOrXzlnTZs5EJylPduEFNDxkYm1NPGbRNy3tZ+7TrxNERHJomWkLPdWpzb lkzBdModgLNkWRanjfOZVI9s1wX882ekuVn/ccLWXLuoGq0Z1nXhE9Ady6ASLZhxwISoN4k/3lJ KCCpjHM1FS1Bb5wFq5kBqxUGWZ/WH4n7lUDMJM3sZVD0XbDR+fWlN7Yk4H7ej71GpvwXeA== X-Google-Smtp-Source: AGHT+IFElW7CyfhMvvhbFAJ4hYNPbboKvWQ3BkFNONhsx9TSSw5pu6uk9qCzYL06O8vrkA/1uKjd4TKYMjuu X-Received: by 2002:a05:6e02:230a:b0:3dd:d189:6511 with SMTP id e9e14a558f8ab-3e1671293e0mr40977955ab.21.1752083126073; Wed, 09 Jul 2025 10:45:26 -0700 (PDT) Received: from postal.iol.unh.edu (postal.iol.unh.edu. [132.177.123.84]) by smtp-relay.gmail.com with ESMTPS id e9e14a558f8ab-3e0f3435133sm8263875ab.3.2025.07.09.10.45.25 (version=TLS1_2 cipher=ECDHE-ECDSA-AES128-GCM-SHA256 bits=128/128); Wed, 09 Jul 2025 10:45:26 -0700 (PDT) X-Relaying-Domain: iol.unh.edu Date: Wed, 09 Jul 2025 10:45:26 -0700 (PDT) Message-ID: <686eaab6.050a0220.dd17b.c456SMTPIN_ADDED_MISSING@mx.google.com> Received: from [172.21.0.6] (unknown [172.18.0.240]) by postal.iol.unh.edu (Postfix) with ESMTP id 9A6506050A61; Wed, 9 Jul 2025 13:45:25 -0400 (EDT) Subject: |SUCCESS| pw155084 [PATCH] [RFC] add hints to CLAUDE From: dpdklab@iol.unh.edu To: Test Report Cc: dpdk-test-reports@iol.unh.edu In-Reply-To: <20250708190957.10108-1-stephen@networkplumber.org> References: <20250708190957.10108-1-stephen@networkplumber.org> Content-Type: text/plain X-BeenThere: test-report@dpdk.org X-Mailman-Version: 2.1.29 Precedence: list List-Id: automatic DPDK test reports List-Unsubscribe: , List-Archive: List-Post: List-Help: List-Subscribe: , Errors-To: test-report-bounces@dpdk.org Test-Label: iol-unit-amd64-testing Test-Status: SUCCESS http://dpdk.org/patch/155084 _Testing PASS_ Submitter: Stephen Hemminger Date: Tuesday, July 08 2025 19:09:41 DPDK git baseline: Repo:dpdk Branch: master CommitID:e90979eebbea093f6bab2d7c222fc5f5c9a85eff 155084 --> testing pass Upstream job id: Generic-VM-Unit-Test-DPDK#29828 Test environment and result as below: +-------------------------------+----------------+ | Environment | dpdk_unit_test | +===============================+================+ | CentOS Stream 9 | PASS | +-------------------------------+----------------+ | Fedora Linux 41 | PASS | +-------------------------------+----------------+ | CentOS Stream 10 | PASS | +-------------------------------+----------------+ | Fedora Linux 40 | PASS | +-------------------------------+----------------+ | Ubuntu 20.04 | PASS | +-------------------------------+----------------+ | Ubuntu 22.04 | PASS | +-------------------------------+----------------+ | Ubuntu 24.04 | PASS | +-------------------------------+----------------+ | Red Hat Enterprise Linux 9.5 | PASS | +-------------------------------+----------------+ | Debian GNU/Linux 12 | PASS | +-------------------------------+----------------+ | Red Hat Enterprise Linux 8.10 | PASS | +-------------------------------+----------------+ | Windows Server 2022 | PASS | +-------------------------------+----------------+ CentOS Stream 9 Kernel: 5.15 Compiler: gcc gcc (GCC) 11.5.0 20240719 (Red Hat 11.5.0-7) Fedora Linux 41 Kernel: 5.15 Compiler: clang gcc (GCC) 14.3.1 20250523 (Red Hat 14.3.1-1) CentOS Stream 10 Kernel: 5.15 Compiler: gcc gcc (GCC) 14.2.1 20250110 (Red Hat 14.2.1-8) Fedora Linux 40 Kernel: 5.15 Compiler: gcc gcc (GCC) 14.2.1 20240912 (Red Hat 14.2.1-3) Ubuntu 20.04 Kernel: 5.15 Compiler: gcc gcc (Ubuntu 9.4.0-1ubuntu1~20.04.2) 9.4.0 Ubuntu 22.04 Kernel: 5.15 Compiler: gcc gcc (Ubuntu 11.4.0-1ubuntu1~22.04) 11.4.0 Ubuntu 24.04 Kernel: 5.15 Compiler: gcc gcc (Ubuntu 13.3.0-6ubuntu2~24.04) 13.3.0 Red Hat Enterprise Linux 9.5 Kernel: 5.15 Compiler: gcc gcc (GCC) 11.5.0 20240719 (Red Hat 11.5.0-2) Debian GNU/Linux 12 Kernel: 5.15 Compiler: gcc gcc (Debian 12.2.0-14+deb12u1) 12.2.0 Red Hat Enterprise Linux 8.10 Kernel: 5.15 Compiler: gcc gcc (GCC) 8.5.0 20210514 (Red Hat 8.5.0-22) Windows Server 2022 Kernel: 10.0.20348.2031 Compiler: clang 15.0.7, gcc 14.1.0 (MinGW), and MSVC VS 19.39.33521 To view detailed results, visit: https://lab.dpdk.org/results/dashboard/patchsets/33617/ UNH-IOL DPDK Community Lab To manage your email subscriptions, visit: https://lab.dpdk.org/results/dashboard/preferences/subscriptions/