From mboxrd@z Thu Jan 1 00:00:00 1970 Return-Path: Received: from mails.dpdk.org (mails.dpdk.org [217.70.189.124]) by inbox.dpdk.org (Postfix) with ESMTP id 5F94246B2F for ; Wed, 9 Jul 2025 19:48:59 +0200 (CEST) Received: from mails.dpdk.org (localhost [127.0.0.1]) by mails.dpdk.org (Postfix) with ESMTP id 56BAC40A7D; Wed, 9 Jul 2025 19:48:59 +0200 (CEST) Received: from mail-qv1-f98.google.com (mail-qv1-f98.google.com [209.85.219.98]) by mails.dpdk.org (Postfix) with ESMTP id 2F51240A7D for ; Wed, 9 Jul 2025 19:48:57 +0200 (CEST) Received: by mail-qv1-f98.google.com with SMTP id 6a1803df08f44-6fadd3ad18eso1681286d6.2 for ; Wed, 09 Jul 2025 10:48:57 -0700 (PDT) DKIM-Signature: v=1; a=rsa-sha256; c=relaxed/relaxed; d=iol.unh.edu; s=unh-iol; t=1752083336; x=1752688136; darn=dpdk.org; h=references:in-reply-to:cc:to:from:subject:message-id:date:from:to :cc:subject:date:message-id:reply-to; bh=IMewLbdDRfd2/O9UzIo6QfJj2etIfV9aFRPkRgXceto=; b=RY3PSIk6XopQ0qSJytqCXfdkG+wvS0FdeW4SpMe8ET12WJXb7b6IES2N8fwzaPoALq QD7uVwGfmU43zLzEE8bY028nS+J+ld7iGpNPeU1knn6CJUiiooZ/9FdOVkXicd1dyKy0 20sdwOT8EChDktq3OUdL8uKVV3L+IyjjlvEK4= X-Google-DKIM-Signature: v=1; a=rsa-sha256; c=relaxed/relaxed; d=1e100.net; s=20230601; t=1752083336; x=1752688136; h=references:in-reply-to:cc:to:from:subject:message-id:date :x-gm-message-state:from:to:cc:subject:date:message-id:reply-to; bh=IMewLbdDRfd2/O9UzIo6QfJj2etIfV9aFRPkRgXceto=; b=YQM1L89pFBcYYjaE5dlbSePbVCdKmar1NpWC72J3Tw5FC+wJL4duX1aPR0q/XKsjTG a8kfiJiu/qEYvPpNzbhxkcai6BEJa0Pg72FjqpzTuz23N6058CfP+9AzLS98OITR/TSh FXovO6191jJYDTA9lD9/0FFLHmeIWMZ5LP406l6qQLqiIx7ovEY0ww+s2BPmBhpy+D6n DKdkrTqYmr0dtbLVlSWV8Ox4jkzRodxlRkJZFCD1qADoE/nO12UGg9bW5fG1vcjHEBin wbBxP5/a9P0y/kRZPY4HSwkfLOTConkhRRnP3RZwVSdH9YLMAyyHtsKAmZ5XJXKG68yM LOQg== X-Gm-Message-State: AOJu0YzI5EDrfAh60diZnn3wMAjiPFyYdN32fguSNSngvUU59nLe/4n3 XVnvKNNMegxYY+IoQQK+e4P4P3goWAiFs3pEX2sBNlxyEG6IYcBj496JpR3SOMF24VCa8xuHtNn dicYkR3a68lIduUuc5WdZsRqAvMQZwi7z1QgDhioOag5N X-Gm-Gg: ASbGnctOFfYL+FsnKYjdgDB7ttz4IAzNQKNHaWv7VgfY7+moY/xVo4b9/tBucV4rWIh /4TfB/d/8uDzFaTKQulG67MsjR5CDo6xNiwcId4ngZ1DZy6JJuggFTIPRdXuuVtY30o4FzrnolZ o4Kd37ydJg9YudCLSdbuxK8bZ5DBudZROlrdmxzZZ2itVWGgk5nhb+FcLtpW/INHn0HTW+KNa1y Slz+1V7kxsHWAnkC2teSpjyIUyOqQaJqGfDiEEnBRoYqO3bog9x2xVSaLDjAAP5iP7tQeU3mUe2 DZCkd2PPQlZ4C5gi5Xj4pPM/J6cHnFZHaTNHP6bQpBL2WLhQT2mqd74f1JGzjVoWzVWjIw== X-Google-Smtp-Source: AGHT+IHyaH/d7GGCmH4GCtZ8eFkF/R2PcvFw/p47z7P+DDbDJUPnTB3l4QtCqTSSzZurPFu2PH8LTYP/8Hab X-Received: by 2002:ad4:4eaa:0:b0:704:89cd:c43d with SMTP id 6a1803df08f44-7048b81903dmr49964696d6.3.1752083336509; Wed, 09 Jul 2025 10:48:56 -0700 (PDT) Received: from postal.iol.unh.edu (postal.iol.unh.edu. [132.177.123.84]) by smtp-relay.gmail.com with ESMTPS id 6a1803df08f44-702c4cc4f6esm6973426d6.3.2025.07.09.10.48.56 (version=TLS1_2 cipher=ECDHE-ECDSA-AES128-GCM-SHA256 bits=128/128); Wed, 09 Jul 2025 10:48:56 -0700 (PDT) X-Relaying-Domain: iol.unh.edu Date: Wed, 09 Jul 2025 10:48:56 -0700 (PDT) Message-ID: <686eab88.d40a0220.cb899.5040SMTPIN_ADDED_MISSING@mx.google.com> Received: from [172.21.0.9] (unknown [172.18.0.240]) by postal.iol.unh.edu (Postfix) with ESMTP id 336F5604D420; Wed, 9 Jul 2025 13:48:56 -0400 (EDT) Subject: |WARNING| pw155086 [PATCH] net/mlx5: fix the queue length checking From: dpdklab@iol.unh.edu To: Test Report Cc: dpdk-test-reports@iol.unh.edu In-Reply-To: <20250709040000.112338-1-bingz@nvidia.com> References: <20250709040000.112338-1-bingz@nvidia.com> Content-Type: text/plain X-BeenThere: test-report@dpdk.org X-Mailman-Version: 2.1.29 Precedence: list List-Id: automatic DPDK test reports List-Unsubscribe: , List-Archive: List-Post: List-Help: List-Subscribe: , Errors-To: test-report-bounces@dpdk.org Test-Label: iol-compile-amd64-testing Test-Status: WARNING http://dpdk.org/patch/155086 _Testing issues_ Submitter: Bing Zhao Date: Wednesday, July 09 2025 04:00:00 DPDK git baseline: Repo:dpdk Branch: master CommitID:e2888614268cbf0abcc7cd72ad97ff4e4901d0a5 155086 --> testing issues Upstream job id: Windows-Compile-DPDK-Native#29682 Test environment and result as below: +-------------------------------+--------------------+-------------------+-------------------+------------------+-------------------------+ | Environment | dpdk_meson_compile | dpdk_msvc_compile | dpdk_compile_spdk | dpdk_compile_ovs | dpdk_llvm_clang_compile | +===============================+====================+===================+===================+==================+=========================+ | Ubuntu 20.04 | PASS | SKIPPED | SKIPPED | SKIPPED | SKIPPED | +-------------------------------+--------------------+-------------------+-------------------+------------------+-------------------------+ | FreeBSD 14.2 | PASS | SKIPPED | SKIPPED | SKIPPED | SKIPPED | +-------------------------------+--------------------+-------------------+-------------------+------------------+-------------------------+ | CentOS Stream 9 | PASS | SKIPPED | PASS | SKIPPED | SKIPPED | +-------------------------------+--------------------+-------------------+-------------------+------------------+-------------------------+ | Debian GNU/Linux 12 | PASS | SKIPPED | PASS | SKIPPED | SKIPPED | +-------------------------------+--------------------+-------------------+-------------------+------------------+-------------------------+ | Fedora Linux 40 | PASS | SKIPPED | WARN | SKIPPED | SKIPPED | +-------------------------------+--------------------+-------------------+-------------------+------------------+-------------------------+ | Fedora Linux 41 | PASS | SKIPPED | PASS | PASS | SKIPPED | +-------------------------------+--------------------+-------------------+-------------------+------------------+-------------------------+ | openSUSE Leap 15.6 | PASS | SKIPPED | SKIPPED | SKIPPED | SKIPPED | +-------------------------------+--------------------+-------------------+-------------------+------------------+-------------------------+ | Red Hat Enterprise Linux 8.10 | PASS | SKIPPED | SKIPPED | SKIPPED | SKIPPED | +-------------------------------+--------------------+-------------------+-------------------+------------------+-------------------------+ | Red Hat Enterprise Linux 9.5 | PASS | SKIPPED | SKIPPED | SKIPPED | SKIPPED | +-------------------------------+--------------------+-------------------+-------------------+------------------+-------------------------+ | Ubuntu 22.04 | PASS | SKIPPED | PASS | SKIPPED | SKIPPED | +-------------------------------+--------------------+-------------------+-------------------+------------------+-------------------------+ | Ubuntu 24.04 | PASS | SKIPPED | PASS | PASS | SKIPPED | +-------------------------------+--------------------+-------------------+-------------------+------------------+-------------------------+ | Alpine Linux 3.22.0 | PASS | SKIPPED | SKIPPED | SKIPPED | SKIPPED | +-------------------------------+--------------------+-------------------+-------------------+------------------+-------------------------+ | CentOS Stream 10 | PASS | SKIPPED | SKIPPED | SKIPPED | SKIPPED | +-------------------------------+--------------------+-------------------+-------------------+------------------+-------------------------+ | Windows Server 2022 | SKIPPED | PASS | SKIPPED | SKIPPED | PASS | +-------------------------------+--------------------+-------------------+-------------------+------------------+-------------------------+ ==== 20 line log output for Fedora Linux 40 (dpdk_compile_spdk): ==== --- Failed to get log output --- ==== End log output ==== Ubuntu 20.04 Kernel: 4.19 Compiler: gcc gcc (Ubuntu 9.4.0-1ubuntu1~20.04.2) 9.4.0 FreeBSD 14.2 Kernel: 14.2-RELEASE Compiler: clang 18.1.6 CentOS Stream 9 Kernel: 5.15 Compiler: gcc gcc (GCC) 11.5.0 20240719 (Red Hat 11.5.0-7) Debian GNU/Linux 12 Kernel: 5.15 Compiler: gcc gcc (Debian 12.2.0-14+deb12u1) 12.2.0 Fedora Linux 40 Kernel: 5.15 Compiler: gcc gcc (GCC) 14.2.1 20240912 (Red Hat 14.2.1-3) Fedora Linux 41 Kernel: 5.15 Compiler: clang gcc (GCC) 14.3.1 20250523 (Red Hat 14.3.1-1) openSUSE Leap 15.6 Kernel: 5.15 Compiler: gcc gcc (SUSE Linux) 7.5.0 Red Hat Enterprise Linux 8.10 Kernel: 5.15 Compiler: gcc gcc (GCC) 8.5.0 20210514 (Red Hat 8.5.0-22) Red Hat Enterprise Linux 9.5 Kernel: 5.15 Compiler: gcc gcc (GCC) 11.5.0 20240719 (Red Hat 11.5.0-2) Ubuntu 22.04 Kernel: 5.15 Compiler: gcc gcc (Ubuntu 11.4.0-1ubuntu1~22.04) 11.4.0 Ubuntu 24.04 Kernel: 5.15 Compiler: gcc gcc (Ubuntu 13.3.0-6ubuntu2~24.04) 13.3.0 Alpine Linux 3.22.0 Kernel: 5.15 Compiler: gcc gcc (Alpine 14.2.0) 14.2.0 CentOS Stream 10 Kernel: 5.15 Compiler: gcc gcc (GCC) 14.2.1 20250110 (Red Hat 14.2.1-8) Windows Server 2022 Kernel: 10.0.20348.2031 Compiler: clang 15.0.7, gcc 14.1.0 (MinGW), and MSVC VS 19.39.33521 To view detailed results, visit: https://lab.dpdk.org/results/dashboard/patchsets/33619/ UNH-IOL DPDK Community Lab To manage your email subscriptions, visit: https://lab.dpdk.org/results/dashboard/preferences/subscriptions/