From mboxrd@z Thu Jan 1 00:00:00 1970 Return-Path: Received: from mails.dpdk.org (mails.dpdk.org [217.70.189.124]) by inbox.dpdk.org (Postfix) with ESMTP id F02BA46A87 for ; Wed, 9 Jul 2025 19:54:20 +0200 (CEST) Received: from mails.dpdk.org (localhost [127.0.0.1]) by mails.dpdk.org (Postfix) with ESMTP id CF3F540A7D; Wed, 9 Jul 2025 19:54:20 +0200 (CEST) Received: from mail-pf1-f226.google.com (mail-pf1-f226.google.com [209.85.210.226]) by mails.dpdk.org (Postfix) with ESMTP id 4824140A7D for ; Wed, 9 Jul 2025 19:54:20 +0200 (CEST) Received: by mail-pf1-f226.google.com with SMTP id d2e1a72fcca58-749068b9b63so131822b3a.0 for ; Wed, 09 Jul 2025 10:54:20 -0700 (PDT) DKIM-Signature: v=1; a=rsa-sha256; c=relaxed/relaxed; d=iol.unh.edu; s=unh-iol; t=1752083659; x=1752688459; darn=dpdk.org; h=references:in-reply-to:cc:to:from:subject:message-id:date:from:to :cc:subject:date:message-id:reply-to; bh=G+0a6r1AOrryJZHosiyORVO2EgrQNmYKMoozxa26ChY=; b=cfQgoB6e0/GsAsn4W3UYasiEhMVRTvT/4C3ByzA51gvsP7fQ5Gj0rsEl4Pttk5r/P4 lg1M3fAUFKTvzfNZEnygaSqYUTB9mBShrCCb8ZGErIPCid0YolbSir+a1m1tIL65qTcj oz3m+HZvmSJcmjvk9bYwQtnaVZft9i5vb5lFA= X-Google-DKIM-Signature: v=1; a=rsa-sha256; c=relaxed/relaxed; d=1e100.net; s=20230601; t=1752083659; x=1752688459; h=references:in-reply-to:cc:to:from:subject:message-id:date :x-gm-message-state:from:to:cc:subject:date:message-id:reply-to; bh=G+0a6r1AOrryJZHosiyORVO2EgrQNmYKMoozxa26ChY=; b=M9prK0JJBOQBC8WAq5aQywNnsCU+RuMVLYDfy7kl4bx7ewfJtCW9XAXYdvCrMEczSZ GDRJzcMh9qJE5jvakoVekqd/oHSpcWjYoy4MwwWiy9Me0sfumZVzfue4Nz/tlruCV8M6 DSL53fYkdNZ/b66BbRjIQMhmy03GGpFqV9pMP/u6nswaCltvUrsyt5pasLwQbfgn+dTv TflhmT8iBXZxcAOvDgBhf2i6Mc9ov3CA67CTP/39m7xSq1sgyjvrZOK0Bdykz72erFOY zCkcXKzRjJjHrMjYCK7FjjZoF5aNG/jNeuEFGe3bT8a8j11CvnOCEGbv9ejFgi16x9ZU TvTw== X-Gm-Message-State: AOJu0YzW9QHtS7BFSeFFV/jBhviLYtvT6O/cYd5H8ZpQkcFgkTCwsjYy g28aEAeM/zU9mMUkcJRWdWRodIdwCtnxlcyt5PSfr1AHYUHlj5hW3Uom9Rl7PLC3dYE+UsvfkY9 cJJHPAniCGPjrCS683FypFvmWIKhFWJsd/13Ope8/8FvkqklRS8doMoeWcmE9 X-Gm-Gg: ASbGncuiyAbcCKpvOYCGFsmDZfkxTEjCAm9PQJLbepOy+37tgHxZQdqFiziTZcDcIfT 3t2aFNf80Fd4RJsqxiV+mD1s20KOSIo5XdhxZqcVdU+YiPnJSRCYco/XWkNBMcEQoFfniRRcxfh Ih2M/gfzkZD+3BRE5TDH+w3IJC4Yu/ZVGyV5e1dlzy5kTf2ggrryQsFkN+E+RQw/ItLLdf3lKOJ 3WjpnYeYQlvxuQDfB9hdqMjrsEWPmP4/T4HbCyBHGmnf2JTmzUJ5zCbU7nlymPGLiYfmiRqRf8t BriKBuVvnQ5kSXmqslALZ8T2Xfil2Fd/H2fhDxSkEnwOdkY= X-Google-Smtp-Source: AGHT+IHgk11bgfPn8sI1e0g/j+UV7MpDqz/rr8YNUyxFmRetks8OQKMnqJdm6/iAK/akN2hAJX1JlFlDzaIK X-Received: by 2002:a05:6a00:1708:b0:748:edf5:95de with SMTP id d2e1a72fcca58-74ea64609bamr5495576b3a.10.1752083659363; Wed, 09 Jul 2025 10:54:19 -0700 (PDT) Received: from postal.iol.unh.edu (postal.iol.unh.edu. [2606:4100:3880:1234::84]) by smtp-relay.gmail.com with ESMTPS id d2e1a72fcca58-74ce32f5756sm724410b3a.5.2025.07.09.10.54.19 (version=TLS1_2 cipher=ECDHE-ECDSA-AES128-GCM-SHA256 bits=128/128); Wed, 09 Jul 2025 10:54:19 -0700 (PDT) X-Relaying-Domain: iol.unh.edu Date: Wed, 09 Jul 2025 10:54:19 -0700 (PDT) Message-ID: <686eaccb.050a0220.25a1ef.711cSMTPIN_ADDED_MISSING@mx.google.com> Received: from [172.21.0.5] (unknown [172.18.0.240]) by postal.iol.unh.edu (Postfix) with ESMTP id D0A6A604D420; Wed, 9 Jul 2025 13:54:18 -0400 (EDT) Subject: |WARNING| pw155086 [PATCH] net/mlx5: fix the queue length checking From: dpdklab@iol.unh.edu To: Test Report Cc: dpdk-test-reports@iol.unh.edu In-Reply-To: <20250709040000.112338-1-bingz@nvidia.com> References: <20250709040000.112338-1-bingz@nvidia.com> Content-Type: text/plain X-BeenThere: test-report@dpdk.org X-Mailman-Version: 2.1.29 Precedence: list List-Id: automatic DPDK test reports List-Unsubscribe: , List-Archive: List-Post: List-Help: List-Subscribe: , Errors-To: test-report-bounces@dpdk.org Test-Label: iol-compile-amd64-testing Test-Status: WARNING http://dpdk.org/patch/155086 _Testing issues_ Submitter: Bing Zhao Date: Wednesday, July 09 2025 04:00:00 DPDK git baseline: Repo:dpdk Branch: master CommitID:e2888614268cbf0abcc7cd72ad97ff4e4901d0a5 155086 --> testing issues Upstream job id: Windows-Compile-DPDK-Native#29683 Test environment and result as below: +-------------------------------+--------------------+-------------------+-------------------+------------------+-------------------------+----------------------+ | Environment | dpdk_meson_compile | dpdk_msvc_compile | dpdk_compile_spdk | dpdk_compile_ovs | dpdk_llvm_clang_compile | dpdk_mingw64_compile | +===============================+====================+===================+===================+==================+=========================+======================+ | Ubuntu 20.04 | PASS | SKIPPED | SKIPPED | SKIPPED | SKIPPED | SKIPPED | +-------------------------------+--------------------+-------------------+-------------------+------------------+-------------------------+----------------------+ | FreeBSD 14.2 | PASS | SKIPPED | SKIPPED | SKIPPED | SKIPPED | SKIPPED | +-------------------------------+--------------------+-------------------+-------------------+------------------+-------------------------+----------------------+ | CentOS Stream 9 | PASS | SKIPPED | PASS | SKIPPED | SKIPPED | SKIPPED | +-------------------------------+--------------------+-------------------+-------------------+------------------+-------------------------+----------------------+ | Debian GNU/Linux 12 | PASS | SKIPPED | PASS | SKIPPED | SKIPPED | SKIPPED | +-------------------------------+--------------------+-------------------+-------------------+------------------+-------------------------+----------------------+ | Fedora Linux 40 | PASS | SKIPPED | WARN | SKIPPED | SKIPPED | SKIPPED | +-------------------------------+--------------------+-------------------+-------------------+------------------+-------------------------+----------------------+ | Fedora Linux 41 | PASS | SKIPPED | PASS | PASS | SKIPPED | SKIPPED | +-------------------------------+--------------------+-------------------+-------------------+------------------+-------------------------+----------------------+ | openSUSE Leap 15.6 | PASS | SKIPPED | SKIPPED | SKIPPED | SKIPPED | SKIPPED | +-------------------------------+--------------------+-------------------+-------------------+------------------+-------------------------+----------------------+ | Red Hat Enterprise Linux 8.10 | PASS | SKIPPED | SKIPPED | SKIPPED | SKIPPED | SKIPPED | +-------------------------------+--------------------+-------------------+-------------------+------------------+-------------------------+----------------------+ | Red Hat Enterprise Linux 9.5 | PASS | SKIPPED | SKIPPED | SKIPPED | SKIPPED | SKIPPED | +-------------------------------+--------------------+-------------------+-------------------+------------------+-------------------------+----------------------+ | Ubuntu 22.04 | PASS | SKIPPED | PASS | SKIPPED | SKIPPED | SKIPPED | +-------------------------------+--------------------+-------------------+-------------------+------------------+-------------------------+----------------------+ | Ubuntu 24.04 | PASS | SKIPPED | PASS | PASS | SKIPPED | SKIPPED | +-------------------------------+--------------------+-------------------+-------------------+------------------+-------------------------+----------------------+ | Alpine Linux 3.22.0 | PASS | SKIPPED | SKIPPED | SKIPPED | SKIPPED | SKIPPED | +-------------------------------+--------------------+-------------------+-------------------+------------------+-------------------------+----------------------+ | CentOS Stream 10 | PASS | SKIPPED | SKIPPED | SKIPPED | SKIPPED | SKIPPED | +-------------------------------+--------------------+-------------------+-------------------+------------------+-------------------------+----------------------+ | Windows Server 2022 | SKIPPED | PASS | SKIPPED | SKIPPED | PASS | PASS | +-------------------------------+--------------------+-------------------+-------------------+------------------+-------------------------+----------------------+ ==== 20 line log output for Fedora Linux 40 (dpdk_compile_spdk): ==== --- Failed to get log output --- ==== End log output ==== Ubuntu 20.04 Kernel: 4.19 Compiler: gcc gcc (Ubuntu 9.4.0-1ubuntu1~20.04.2) 9.4.0 FreeBSD 14.2 Kernel: 14.2-RELEASE Compiler: clang 18.1.6 CentOS Stream 9 Kernel: 5.15 Compiler: gcc gcc (GCC) 11.5.0 20240719 (Red Hat 11.5.0-7) Debian GNU/Linux 12 Kernel: 5.15 Compiler: gcc gcc (Debian 12.2.0-14+deb12u1) 12.2.0 Fedora Linux 40 Kernel: 5.15 Compiler: gcc gcc (GCC) 14.2.1 20240912 (Red Hat 14.2.1-3) Fedora Linux 41 Kernel: 5.15 Compiler: clang gcc (GCC) 14.3.1 20250523 (Red Hat 14.3.1-1) openSUSE Leap 15.6 Kernel: 5.15 Compiler: gcc gcc (SUSE Linux) 7.5.0 Red Hat Enterprise Linux 8.10 Kernel: 5.15 Compiler: gcc gcc (GCC) 8.5.0 20210514 (Red Hat 8.5.0-22) Red Hat Enterprise Linux 9.5 Kernel: 5.15 Compiler: gcc gcc (GCC) 11.5.0 20240719 (Red Hat 11.5.0-2) Ubuntu 22.04 Kernel: 5.15 Compiler: gcc gcc (Ubuntu 11.4.0-1ubuntu1~22.04) 11.4.0 Ubuntu 24.04 Kernel: 5.15 Compiler: gcc gcc (Ubuntu 13.3.0-6ubuntu2~24.04) 13.3.0 Alpine Linux 3.22.0 Kernel: 5.15 Compiler: gcc gcc (Alpine 14.2.0) 14.2.0 CentOS Stream 10 Kernel: 5.15 Compiler: gcc gcc (GCC) 14.2.1 20250110 (Red Hat 14.2.1-8) Windows Server 2022 Kernel: 10.0.20348.2031 Compiler: clang 15.0.7, gcc 14.1.0 (MinGW), and MSVC VS 19.39.33521 To view detailed results, visit: https://lab.dpdk.org/results/dashboard/patchsets/33619/ UNH-IOL DPDK Community Lab To manage your email subscriptions, visit: https://lab.dpdk.org/results/dashboard/preferences/subscriptions/