From mboxrd@z Thu Jan 1 00:00:00 1970 Return-Path: Received: from mails.dpdk.org (mails.dpdk.org [217.70.189.124]) by inbox.dpdk.org (Postfix) with ESMTP id A2B3E46B30 for ; Wed, 9 Jul 2025 20:02:17 +0200 (CEST) Received: from mails.dpdk.org (localhost [127.0.0.1]) by mails.dpdk.org (Postfix) with ESMTP id 7FF5140A7D; Wed, 9 Jul 2025 20:02:17 +0200 (CEST) Received: from mail-il1-f225.google.com (mail-il1-f225.google.com [209.85.166.225]) by mails.dpdk.org (Postfix) with ESMTP id 95B2C40A7D for ; Wed, 9 Jul 2025 20:02:16 +0200 (CEST) Received: by mail-il1-f225.google.com with SMTP id e9e14a558f8ab-3e05bb6efe0so1023935ab.3 for ; Wed, 09 Jul 2025 11:02:16 -0700 (PDT) DKIM-Signature: v=1; a=rsa-sha256; c=relaxed/relaxed; d=iol.unh.edu; s=unh-iol; t=1752084136; x=1752688936; darn=dpdk.org; h=references:in-reply-to:cc:to:from:subject:message-id:date:from:to :cc:subject:date:message-id:reply-to; bh=eg+flKJHykRGvCwSNsxSj/dxUnIpkcCqjJVmA4Anvy4=; b=LIRqD5jM5sxs6M5vpHKd4Ao2zzXh20NLrPnz+J11z2/JCKrW3ck490mAZnvhvXVOWg 5owiUW71WkH0NepJTcYzb+zl/9upWUSByx/rfCR/y6TwzC+oDPQCD510nZIqUMCyzuxr mvjbr6qBmwwbgMV6H8Tmcb6Or26ixt+3ZiEIQ= X-Google-DKIM-Signature: v=1; a=rsa-sha256; c=relaxed/relaxed; d=1e100.net; s=20230601; t=1752084136; x=1752688936; h=references:in-reply-to:cc:to:from:subject:message-id:date :x-gm-message-state:from:to:cc:subject:date:message-id:reply-to; bh=eg+flKJHykRGvCwSNsxSj/dxUnIpkcCqjJVmA4Anvy4=; b=RF1gapSQvLJhfW1f7utWWT7Qz9ud4BOWntDuUkcUKj0BqSWWnUCIOl328nht0ajr6f Rmrv3/74RM9ZxlITnBqaH17o/UdeQVLIYLb+ZbxWYp4e+doUd5yu1y+vqvNqbsOvDp8j /BTO3zhk/0PblEb/8qQtzLJNd3I98BOxaA++QlJgBk/LS+fjFkqf7ldA9Wda1UJEbt6D NVAU9y3sCuzyw0zC9GTcbkcw5kFBXjF0WShLWgcomDoUq93OJ+vYdU0jRvD7uZeYlp8u YGpXklnTTCbEtYePkxrJuLo77JJn6RsRmjhiZnb9avMpUhFDOdV2zhgG2R1KOvyvA+9V BSVw== X-Gm-Message-State: AOJu0Yw2n9CCU/Q9Anaen0eEw03fu1NwFYZO/6fdtRbxD2unPIzEIwQZ FuJWR/DVih0k3G8u33LC1TCU8osKe0gXpj0aTCpfxLvKMVo4xwXfzh4VvpYstRM2rQOk8AVBGN4 Q0bzU3qUQZnSTMVyzU4/HKXyD8bAqBT+QNRVBKp4utEVY X-Gm-Gg: ASbGncvo1ZVvNjdUxgioBr0/gGbibbQpcbB6tbpgOsKnBXhAHG4RH5ZxCELB/NwLb31 m2erXOyVa2Njn33lBUSkT3zXPifx7dAoy04k31kxFoHaES7E8kF41fua2a+va7+MUA5Q6Fb/dEl RTk0btwDQ2ihRFxEn78HYGtbIWyiQ6mCkwqSRc+XnmfdACKlZCBoCjpPLqC9DHZTdKEnu4U8JYh 7ept61k7bmxivyeFRxKt64kp9ItYcG5Sp33CTKEdlfDjrzYiU3mfMzFOb8+PjUKIcCprOBmDxLw V7AyevggLawqzMj/AaL6jHP/g7WdaCDGLMZo7rLor3zQJ/uOYRwq3I1RyJWXKdb8tW1/Pw== X-Google-Smtp-Source: AGHT+IFZQfNB229xbdFCFIG873U+IgZdzavTk99LQ6h5zPl8S6f42pRNS20BHJDFl7Ks5pKM0U9XQ+GmlneY X-Received: by 2002:a05:6e02:1845:b0:3dc:87c7:a5b5 with SMTP id e9e14a558f8ab-3e166ff8e4bmr42398495ab.3.1752084135718; Wed, 09 Jul 2025 11:02:15 -0700 (PDT) Received: from postal.iol.unh.edu (postal.iol.unh.edu. [132.177.123.84]) by smtp-relay.gmail.com with ESMTPS id 8926c6da1cb9f-503b5be9b60sm492281173.69.2025.07.09.11.02.15 (version=TLS1_2 cipher=ECDHE-ECDSA-AES128-GCM-SHA256 bits=128/128); Wed, 09 Jul 2025 11:02:15 -0700 (PDT) X-Relaying-Domain: iol.unh.edu Date: Wed, 09 Jul 2025 11:02:15 -0700 (PDT) Message-ID: <686eaea7.050a0220.121c59.a92aSMTPIN_ADDED_MISSING@mx.google.com> Received: from [172.21.0.6] (unknown [172.18.0.240]) by postal.iol.unh.edu (Postfix) with ESMTP id 35B45604D420; Wed, 9 Jul 2025 14:02:15 -0400 (EDT) Subject: |SUCCESS| pw155108 [PATCH] [v1,1/1] net/iavf: fix order of inclusion From: dpdklab@iol.unh.edu To: Test Report Cc: dpdk-test-reports@iol.unh.edu In-Reply-To: <552f8241f4f65fce0c8b43797612a97dec5d9ebc.1752066381.git.anatoly.burakov@intel.com> References: <552f8241f4f65fce0c8b43797612a97dec5d9ebc.1752066381.git.anatoly.burakov@intel.com> Content-Type: text/plain X-BeenThere: test-report@dpdk.org X-Mailman-Version: 2.1.29 Precedence: list List-Id: automatic DPDK test reports List-Unsubscribe: , List-Archive: List-Post: List-Help: List-Subscribe: , Errors-To: test-report-bounces@dpdk.org Test-Label: iol-abi-testing Test-Status: SUCCESS http://dpdk.org/patch/155108 _Testing PASS_ Submitter: Burakov, Anatoly Date: Wednesday, July 09 2025 13:06:29 DPDK git baseline: Repo:dpdk Branch: master CommitID:f1853a0cc95eaae5842b88be0cbcd5becc2e94b7 155108 --> testing pass Upstream job id: Generic-DPDK-Compile-ABI#133814 Test environment and result as below: +-------------------------------+----------+ | Environment | abi_test | +===============================+==========+ | Fedora Linux 40 | PASS | +-------------------------------+----------+ | CentOS Stream 9 | PASS | +-------------------------------+----------+ | Debian GNU/Linux 12 | PASS | +-------------------------------+----------+ | CentOS Stream 10 | PASS | +-------------------------------+----------+ | Red Hat Enterprise Linux 8.10 | PASS | +-------------------------------+----------+ | Ubuntu 22.04 | PASS | +-------------------------------+----------+ | Fedora Linux 41 | PASS | +-------------------------------+----------+ | openSUSE Leap 15.6 | PASS | +-------------------------------+----------+ | Red Hat Enterprise Linux 9.5 | PASS | +-------------------------------+----------+ | Ubuntu 24.04 | PASS | +-------------------------------+----------+ Fedora Linux 40 Kernel: 5.15 Compiler: clang gcc (GCC) 14.2.1 20240912 (Red Hat 14.2.1-3) CentOS Stream 9 Kernel: 5.15 Compiler: gcc gcc (GCC) 11.5.0 20240719 (Red Hat 11.5.0-7) Debian GNU/Linux 12 Kernel: 5.15 Compiler: gcc gcc (Debian 12.2.0-14+deb12u1) 12.2.0 CentOS Stream 10 Kernel: 5.15 Compiler: gcc gcc (GCC) 14.2.1 20250110 (Red Hat 14.2.1-8) Red Hat Enterprise Linux 8.10 Kernel: 5.15 Compiler: gcc gcc (GCC) 8.5.0 20210514 (Red Hat 8.5.0-22) Ubuntu 22.04 Kernel: 5.15 Compiler: gcc gcc (Ubuntu 11.4.0-1ubuntu1~22.04) 11.4.0 Fedora Linux 41 Kernel: 5.15 Compiler: gcc gcc (GCC) 14.3.1 20250523 (Red Hat 14.3.1-1) openSUSE Leap 15.6 Kernel: 5.15 Compiler: gcc gcc (SUSE Linux) 7.5.0 Red Hat Enterprise Linux 9.5 Kernel: 5.15 Compiler: gcc gcc (GCC) 11.5.0 20240719 (Red Hat 11.5.0-2) Ubuntu 24.04 Kernel: 5.15 Compiler: gcc gcc (Ubuntu 13.3.0-6ubuntu2~24.04) 13.3.0 To view detailed results, visit: https://lab.dpdk.org/results/dashboard/patchsets/33627/ UNH-IOL DPDK Community Lab To manage your email subscriptions, visit: https://lab.dpdk.org/results/dashboard/preferences/subscriptions/