From mboxrd@z Thu Jan 1 00:00:00 1970 Return-Path: Received: from mails.dpdk.org (mails.dpdk.org [217.70.189.124]) by inbox.dpdk.org (Postfix) with ESMTP id BB13446B30 for ; Wed, 9 Jul 2025 20:03:19 +0200 (CEST) Received: from mails.dpdk.org (localhost [127.0.0.1]) by mails.dpdk.org (Postfix) with ESMTP id B171840A7D; Wed, 9 Jul 2025 20:03:19 +0200 (CEST) Received: from mail-oa1-f100.google.com (mail-oa1-f100.google.com [209.85.160.100]) by mails.dpdk.org (Postfix) with ESMTP id D669040A7D for ; Wed, 9 Jul 2025 20:03:18 +0200 (CEST) Received: by mail-oa1-f100.google.com with SMTP id 586e51a60fabf-2efbbf5a754so109901fac.0 for ; Wed, 09 Jul 2025 11:03:18 -0700 (PDT) DKIM-Signature: v=1; a=rsa-sha256; c=relaxed/relaxed; d=iol.unh.edu; s=unh-iol; t=1752084198; x=1752688998; darn=dpdk.org; h=references:in-reply-to:cc:to:from:subject:message-id:date:from:to :cc:subject:date:message-id:reply-to; bh=R0mbUwC+hqEsZkOg7t7Io6prhkx7Y0zJjDpH6vis2CY=; b=NhaOn/DFWqpmDW31xkkTgL+UA10Lp6Ox1G1uO4hDM43JxY1raYRd4+KMqdShGjiq2H +FkqsLiAwKsaaDggJGql5JZV+r4J0DtK4oHR9xFchzDaNM7QO+QXq0/SEWU9IZVCLKF1 6fFO4BAGcz1w8csDAKp4Uvk5noU6Fwa1ywdks= X-Google-DKIM-Signature: v=1; a=rsa-sha256; c=relaxed/relaxed; d=1e100.net; s=20230601; t=1752084198; x=1752688998; h=references:in-reply-to:cc:to:from:subject:message-id:date :x-gm-message-state:from:to:cc:subject:date:message-id:reply-to; bh=R0mbUwC+hqEsZkOg7t7Io6prhkx7Y0zJjDpH6vis2CY=; b=U73XheYGEboeE94CkUEy5lWXtKk8C0iObUUAltJOfbTlg83IHgaUZLdEs3781P0Ql5 yFt0FS2rPyE4yedluLX96W2ayfIFA4xjCn2NvS/Jt9YDysaUU6Regw5xfENiByk7r2EI AmDhSBIMCHas0auktaaIMjmg+wWRytiw/B4rmM+JDS704z/8y3A1UMPVD6v+qjN0Q/Nm a3Y6Qfe7SbGP+1K2haYfEaGOOvRuMuxujB1HbclIzr6WjqXINznNtvibSCqPboUEYXNe h9AHM+CE/DzyB2vsCwfOcr5c6+iqO1wPa7yQNCilYcL43VfR0qzxnLXg2vSoJJvxOU3G 6lfg== X-Gm-Message-State: AOJu0YzuO5x5u+5z8YqwH6H+6KyD832lJsqDUvYI8NNyaRwEV9caLJdB 3A33eCBbOCDldhoI5CITaFMMSedmVncaxgssxh1kQjAbntYlMmmpw+TkRWn+zYULefNIVr8UNIR 5q6AtRnhfGQokQ3YpLUvHInViLMH+HYRgI5wliFKf9Uk+ X-Gm-Gg: ASbGncvGVwhn7PdyXerEzGIxZGq1UYOIdva0j4ith7R11z2ka64G4Bs6dYYKo5bRLSx EHG2xCO6sMJrd+BZ29YNjk8VTeD0b8uINzDoLijryUI21bhJb+tWmEYxJjCC/fRdX251XPeSMTg XOwRcaSFITA2ugZsBRGNFE3sFHvIHKSl7+HEmfhjwhVL2R7dlvLLBF3+DBccUzBZnJNPqfXG0zx JSayNF5GfmfhW/Cb6zZWrwyQr3QP3NNNco/EwCLEADNWp32aEIJMQ3TKapsXyEwhn0TpD7iAGS3 P7yNcppuGyi/19K93Zqh+FMixx+gAuWQt/rE0wldCP/630DULfoeS6kPTxWnKIneU3qIsg== X-Google-Smtp-Source: AGHT+IH851JDTlqxzS90HBM+1M+QqtO5L1nRpz8EeOTRVMdbk1p6gJTpvvgAEU0B2z3gqhS9YW2YEx81+j3j X-Received: by 2002:a05:6871:798a:b0:2d6:6688:a625 with SMTP id 586e51a60fabf-2fef87b8c05mr2161686fac.37.1752084197841; Wed, 09 Jul 2025 11:03:17 -0700 (PDT) Received: from postal.iol.unh.edu (postal.iol.unh.edu. [132.177.123.84]) by smtp-relay.gmail.com with ESMTPS id 586e51a60fabf-2f78fe57997sm863683fac.9.2025.07.09.11.03.17 (version=TLS1_2 cipher=ECDHE-ECDSA-AES128-GCM-SHA256 bits=128/128); Wed, 09 Jul 2025 11:03:17 -0700 (PDT) X-Relaying-Domain: iol.unh.edu Date: Wed, 09 Jul 2025 11:03:17 -0700 (PDT) Message-ID: <686eaee5.050a0220.146436.eab7SMTPIN_ADDED_MISSING@mx.google.com> Received: from [172.21.0.8] (unknown [172.18.0.240]) by postal.iol.unh.edu (Postfix) with ESMTP id 49D32604D420; Wed, 9 Jul 2025 14:03:17 -0400 (EDT) Subject: |SUCCESS| pw155108 [PATCH] [v1,1/1] net/iavf: fix order of inclusion From: dpdklab@iol.unh.edu To: Test Report Cc: dpdk-test-reports@iol.unh.edu In-Reply-To: <552f8241f4f65fce0c8b43797612a97dec5d9ebc.1752066381.git.anatoly.burakov@intel.com> References: <552f8241f4f65fce0c8b43797612a97dec5d9ebc.1752066381.git.anatoly.burakov@intel.com> Content-Type: text/plain X-BeenThere: test-report@dpdk.org X-Mailman-Version: 2.1.29 Precedence: list List-Id: automatic DPDK test reports List-Unsubscribe: , List-Archive: List-Post: List-Help: List-Subscribe: , Errors-To: test-report-bounces@dpdk.org Test-Label: iol-abi-testing Test-Status: SUCCESS http://dpdk.org/patch/155108 _Testing PASS_ Submitter: Burakov, Anatoly Date: Wednesday, July 09 2025 13:06:29 DPDK git baseline: Repo:dpdk Branch: master CommitID:f1853a0cc95eaae5842b88be0cbcd5becc2e94b7 155108 --> testing pass Upstream job id: Generic-DPDK-Compile-ABI#133809 Test environment and result as below: +-------------------------------+----------+ | Environment | abi_test | +===============================+==========+ | Fedora Linux 40 | PASS | +-------------------------------+----------+ | CentOS Stream 9 | PASS | +-------------------------------+----------+ | Debian GNU/Linux 12 | PASS | +-------------------------------+----------+ | CentOS Stream 10 | PASS | +-------------------------------+----------+ | Red Hat Enterprise Linux 8.10 | PASS | +-------------------------------+----------+ | Ubuntu 22.04 | PASS | +-------------------------------+----------+ | Fedora Linux 41 | PASS | +-------------------------------+----------+ | openSUSE Leap 15.6 | PASS | +-------------------------------+----------+ | Red Hat Enterprise Linux 9.5 | PASS | +-------------------------------+----------+ | Ubuntu 24.04 | PASS | +-------------------------------+----------+ Fedora Linux 40 Kernel: 5.15 Compiler: clang gcc (GCC) 14.2.1 20240912 (Red Hat 14.2.1-3) CentOS Stream 9 Kernel: 5.15 Compiler: gcc gcc (GCC) 11.5.0 20240719 (Red Hat 11.5.0-7) Debian GNU/Linux 12 Kernel: 5.15 Compiler: gcc gcc (Debian 12.2.0-14+deb12u1) 12.2.0 CentOS Stream 10 Kernel: 5.15 Compiler: gcc gcc (GCC) 14.2.1 20250110 (Red Hat 14.2.1-8) Red Hat Enterprise Linux 8.10 Kernel: 5.15 Compiler: gcc gcc (GCC) 8.5.0 20210514 (Red Hat 8.5.0-22) Ubuntu 22.04 Kernel: 5.15 Compiler: gcc gcc (Ubuntu 11.4.0-1ubuntu1~22.04) 11.4.0 Fedora Linux 41 Kernel: 5.15 Compiler: gcc gcc (GCC) 14.3.1 20250523 (Red Hat 14.3.1-1) openSUSE Leap 15.6 Kernel: 5.15 Compiler: gcc gcc (SUSE Linux) 7.5.0 Red Hat Enterprise Linux 9.5 Kernel: 5.15 Compiler: gcc gcc (GCC) 11.5.0 20240719 (Red Hat 11.5.0-2) Ubuntu 24.04 Kernel: 5.15 Compiler: gcc gcc (Ubuntu 13.3.0-6ubuntu2~24.04) 13.3.0 To view detailed results, visit: https://lab.dpdk.org/results/dashboard/patchsets/33627/ UNH-IOL DPDK Community Lab To manage your email subscriptions, visit: https://lab.dpdk.org/results/dashboard/preferences/subscriptions/