From mboxrd@z Thu Jan 1 00:00:00 1970 Return-Path: Received: from mails.dpdk.org (mails.dpdk.org [217.70.189.124]) by inbox.dpdk.org (Postfix) with ESMTP id C9F9246B30 for ; Wed, 9 Jul 2025 20:03:28 +0200 (CEST) Received: from mails.dpdk.org (localhost [127.0.0.1]) by mails.dpdk.org (Postfix) with ESMTP id C465140A7D; Wed, 9 Jul 2025 20:03:28 +0200 (CEST) Received: from mail-oa1-f100.google.com (mail-oa1-f100.google.com [209.85.160.100]) by mails.dpdk.org (Postfix) with ESMTP id B0F1640A7D for ; Wed, 9 Jul 2025 20:03:27 +0200 (CEST) Received: by mail-oa1-f100.google.com with SMTP id 586e51a60fabf-2f3dab2a2a9so94877fac.2 for ; Wed, 09 Jul 2025 11:03:27 -0700 (PDT) DKIM-Signature: v=1; a=rsa-sha256; c=relaxed/relaxed; d=iol.unh.edu; s=unh-iol; t=1752084207; x=1752689007; darn=dpdk.org; h=references:in-reply-to:cc:to:from:subject:message-id:date:from:to :cc:subject:date:message-id:reply-to; bh=viyApWTUD2lmsPibzwrQH0ac+p0DuwZJpG8lrAUrOD4=; b=MT1R19hd1RvGHVlIqCGWMwtCmc3TvWSEzysklUwjKXEZaNcQnvHE6al7SRYjIuFp6h /ImO/7v/MjOVXfpeZr9rwplmas5vCAurc3yHx1e29jgzxoFEiEYo3jvKgzI+Gru5w4Hy MF1LvYqxaJD7XHZijE0BLJmIQxmtU5+P3en5E= X-Google-DKIM-Signature: v=1; a=rsa-sha256; c=relaxed/relaxed; d=1e100.net; s=20230601; t=1752084207; x=1752689007; h=references:in-reply-to:cc:to:from:subject:message-id:date :x-gm-message-state:from:to:cc:subject:date:message-id:reply-to; bh=viyApWTUD2lmsPibzwrQH0ac+p0DuwZJpG8lrAUrOD4=; b=NXShXdBtn/iowGRdOebc35zalgrPFSKTnqPX9SdqjMC7NwlR69hoOb64MdS0i0acsc 4/K9UwL8ge5wRxpGyKS3Uo9BfH7cHjQ/sII62K2W0oAddG2F+uVxk+E3FyRzjCv9+Shw jX0op9yNRWH9hhARWtCjIQ8jflZtaNId9p35QGAGd+zqz9dF4eUOSRxJPbWoyhm9ApPI hK3UyYn4Sv+773djLyRUmy7iDOUtqSvgDhEQH8LJ/+t8HhcVzQLpx1vTnzivhHI210kU TLRUQKP7YaP0PCiqiB3kYKEVw0NMYlYAibiDeKiF4e6cY48BMC2ruLoqgBoHiY4flZBk kRaA== X-Gm-Message-State: AOJu0YwqjK5NcX2SZNyA65Fh4jPD7P04idwWKvxo7djQz7jLwhPJ+18s 66QszuQlPjxXrMEfczT1FMcP7jQOqA+Hm/Q0NU1PQz7099QtUVykhigKqVSYEmpBbtPaBvnLt/4 1/Q32gChJmMmpb79pM/HhfP253zjAH4TeRn86qe4hAIJe X-Gm-Gg: ASbGncshHOhvDcZmoxwY5YFfEZmUFXKm/HWzXNSwT4wf2ueHUcurlQ/6bA4LNkojg5Q 4lUu+/9ePewrdMQRSEneHHPYuwNmN1FIWG60lmgkm7gZU007pA/5ZyHy/FW1hs+B0P5DZNKGy6C Oby7NfKr4aVllsZK2W2vmUsYZzkyNb3TKvk2+yRiSjMu1t8iRMxjNvcjaD/F/4SofvTnTJcAtNh nehBvtIfLfGHTAcBKhldErjeCeq6k1eX4r9R9qHTYfWjdMRnJUJKB7023m1RDro1gB2DysJ1n5A 4t8GYD/Qy5OsZb6xjtkRFEB3ZjIJXdh7qZovOLzWSgVNxwS7EtchgYTJq9ffsR+4L9rA+w== X-Google-Smtp-Source: AGHT+IEO8L3jIz93sxNnFfYvsdF8jT7/pKrxMmZ9Kn4qOEy4R4jtseEea0WoIjPudh5oWdAnIekK9paoZ5hd X-Received: by 2002:a05:6808:5296:b0:40c:fcb9:9158 with SMTP id 5614622812f47-412bc665730mr2390392b6e.27.1752084206970; Wed, 09 Jul 2025 11:03:26 -0700 (PDT) Received: from postal.iol.unh.edu (postal.iol.unh.edu. [132.177.123.84]) by smtp-relay.gmail.com with ESMTPS id 3f1490d57ef6-e899c40e66fsm660947276.19.2025.07.09.11.03.26 (version=TLS1_2 cipher=ECDHE-ECDSA-AES128-GCM-SHA256 bits=128/128); Wed, 09 Jul 2025 11:03:26 -0700 (PDT) X-Relaying-Domain: iol.unh.edu Date: Wed, 09 Jul 2025 11:03:26 -0700 (PDT) Message-ID: <686eaeee.250a0220.bd16c.2a12SMTPIN_ADDED_MISSING@mx.google.com> Received: from [172.21.0.6] (unknown [172.18.0.240]) by postal.iol.unh.edu (Postfix) with ESMTP id 9BCC6604D420; Wed, 9 Jul 2025 14:03:26 -0400 (EDT) Subject: |WARNING| pw155106 [PATCH] net/mlx5: fix panic for non template age From: dpdklab@iol.unh.edu To: Test Report Cc: dpdk-test-reports@iol.unh.edu In-Reply-To: <20250709102508.229287-1-mkashani@nvidia.com> References: <20250709102508.229287-1-mkashani@nvidia.com> Content-Type: text/plain X-BeenThere: test-report@dpdk.org X-Mailman-Version: 2.1.29 Precedence: list List-Id: automatic DPDK test reports List-Unsubscribe: , List-Archive: List-Post: List-Help: List-Subscribe: , Errors-To: test-report-bounces@dpdk.org Test-Label: iol-compile-amd64-testing Test-Status: WARNING http://dpdk.org/patch/155106 _Testing issues_ Submitter: Maayan Kashani Date: Wednesday, July 09 2025 10:25:07 DPDK git baseline: Repo:dpdk Branch: master CommitID:6d828a3e774829165137aa2713e3040edd7f46bf 155106 --> testing issues Upstream job id: Generic-DPDK-Compile-Meson#407282 Test environment and result as below: +-------------------------------+--------------------+-------------------+------------------+-------------------+ | Environment | dpdk_meson_compile | dpdk_compile_spdk | dpdk_compile_ovs | dpdk_msvc_compile | +===============================+====================+===================+==================+===================+ | CentOS Stream 9 | PASS | PASS | SKIPPED | SKIPPED | +-------------------------------+--------------------+-------------------+------------------+-------------------+ | Debian GNU/Linux 12 | PASS | PASS | SKIPPED | SKIPPED | +-------------------------------+--------------------+-------------------+------------------+-------------------+ | CentOS Stream 10 | PASS | SKIPPED | SKIPPED | SKIPPED | +-------------------------------+--------------------+-------------------+------------------+-------------------+ | Fedora Linux 40 | PASS | PASS | SKIPPED | SKIPPED | +-------------------------------+--------------------+-------------------+------------------+-------------------+ | Fedora Linux 41 | PASS | WARN | PASS | SKIPPED | +-------------------------------+--------------------+-------------------+------------------+-------------------+ | Red Hat Enterprise Linux 8.10 | PASS | SKIPPED | SKIPPED | SKIPPED | +-------------------------------+--------------------+-------------------+------------------+-------------------+ | openSUSE Leap 15.6 | PASS | SKIPPED | SKIPPED | SKIPPED | +-------------------------------+--------------------+-------------------+------------------+-------------------+ | Red Hat Enterprise Linux 9.5 | PASS | SKIPPED | SKIPPED | SKIPPED | +-------------------------------+--------------------+-------------------+------------------+-------------------+ | Ubuntu 20.04 | PASS | SKIPPED | SKIPPED | SKIPPED | +-------------------------------+--------------------+-------------------+------------------+-------------------+ | Ubuntu 22.04 | PASS | PASS | SKIPPED | SKIPPED | +-------------------------------+--------------------+-------------------+------------------+-------------------+ | Ubuntu 24.04 | PASS | PASS | PASS | SKIPPED | +-------------------------------+--------------------+-------------------+------------------+-------------------+ | Alpine Linux 3.22.0 | PASS | SKIPPED | SKIPPED | SKIPPED | +-------------------------------+--------------------+-------------------+------------------+-------------------+ | FreeBSD 14.2 | PASS | SKIPPED | SKIPPED | SKIPPED | +-------------------------------+--------------------+-------------------+------------------+-------------------+ | Windows Server 2022 | SKIPPED | SKIPPED | SKIPPED | PASS | +-------------------------------+--------------------+-------------------+------------------+-------------------+ ==== 20 line log output for Fedora Linux 41 (dpdk_compile_spdk): ==== --- Failed to get log output --- ==== End log output ==== CentOS Stream 9 Kernel: 5.15 Compiler: gcc gcc (GCC) 11.5.0 20240719 (Red Hat 11.5.0-7) Debian GNU/Linux 12 Kernel: 5.15 Compiler: gcc gcc (Debian 12.2.0-14+deb12u1) 12.2.0 CentOS Stream 10 Kernel: 5.15 Compiler: gcc gcc (GCC) 14.2.1 20250110 (Red Hat 14.2.1-8) Fedora Linux 40 Kernel: 5.15 Compiler: clang gcc (GCC) 14.2.1 20240912 (Red Hat 14.2.1-3) Fedora Linux 41 Kernel: 5.15 Compiler: gcc gcc (GCC) 14.3.1 20250523 (Red Hat 14.3.1-1) Red Hat Enterprise Linux 8.10 Kernel: 5.15 Compiler: gcc gcc (GCC) 8.5.0 20210514 (Red Hat 8.5.0-22) openSUSE Leap 15.6 Kernel: 5.15 Compiler: gcc gcc (SUSE Linux) 7.5.0 Red Hat Enterprise Linux 9.5 Kernel: 5.15 Compiler: gcc gcc (GCC) 11.5.0 20240719 (Red Hat 11.5.0-2) Ubuntu 20.04 Kernel: 5.15 Compiler: gcc gcc (Ubuntu 9.4.0-1ubuntu1~20.04.2) 9.4.0 Ubuntu 22.04 Kernel: 5.15 Compiler: gcc gcc (Ubuntu 11.4.0-1ubuntu1~22.04) 11.4.0 Ubuntu 24.04 Kernel: 5.15 Compiler: gcc gcc (Ubuntu 13.3.0-6ubuntu2~24.04) 13.3.0 Alpine Linux 3.22.0 Kernel: 5.15 Compiler: gcc gcc (Alpine 14.2.0) 14.2.0 FreeBSD 14.2 Kernel: 14.2-RELEASE Compiler: clang 18.1.6 Windows Server 2022 Kernel: 10.0.20348.2031 Compiler: clang 15.0.7, gcc 14.1.0 (MinGW), and MSVC VS 19.39.33521 To view detailed results, visit: https://lab.dpdk.org/results/dashboard/patchsets/33625/ UNH-IOL DPDK Community Lab To manage your email subscriptions, visit: https://lab.dpdk.org/results/dashboard/preferences/subscriptions/