From mboxrd@z Thu Jan 1 00:00:00 1970 Return-Path: Received: from mails.dpdk.org (mails.dpdk.org [217.70.189.124]) by inbox.dpdk.org (Postfix) with ESMTP id 005FA46B30 for ; Wed, 9 Jul 2025 20:05:04 +0200 (CEST) Received: from mails.dpdk.org (localhost [127.0.0.1]) by mails.dpdk.org (Postfix) with ESMTP id EC14140A7D; Wed, 9 Jul 2025 20:05:04 +0200 (CEST) Received: from mail-oo1-f99.google.com (mail-oo1-f99.google.com [209.85.161.99]) by mails.dpdk.org (Postfix) with ESMTP id 4312740A7D for ; Wed, 9 Jul 2025 20:05:04 +0200 (CEST) Received: by mail-oo1-f99.google.com with SMTP id 006d021491bc7-60402c94319so120513eaf.1 for ; Wed, 09 Jul 2025 11:05:04 -0700 (PDT) DKIM-Signature: v=1; a=rsa-sha256; c=relaxed/relaxed; d=iol.unh.edu; s=unh-iol; t=1752084303; x=1752689103; darn=dpdk.org; h=references:in-reply-to:cc:to:from:subject:message-id:date:from:to :cc:subject:date:message-id:reply-to; bh=88HGnO6zvm2X/zWLNj6mbj8v33EAvCzSkh3jwbznVmc=; b=F3fc3aLaX19lKxq0tI6W6XAvmAxmdh/pR5FViX+vlRpm88Cz/Yg7I3+aqmGceAJr+D aWJ8EsMEU9lk6oamgbqvSEJC2eBIIx/K3+LcW3Q2ruAlevDEtMiozyaq0fnv1eufnb0z uHqRm+PyUUsfMVTaDkturtr0X/TXxjJwRccl0= X-Google-DKIM-Signature: v=1; a=rsa-sha256; c=relaxed/relaxed; d=1e100.net; s=20230601; t=1752084303; x=1752689103; h=references:in-reply-to:cc:to:from:subject:message-id:date :x-gm-message-state:from:to:cc:subject:date:message-id:reply-to; bh=88HGnO6zvm2X/zWLNj6mbj8v33EAvCzSkh3jwbznVmc=; b=KqlLHghsU/sIBw83L8mu6TPMJ/hYpHWwSsZF6CizYohgBqn+4P6u4CMVkFeLZLPap3 lcG+JM9BnNvnLHuj75nRMQ7deYE8fFgML+H9HjnC4seXneULBAekGeHfXIgByXUH4jTt FMxpD9QUS+e8lBqVVEEz+Y+OY45xqMM8pA9qk1TMf35AOAz/QYZFxRxMxPjBMBmPLpo7 6SRugELje11OPovct2NJ2B0IAXrsVNdJaUirAOP4VyR5/QzvtDiWaVVG/ztzyuDNcLed rDuMhlV1AEOW0WKFi+7luyPicdMsCoZbjqVMg/ICWEGQPQSoGKWptiyFqsLyfxMFjaD8 K9cA== X-Gm-Message-State: AOJu0YyfH7S2X+71y+KO0ynBXYoRjlulCA+elocHqYOj1F8Mak2pRaiD utYG0kVIDmvsj66BNUSFNf605ufOvVpbsbjAMe4HQCKGX9m/7F6/9ZR3zCrrZmNZc0aR4Y8AfWV z+9Scmzts72RYSNS2ccwr6tERqs1LBmsbueB9i0A2FiBQWcoJQnbWxQmudMec X-Gm-Gg: ASbGncvPP/NV2qAM5GVv0DjZaMmxUzduJQrpNl9C9duZsqnjiG92WSPSqjoGrXg8lZK eRIohxlIfUAMRP+JuNSntfA3vUs2bUfdXUCyI2pd/U2BUlZ/xHcDDXELpNzbjaY1L+oGzUfJzIw eM+n1H22odAqoLl9srfVGDGlpa0qjMjxXMZYeRjNGlEVcPW4x3e69BeqntRYtLiSQbIsds1GPI3 457nE+LHhkqrwTy+lrBT+5hH7vL1pvNipP4kGEtOkFvR3+S6s1PY4AdYjz7Vkp4sB7vA5GvSMA3 M0baik0mSY+H9vV2b9C1TWZFHb9FCKaDiMBVVrsd0EhYa1g= X-Google-Smtp-Source: AGHT+IG+jHQC94wUTQkGTZJWoeagL4mZYm2R7qkMHPWPFcAyjw3WYp5NbI8/21Pn70fUED4/wpOErntdKP/f X-Received: by 2002:a05:6870:3e06:b0:2d5:2534:ac19 with SMTP id 586e51a60fabf-2fef848831fmr2899014fac.4.1752084303454; Wed, 09 Jul 2025 11:05:03 -0700 (PDT) Received: from postal.iol.unh.edu (postal.iol.unh.edu. [2606:4100:3880:1234::84]) by smtp-relay.gmail.com with ESMTPS id 586e51a60fabf-2f790054528sm910791fac.22.2025.07.09.11.05.03 (version=TLS1_2 cipher=ECDHE-ECDSA-AES128-GCM-SHA256 bits=128/128); Wed, 09 Jul 2025 11:05:03 -0700 (PDT) X-Relaying-Domain: iol.unh.edu Date: Wed, 09 Jul 2025 11:05:03 -0700 (PDT) Message-ID: <686eaf4f.050a0220.230eb8.f8b1SMTPIN_ADDED_MISSING@mx.google.com> Received: from [172.21.0.7] (unknown [172.18.0.240]) by postal.iol.unh.edu (Postfix) with ESMTP id E60E6604D420; Wed, 9 Jul 2025 14:05:02 -0400 (EDT) Subject: |WARNING| pw155106 [PATCH] net/mlx5: fix panic for non template age From: dpdklab@iol.unh.edu To: Test Report Cc: dpdk-test-reports@iol.unh.edu In-Reply-To: <20250709102508.229287-1-mkashani@nvidia.com> References: <20250709102508.229287-1-mkashani@nvidia.com> Content-Type: text/plain X-BeenThere: test-report@dpdk.org X-Mailman-Version: 2.1.29 Precedence: list List-Id: automatic DPDK test reports List-Unsubscribe: , List-Archive: List-Post: List-Help: List-Subscribe: , Errors-To: test-report-bounces@dpdk.org Test-Label: iol-compile-amd64-testing Test-Status: WARNING http://dpdk.org/patch/155106 _Testing issues_ Submitter: Maayan Kashani Date: Wednesday, July 09 2025 10:25:07 DPDK git baseline: Repo:dpdk Branch: master CommitID:6d828a3e774829165137aa2713e3040edd7f46bf 155106 --> testing issues Upstream job id: Generic-DPDK-Compile-Meson#407285 Test environment and result as below: +-------------------------------+--------------------+-------------------+------------------+-------------------+ | Environment | dpdk_meson_compile | dpdk_compile_spdk | dpdk_compile_ovs | dpdk_msvc_compile | +===============================+====================+===================+==================+===================+ | CentOS Stream 9 | PASS | PASS | SKIPPED | SKIPPED | +-------------------------------+--------------------+-------------------+------------------+-------------------+ | Debian GNU/Linux 12 | PASS | PASS | SKIPPED | SKIPPED | +-------------------------------+--------------------+-------------------+------------------+-------------------+ | CentOS Stream 10 | PASS | SKIPPED | SKIPPED | SKIPPED | +-------------------------------+--------------------+-------------------+------------------+-------------------+ | Fedora Linux 40 | PASS | PASS | SKIPPED | SKIPPED | +-------------------------------+--------------------+-------------------+------------------+-------------------+ | Fedora Linux 41 | PASS | WARN | PASS | SKIPPED | +-------------------------------+--------------------+-------------------+------------------+-------------------+ | Red Hat Enterprise Linux 8.10 | PASS | SKIPPED | SKIPPED | SKIPPED | +-------------------------------+--------------------+-------------------+------------------+-------------------+ | openSUSE Leap 15.6 | PASS | SKIPPED | SKIPPED | SKIPPED | +-------------------------------+--------------------+-------------------+------------------+-------------------+ | Red Hat Enterprise Linux 9.5 | PASS | SKIPPED | SKIPPED | SKIPPED | +-------------------------------+--------------------+-------------------+------------------+-------------------+ | Ubuntu 20.04 | PASS | SKIPPED | SKIPPED | SKIPPED | +-------------------------------+--------------------+-------------------+------------------+-------------------+ | Ubuntu 22.04 | PASS | PASS | SKIPPED | SKIPPED | +-------------------------------+--------------------+-------------------+------------------+-------------------+ | Ubuntu 24.04 | PASS | PASS | PASS | SKIPPED | +-------------------------------+--------------------+-------------------+------------------+-------------------+ | Alpine Linux 3.22.0 | PASS | SKIPPED | SKIPPED | SKIPPED | +-------------------------------+--------------------+-------------------+------------------+-------------------+ | FreeBSD 14.2 | PASS | SKIPPED | SKIPPED | SKIPPED | +-------------------------------+--------------------+-------------------+------------------+-------------------+ | Windows Server 2022 | SKIPPED | SKIPPED | SKIPPED | PASS | +-------------------------------+--------------------+-------------------+------------------+-------------------+ ==== 20 line log output for Fedora Linux 41 (dpdk_compile_spdk): ==== --- Failed to get log output --- ==== End log output ==== CentOS Stream 9 Kernel: 5.15 Compiler: gcc gcc (GCC) 11.5.0 20240719 (Red Hat 11.5.0-7) Debian GNU/Linux 12 Kernel: 5.15 Compiler: gcc gcc (Debian 12.2.0-14+deb12u1) 12.2.0 CentOS Stream 10 Kernel: 5.15 Compiler: gcc gcc (GCC) 14.2.1 20250110 (Red Hat 14.2.1-8) Fedora Linux 40 Kernel: 5.15 Compiler: clang gcc (GCC) 14.2.1 20240912 (Red Hat 14.2.1-3) Fedora Linux 41 Kernel: 5.15 Compiler: gcc gcc (GCC) 14.3.1 20250523 (Red Hat 14.3.1-1) Red Hat Enterprise Linux 8.10 Kernel: 5.15 Compiler: gcc gcc (GCC) 8.5.0 20210514 (Red Hat 8.5.0-22) openSUSE Leap 15.6 Kernel: 5.15 Compiler: gcc gcc (SUSE Linux) 7.5.0 Red Hat Enterprise Linux 9.5 Kernel: 5.15 Compiler: gcc gcc (GCC) 11.5.0 20240719 (Red Hat 11.5.0-2) Ubuntu 20.04 Kernel: 5.15 Compiler: gcc gcc (Ubuntu 9.4.0-1ubuntu1~20.04.2) 9.4.0 Ubuntu 22.04 Kernel: 5.15 Compiler: gcc gcc (Ubuntu 11.4.0-1ubuntu1~22.04) 11.4.0 Ubuntu 24.04 Kernel: 5.15 Compiler: gcc gcc (Ubuntu 13.3.0-6ubuntu2~24.04) 13.3.0 Alpine Linux 3.22.0 Kernel: 5.15 Compiler: gcc gcc (Alpine 14.2.0) 14.2.0 FreeBSD 14.2 Kernel: 14.2-RELEASE Compiler: clang 18.1.6 Windows Server 2022 Kernel: 10.0.20348.2031 Compiler: clang 15.0.7, gcc 14.1.0 (MinGW), and MSVC VS 19.39.33521 To view detailed results, visit: https://lab.dpdk.org/results/dashboard/patchsets/33625/ UNH-IOL DPDK Community Lab To manage your email subscriptions, visit: https://lab.dpdk.org/results/dashboard/preferences/subscriptions/