From mboxrd@z Thu Jan 1 00:00:00 1970 Return-Path: Received: from mails.dpdk.org (mails.dpdk.org [217.70.189.124]) by inbox.dpdk.org (Postfix) with ESMTP id 5179B46B30 for ; Wed, 9 Jul 2025 20:07:10 +0200 (CEST) Received: from mails.dpdk.org (localhost [127.0.0.1]) by mails.dpdk.org (Postfix) with ESMTP id 2EC5040A7D; Wed, 9 Jul 2025 20:07:10 +0200 (CEST) Received: from mail-ua1-f98.google.com (mail-ua1-f98.google.com [209.85.222.98]) by mails.dpdk.org (Postfix) with ESMTP id 637AB40A7D for ; Wed, 9 Jul 2025 20:07:09 +0200 (CEST) Received: by mail-ua1-f98.google.com with SMTP id a1e0cc1a2514c-87f2a0825e1so47525241.2 for ; Wed, 09 Jul 2025 11:07:09 -0700 (PDT) DKIM-Signature: v=1; a=rsa-sha256; c=relaxed/relaxed; d=iol.unh.edu; s=unh-iol; t=1752084428; x=1752689228; darn=dpdk.org; h=references:in-reply-to:cc:to:from:subject:message-id:date:from:to :cc:subject:date:message-id:reply-to; bh=cesoWUzk1F0yqdBwXNexAumhl5Ge314ILi0CtQmpic8=; b=OKMLodb/o0xvzsq5HZtSuwFPGPW2ejYHZg1c+t1KWLqZVebGgM+VZGt6yMBMqrAo9v scOCwuMZOvdb44EGRTHzIw2k7btCyjWt+WHiNdLw4bLTehCZIHC2I37l6i5iTiw+thUs ocwkQnYJ9b2GLUIad8pZVB2YqM0z42WMEo6jo= X-Google-DKIM-Signature: v=1; a=rsa-sha256; c=relaxed/relaxed; d=1e100.net; s=20230601; t=1752084428; x=1752689228; h=references:in-reply-to:cc:to:from:subject:message-id:date :x-gm-message-state:from:to:cc:subject:date:message-id:reply-to; bh=cesoWUzk1F0yqdBwXNexAumhl5Ge314ILi0CtQmpic8=; b=OBqor2nCba35JMhyd8rsc87GzDJ3U6OSksi11qbSKmNKqyK8J+SJH3GTfz4JX8NFVU FlPyMpe+QeUACALFAUX6hJ8FhBlJOH9sNS+9urNWsZdRGoCw0dDo4V5RaoahqzaOCk6J OVOvTyAN0wO4JSderAmmnwEOIVBe3SPObTm1gCnas6Zac8SY0KajqR5Ow09n6nQM4GGb KYkzyevPNt2Ujc1aJSBJURFCLvm+rcBx7K0hHAsK9R197g0/fR7iNpUOzy2uZCYC1iE9 UazE2vR+Ow4oJ4HmLHx5Z+/gT6AqolrEc7D1cgFpYFbbHm0TW05mncRRvPy7ICaqCoN2 FBiw== X-Gm-Message-State: AOJu0Yw35ktgsddMX4lCXKW+FtBg7xQV+mdampaquaHoPkOkFszuT52E i7XuLLnY2bdMDi56hRUBRUvxdBuaTBMmP2oH/dpUJda5gyU6UYhu+JsuUoZalyx1Ep3XGw3lKbj Pf8KUSmfsSbZ6KyYRhT/QO/fKn1NjRcdLgvNNucxQF75t X-Gm-Gg: ASbGncusKtTrFREfuQJk4d5OC9vVhUrlQPhg6NwC9l/HvNH8yv41RteYvJMcrPt2TsR S0EfdYTTY8jaK506n2qrY4z5py0nwADd2Oy3tA1UZsXKMlf4BFzzNi4ZMgUW5gxp7SkZ35nBy6r ghp5PI7D9cF3W5ztyWHkrkLRyMIjvni6ojnemlmZoY9pRYPo+uW0BDxNx63broFsR+kd1P/ta0S rhPAeJeqDiMwu6jaShgCSMDvT/IqPjYs45rh5vvOj3M/G3I+1aMEzXGbtUn/nO5N/tmKmvKDFKd bfULENJm5URbrEp41JQFpk0cTeXRxCUoo2Qv+0tshx/Sg4/gPZsS0uO9zoKmjgZ5zCqjAA== X-Google-Smtp-Source: AGHT+IHpXib9jwZbUfyONgneBeeQjGe5rIWpWlA+1ejhneW6w59S2bHhDzbqh+TaWfj3D9MmtUqcW70RR2RO X-Received: by 2002:a05:6102:6c7:b0:4e7:b728:e34b with SMTP id ada2fe7eead31-4f629523e53mr860887137.3.1752084428428; Wed, 09 Jul 2025 11:07:08 -0700 (PDT) Received: from postal.iol.unh.edu (postal.iol.unh.edu. [132.177.123.84]) by smtp-relay.gmail.com with ESMTPS id 71dfb90a1353d-53478e7e801sm583229e0c.6.2025.07.09.11.07.08 (version=TLS1_2 cipher=ECDHE-ECDSA-AES128-GCM-SHA256 bits=128/128); Wed, 09 Jul 2025 11:07:08 -0700 (PDT) X-Relaying-Domain: iol.unh.edu Date: Wed, 09 Jul 2025 11:07:08 -0700 (PDT) Message-ID: <686eafcc.050a0220.13b60a.ed08SMTPIN_ADDED_MISSING@mx.google.com> Received: from [172.21.0.8] (unknown [172.18.0.240]) by postal.iol.unh.edu (Postfix) with ESMTP id 0266B604D420; Wed, 9 Jul 2025 14:07:08 -0400 (EDT) Subject: |WARNING| pw155106 [PATCH] net/mlx5: fix panic for non template age From: dpdklab@iol.unh.edu To: Test Report Cc: dpdk-test-reports@iol.unh.edu In-Reply-To: <20250709102508.229287-1-mkashani@nvidia.com> References: <20250709102508.229287-1-mkashani@nvidia.com> Content-Type: text/plain X-BeenThere: test-report@dpdk.org X-Mailman-Version: 2.1.29 Precedence: list List-Id: automatic DPDK test reports List-Unsubscribe: , List-Archive: List-Post: List-Help: List-Subscribe: , Errors-To: test-report-bounces@dpdk.org Test-Label: iol-compile-amd64-testing Test-Status: WARNING http://dpdk.org/patch/155106 _Testing issues_ Submitter: Maayan Kashani Date: Wednesday, July 09 2025 10:25:07 DPDK git baseline: Repo:dpdk Branch: master CommitID:6d828a3e774829165137aa2713e3040edd7f46bf 155106 --> testing issues Upstream job id: Generic-DPDK-Compile-Meson#407276 Test environment and result as below: +-------------------------------+--------------------+-------------------+------------------+-------------------+ | Environment | dpdk_meson_compile | dpdk_compile_spdk | dpdk_compile_ovs | dpdk_msvc_compile | +===============================+====================+===================+==================+===================+ | CentOS Stream 9 | PASS | PASS | SKIPPED | SKIPPED | +-------------------------------+--------------------+-------------------+------------------+-------------------+ | Debian GNU/Linux 12 | PASS | PASS | SKIPPED | SKIPPED | +-------------------------------+--------------------+-------------------+------------------+-------------------+ | CentOS Stream 10 | PASS | SKIPPED | SKIPPED | SKIPPED | +-------------------------------+--------------------+-------------------+------------------+-------------------+ | Fedora Linux 40 | PASS | PASS | SKIPPED | SKIPPED | +-------------------------------+--------------------+-------------------+------------------+-------------------+ | Fedora Linux 41 | PASS | WARN | PASS | SKIPPED | +-------------------------------+--------------------+-------------------+------------------+-------------------+ | Red Hat Enterprise Linux 8.10 | PASS | SKIPPED | SKIPPED | SKIPPED | +-------------------------------+--------------------+-------------------+------------------+-------------------+ | openSUSE Leap 15.6 | PASS | SKIPPED | SKIPPED | SKIPPED | +-------------------------------+--------------------+-------------------+------------------+-------------------+ | Red Hat Enterprise Linux 9.5 | PASS | SKIPPED | SKIPPED | SKIPPED | +-------------------------------+--------------------+-------------------+------------------+-------------------+ | Ubuntu 20.04 | PASS | SKIPPED | SKIPPED | SKIPPED | +-------------------------------+--------------------+-------------------+------------------+-------------------+ | Ubuntu 22.04 | PASS | PASS | SKIPPED | SKIPPED | +-------------------------------+--------------------+-------------------+------------------+-------------------+ | Ubuntu 24.04 | PASS | PASS | PASS | SKIPPED | +-------------------------------+--------------------+-------------------+------------------+-------------------+ | Alpine Linux 3.22.0 | PASS | SKIPPED | SKIPPED | SKIPPED | +-------------------------------+--------------------+-------------------+------------------+-------------------+ | FreeBSD 14.2 | PASS | SKIPPED | SKIPPED | SKIPPED | +-------------------------------+--------------------+-------------------+------------------+-------------------+ | Windows Server 2022 | SKIPPED | SKIPPED | SKIPPED | PASS | +-------------------------------+--------------------+-------------------+------------------+-------------------+ ==== 20 line log output for Fedora Linux 41 (dpdk_compile_spdk): ==== --- Failed to get log output --- ==== End log output ==== CentOS Stream 9 Kernel: 5.15 Compiler: gcc gcc (GCC) 11.5.0 20240719 (Red Hat 11.5.0-7) Debian GNU/Linux 12 Kernel: 5.15 Compiler: gcc gcc (Debian 12.2.0-14+deb12u1) 12.2.0 CentOS Stream 10 Kernel: 5.15 Compiler: gcc gcc (GCC) 14.2.1 20250110 (Red Hat 14.2.1-8) Fedora Linux 40 Kernel: 5.15 Compiler: clang gcc (GCC) 14.2.1 20240912 (Red Hat 14.2.1-3) Fedora Linux 41 Kernel: 5.15 Compiler: gcc gcc (GCC) 14.3.1 20250523 (Red Hat 14.3.1-1) Red Hat Enterprise Linux 8.10 Kernel: 5.15 Compiler: gcc gcc (GCC) 8.5.0 20210514 (Red Hat 8.5.0-22) openSUSE Leap 15.6 Kernel: 5.15 Compiler: gcc gcc (SUSE Linux) 7.5.0 Red Hat Enterprise Linux 9.5 Kernel: 5.15 Compiler: gcc gcc (GCC) 11.5.0 20240719 (Red Hat 11.5.0-2) Ubuntu 20.04 Kernel: 5.15 Compiler: gcc gcc (Ubuntu 9.4.0-1ubuntu1~20.04.2) 9.4.0 Ubuntu 22.04 Kernel: 5.15 Compiler: gcc gcc (Ubuntu 11.4.0-1ubuntu1~22.04) 11.4.0 Ubuntu 24.04 Kernel: 5.15 Compiler: gcc gcc (Ubuntu 13.3.0-6ubuntu2~24.04) 13.3.0 Alpine Linux 3.22.0 Kernel: 5.15 Compiler: gcc gcc (Alpine 14.2.0) 14.2.0 FreeBSD 14.2 Kernel: 14.2-RELEASE Compiler: clang 18.1.6 Windows Server 2022 Kernel: 10.0.20348.2031 Compiler: clang 15.0.7, gcc 14.1.0 (MinGW), and MSVC VS 19.39.33521 To view detailed results, visit: https://lab.dpdk.org/results/dashboard/patchsets/33625/ UNH-IOL DPDK Community Lab To manage your email subscriptions, visit: https://lab.dpdk.org/results/dashboard/preferences/subscriptions/