From mboxrd@z Thu Jan 1 00:00:00 1970 Return-Path: Received: from mails.dpdk.org (mails.dpdk.org [217.70.189.124]) by inbox.dpdk.org (Postfix) with ESMTP id 94E2346B30 for ; Wed, 9 Jul 2025 20:09:52 +0200 (CEST) Received: from mails.dpdk.org (localhost [127.0.0.1]) by mails.dpdk.org (Postfix) with ESMTP id 8F40F40A7D; Wed, 9 Jul 2025 20:09:52 +0200 (CEST) Received: from mail-pg1-f226.google.com (mail-pg1-f226.google.com [209.85.215.226]) by mails.dpdk.org (Postfix) with ESMTP id A50F140A7D for ; Wed, 9 Jul 2025 20:09:51 +0200 (CEST) Received: by mail-pg1-f226.google.com with SMTP id 41be03b00d2f7-b34a71d9208so212992a12.3 for ; Wed, 09 Jul 2025 11:09:51 -0700 (PDT) DKIM-Signature: v=1; a=rsa-sha256; c=relaxed/relaxed; d=iol.unh.edu; s=unh-iol; t=1752084591; x=1752689391; darn=dpdk.org; h=references:in-reply-to:cc:to:from:subject:message-id:date:from:to :cc:subject:date:message-id:reply-to; bh=WzublHCuWq+/ap+Szn1aSH4mhfjaBB97i7gz/+1PkMA=; b=UUNhjlbeldoYtCldee0abyvO8re1t0vbLN3fIlB5w9aNHv+7NUUeHxckcoiny5RkoA AN/a/Av3Pc5Xf4lyg9aSapj78P5BStbGurSxIo+kIClrCuG8Dqffzt2XEeyvKSjGuuTH yYOnKWav8w3uk204ippxoG6PLudRatJlY8LuY= X-Google-DKIM-Signature: v=1; a=rsa-sha256; c=relaxed/relaxed; d=1e100.net; s=20230601; t=1752084591; x=1752689391; h=references:in-reply-to:cc:to:from:subject:message-id:date :x-gm-message-state:from:to:cc:subject:date:message-id:reply-to; bh=WzublHCuWq+/ap+Szn1aSH4mhfjaBB97i7gz/+1PkMA=; b=WXUAN8AhUncBHeTmg5/aykFqcq3kRKsDHrqQeLhRfmFvjtfXbd4bO9kzjcxm20rsol qW1Fvga8gPilwD8ZPVGGsYzFO+dpx3rwARs1DIYeopjRuleW1pz2JpXfCaQ1zhwRbjAM PSgTjtBjjgQ84T1RpfWTANEq2eAeh96O3AyD9Ls/ABTEgdu53BxTBfwSFGN9S3/6Rfst bZIqjTNm+BkVlx3ueMeG0Pske/6L72SmiYK1hsKh74/BLBxs1W4KQpMGmQ0lsLBSuWkI l2MOiFkRRliKHSRBYVh+pYYDWeF7yKWLKnkDPa2t6JRrsu1zjWCq5pRGhZIey3ASU82t cwFA== X-Gm-Message-State: AOJu0Yx/rNA2NmASv/V/O3u9bXFXgDodkQm+729okts5UUzDdXCTTU+i gxlxDK8c1gkVjaXv29irQClfpO0eON2SBMjdfRX2fYGoJ0gfm/qnFwxFblKVzheMiy3sjLat4qV gIXuSlqR9wNcwolMqes7ZFvSJQbfmT0kWoRM5nTFIr0spwSvzaveEjx/4n3ez X-Gm-Gg: ASbGncvitLxKDwKeQtctL7eC05QhdKTbBlzzVub28KR2/Kag3AYf60yfMIg2m9TcPBs gDE0BcAeeTVuF7uKifHkR2zpi2lg+/pWs2w/7Rrkx8gIFoCyNVbaG3vKarklIotA7peZEpEGnjB ZbvGSsETBgLhXA+rBVWQ0s2olSU8VFaPPj0GwsH9lg2FkUs+yJAlqwCna7hQnSveC4fX5nwQWWG 8pp4FjvzsK6vJn1CH0CYx/nuCkSDiL42pIRSqYzo9cEiKEwv4V5wWE6jtazWuM28ZyXx6P8oUYk +UvAKjn49Y9KRs5HnGXWiTI/p9GJSTLxDQobp/0GqAOWqVg= X-Google-Smtp-Source: AGHT+IHBdzfVrPfSQcs+ySskd+mDxWZtyGawffxwQogwTVHBHOo6dpBwyMguFY8ihfIjQJAeDoRbV/pnG6qq X-Received: by 2002:a17:90b:5410:b0:313:dcf4:37bc with SMTP id 98e67ed59e1d1-31c2fe4fd84mr4166148a91.34.1752084590543; Wed, 09 Jul 2025 11:09:50 -0700 (PDT) Received: from postal.iol.unh.edu (postal.iol.unh.edu. [2606:4100:3880:1234::84]) by smtp-relay.gmail.com with ESMTPS id 98e67ed59e1d1-31c30108119sm98240a91.11.2025.07.09.11.09.50 (version=TLS1_2 cipher=ECDHE-ECDSA-AES128-GCM-SHA256 bits=128/128); Wed, 09 Jul 2025 11:09:50 -0700 (PDT) X-Relaying-Domain: iol.unh.edu Date: Wed, 09 Jul 2025 11:09:50 -0700 (PDT) Message-ID: <686eb06e.170a0220.2fc5.5827SMTPIN_ADDED_MISSING@mx.google.com> Received: from [172.21.0.6] (unknown [172.18.0.240]) by postal.iol.unh.edu (Postfix) with ESMTP id 11E0C604D420; Wed, 9 Jul 2025 14:09:50 -0400 (EDT) Subject: |SUCCESS| pw155084 [PATCH] [RFC] add hints to CLAUDE From: dpdklab@iol.unh.edu To: Test Report Cc: dpdk-test-reports@iol.unh.edu In-Reply-To: <20250708190957.10108-1-stephen@networkplumber.org> References: <20250708190957.10108-1-stephen@networkplumber.org> Content-Type: text/plain X-BeenThere: test-report@dpdk.org X-Mailman-Version: 2.1.29 Precedence: list List-Id: automatic DPDK test reports List-Unsubscribe: , List-Archive: List-Post: List-Help: List-Subscribe: , Errors-To: test-report-bounces@dpdk.org Test-Label: iol-unit-amd64-testing Test-Status: SUCCESS http://dpdk.org/patch/155084 _Testing PASS_ Submitter: Stephen Hemminger Date: Tuesday, July 08 2025 19:09:41 DPDK git baseline: Repo:dpdk Branch: master CommitID:e90979eebbea093f6bab2d7c222fc5f5c9a85eff 155084 --> testing pass Upstream job id: Generic-VM-Unit-Test-DPDK#29829 Test environment and result as below: +-------------------------------+----------------+ | Environment | dpdk_unit_test | +===============================+================+ | CentOS Stream 9 | PASS | +-------------------------------+----------------+ | Fedora Linux 41 | PASS | +-------------------------------+----------------+ | CentOS Stream 10 | PASS | +-------------------------------+----------------+ | Fedora Linux 40 | PASS | +-------------------------------+----------------+ | Ubuntu 20.04 | PASS | +-------------------------------+----------------+ | Ubuntu 22.04 | PASS | +-------------------------------+----------------+ | Ubuntu 24.04 | PASS | +-------------------------------+----------------+ | Red Hat Enterprise Linux 9.5 | PASS | +-------------------------------+----------------+ | Debian GNU/Linux 12 | PASS | +-------------------------------+----------------+ | Red Hat Enterprise Linux 8.10 | PASS | +-------------------------------+----------------+ | Windows Server 2022 | PASS | +-------------------------------+----------------+ CentOS Stream 9 Kernel: 5.15 Compiler: gcc gcc (GCC) 11.5.0 20240719 (Red Hat 11.5.0-7) Fedora Linux 41 Kernel: 5.15 Compiler: clang gcc (GCC) 14.3.1 20250523 (Red Hat 14.3.1-1) CentOS Stream 10 Kernel: 5.15 Compiler: gcc gcc (GCC) 14.2.1 20250110 (Red Hat 14.2.1-8) Fedora Linux 40 Kernel: 5.15 Compiler: gcc gcc (GCC) 14.2.1 20240912 (Red Hat 14.2.1-3) Ubuntu 20.04 Kernel: 5.15 Compiler: gcc gcc (Ubuntu 9.4.0-1ubuntu1~20.04.2) 9.4.0 Ubuntu 22.04 Kernel: 5.15 Compiler: gcc gcc (Ubuntu 11.4.0-1ubuntu1~22.04) 11.4.0 Ubuntu 24.04 Kernel: 5.15 Compiler: gcc gcc (Ubuntu 13.3.0-6ubuntu2~24.04) 13.3.0 Red Hat Enterprise Linux 9.5 Kernel: 5.15 Compiler: gcc gcc (GCC) 11.5.0 20240719 (Red Hat 11.5.0-2) Debian GNU/Linux 12 Kernel: 5.15 Compiler: gcc gcc (Debian 12.2.0-14+deb12u1) 12.2.0 Red Hat Enterprise Linux 8.10 Kernel: 5.15 Compiler: gcc gcc (GCC) 8.5.0 20210514 (Red Hat 8.5.0-22) Windows Server 2022 Kernel: 10.0.20348.2031 Compiler: clang 15.0.7, gcc 14.1.0 (MinGW), and MSVC VS 19.39.33521 To view detailed results, visit: https://lab.dpdk.org/results/dashboard/patchsets/33617/ UNH-IOL DPDK Community Lab To manage your email subscriptions, visit: https://lab.dpdk.org/results/dashboard/preferences/subscriptions/