From mboxrd@z Thu Jan 1 00:00:00 1970 Return-Path: Received: from mails.dpdk.org (mails.dpdk.org [217.70.189.124]) by inbox.dpdk.org (Postfix) with ESMTP id EF76646B30 for ; Wed, 9 Jul 2025 20:12:10 +0200 (CEST) Received: from mails.dpdk.org (localhost [127.0.0.1]) by mails.dpdk.org (Postfix) with ESMTP id CADAC40A7D; Wed, 9 Jul 2025 20:12:10 +0200 (CEST) Received: from mail-io1-f98.google.com (mail-io1-f98.google.com [209.85.166.98]) by mails.dpdk.org (Postfix) with ESMTP id 3868D40A7D for ; Wed, 9 Jul 2025 20:12:09 +0200 (CEST) Received: by mail-io1-f98.google.com with SMTP id ca18e2360f4ac-86d00ae076dso42251839f.0 for ; Wed, 09 Jul 2025 11:12:09 -0700 (PDT) DKIM-Signature: v=1; a=rsa-sha256; c=relaxed/relaxed; d=iol.unh.edu; s=unh-iol; t=1752084728; x=1752689528; darn=dpdk.org; h=references:in-reply-to:cc:to:from:subject:message-id:date:from:to :cc:subject:date:message-id:reply-to; bh=OFr5vdUoAz9u3r7ITSYRX9ovctbJoVaANfgTX+u+yCY=; b=bh6fsg9XqeKxldCs6wKZqnjuPiVjWBn4TPDY7L2gMaf8l6YIPwob2ZVH5RqXIzqAbV uZQZ2UhKQPXvFNMjM184T5jBtDX+ReiaQ3UkZ5fHex2Xhn4v1qPoOLw4xE4FV85/oger gc7KbP+E3396KOtRqYSEyosSt03o/r0xme8Pw= X-Google-DKIM-Signature: v=1; a=rsa-sha256; c=relaxed/relaxed; d=1e100.net; s=20230601; t=1752084728; x=1752689528; h=references:in-reply-to:cc:to:from:subject:message-id:date :x-gm-message-state:from:to:cc:subject:date:message-id:reply-to; bh=OFr5vdUoAz9u3r7ITSYRX9ovctbJoVaANfgTX+u+yCY=; b=MhsJ0ai+XIjXBUnQP7GdYwkwUS4lTc2l4d2yGSOGwqLCd0Yx2QZwSrxY/xOe5S31+N SCCVU9hw+UHOItUdxMrXlUKxYo9MRXqWjRfO3m61/G/lWY+A6KzDCK4zq5p6m264reTZ nLXntpaV/wD/G0pxPO/EecplkmbGdG5qNtO423W/BUNfweqEEOoLlCC7/GqwVaWmXx4Y ayy+ZW0MjVEqC/n3ur4DfEeyith54YqxbsW5OwGay0tOPTovbA5kTKwv1z25Y84pj3f7 KICUCoypkzU1Nuj37wW7ZuaJzPfw5mi1T0OTpfbcRiv22qgZh4lCjesv4/rx8FiB0XJP xJQg== X-Gm-Message-State: AOJu0Ywr9ltzyYZtFhFB4+6m/49MoqjV9ryNGSsCIeyywSF+8d0gbItp aCQXUlTGOnL4ezA5d77MdmUclPM2arQDtKitJSPM++HyML3AtbWewmR+Vynirjfd+tLT7hZhZ1A /w0Omc0PtkHWw7FN4b3j6fhjfJTXjkphH24dqrnbEowIBj4bhLZpBU7tD+Cvn X-Gm-Gg: ASbGncs8JNyu1wObUCDAtYymhMariODaXblhNE7AiTnNtUNMLsQUs/b68fVZ15f/Jvn QPKaThZUQwB70ALNJGkgFWIViGOSgbCHi5kuvEkzwwRjIZOyFwxmqP6ijh0xeuI1vkc4lCsfDjR GOJBf0piyb7WqU4H8sy7yGlT07NhObrK7C4OEvD8hZY0KtpIkDTkazdgzqahHmOTCaG1yfrng7C Dktm80KOk9IwLkwUunon/FAeCoKdticdeM9TCYqOOsTsCXgOrS8bBJzjCFxLrBXXm1j8vwtPWzF I+8hGZcjkllVFkK32ur2Fq8UMU3Tmw9NIae9LJEzZ7bEXag= X-Google-Smtp-Source: AGHT+IHzlhAseOiFOeSU4uo/Vb+Kwc3vlA2sE5k9FOZIUitTdqhEAgsWzwEJ+NejPiqiXmTGf28gOnxxn2xq X-Received: by 2002:a05:6602:7412:b0:85e:73da:c56a with SMTP id ca18e2360f4ac-87966faa190mr58916139f.3.1752084728413; Wed, 09 Jul 2025 11:12:08 -0700 (PDT) Received: from postal.iol.unh.edu (postal.iol.unh.edu. [2606:4100:3880:1234::84]) by smtp-relay.gmail.com with ESMTPS id 8926c6da1cb9f-503b59bdbf2sm470409173.9.2025.07.09.11.12.08 (version=TLS1_2 cipher=ECDHE-ECDSA-AES128-GCM-SHA256 bits=128/128); Wed, 09 Jul 2025 11:12:08 -0700 (PDT) X-Relaying-Domain: iol.unh.edu Date: Wed, 09 Jul 2025 11:12:08 -0700 (PDT) Message-ID: <686eb0f8.050a0220.1363f8.8c39SMTPIN_ADDED_MISSING@mx.google.com> Received: from [172.21.0.5] (unknown [172.18.0.240]) by postal.iol.unh.edu (Postfix) with ESMTP id 0CABF604D421; Wed, 9 Jul 2025 14:12:08 -0400 (EDT) Subject: |SUCCESS| pw155090 [PATCH] examples/ipsec-secgw: fix number of queue From: dpdklab@iol.unh.edu To: Test Report Cc: dpdk-test-reports@iol.unh.edu In-Reply-To: <20250709082325.771994-1-vfialko@marvell.com> References: <20250709082325.771994-1-vfialko@marvell.com> Content-Type: text/plain X-BeenThere: test-report@dpdk.org X-Mailman-Version: 2.1.29 Precedence: list List-Id: automatic DPDK test reports List-Unsubscribe: , List-Archive: List-Post: List-Help: List-Subscribe: , Errors-To: test-report-bounces@dpdk.org Test-Label: iol-compile-arm64-testing Test-Status: SUCCESS http://dpdk.org/patch/155090 _Testing PASS_ Submitter: Volodymyr Fialko Date: Wednesday, July 09 2025 08:23:25 DPDK git baseline: Repo:dpdk Branch: master CommitID:9b298e79703a1343d388d059f4029813f11ac6ad 155090 --> testing pass Upstream job id: Generic-DPDK-Compile-Meson#407256 Test environment and result as below: +------------------------------+--------------------+ | Environment | dpdk_meson_compile | +==============================+====================+ | Ubuntu 20.04 | PASS | +------------------------------+--------------------+ | Fedora Linux 40 | PASS | +------------------------------+--------------------+ | Red Hat Enterprise Linux 9.5 | PASS | +------------------------------+--------------------+ | Debian GNU/Linux 12 | PASS | +------------------------------+--------------------+ | Fedora Linux 41 | PASS | +------------------------------+--------------------+ | Ubuntu 22.04 | PASS | +------------------------------+--------------------+ | Ubuntu 24.04 | PASS | +------------------------------+--------------------+ | CentOS Stream 9 | PASS | +------------------------------+--------------------+ | CentOS Stream 10 | PASS | +------------------------------+--------------------+ Ubuntu 20.04 Kernel: 5.15 Compiler: aarch64-linux-gnu-gcc gcc (Ubuntu 9.4.0-1ubuntu1~20.04.2) 9.4.0 Fedora Linux 40 Kernel: 5.4 Compiler: gcc gcc (GCC) 14.2.1 20240912 (Red Hat 14.2.1-3) Red Hat Enterprise Linux 9.5 Kernel: 5.4 Compiler: gcc gcc (GCC) 11.5.0 20240719 (Red Hat 11.5.0-2) Debian GNU/Linux 12 Kernel: 5.4 Compiler: gcc gcc (Debian 12.2.0-14+deb12u1) 12.2.0 Fedora Linux 41 Kernel: 5.4 Compiler: clang gcc (GCC) 14.3.1 20250523 (Red Hat 14.3.1-1) Ubuntu 22.04 Kernel: 5.4 Compiler: gcc gcc (Ubuntu 11.4.0-1ubuntu1~22.04) 11.4.0 Ubuntu 24.04 Kernel: 5.4 Compiler: gcc gcc (Ubuntu 13.3.0-6ubuntu2~24.04) 13.3.0 CentOS Stream 9 Kernel: 5.4 Compiler: gcc gcc (GCC) 11.5.0 20240719 (Red Hat 11.5.0-7) CentOS Stream 10 Kernel: 5.4 Compiler: gcc gcc (GCC) 14.2.1 20250110 (Red Hat 14.2.1-8) To view detailed results, visit: https://lab.dpdk.org/results/dashboard/patchsets/33622/ UNH-IOL DPDK Community Lab To manage your email subscriptions, visit: https://lab.dpdk.org/results/dashboard/preferences/subscriptions/