From mboxrd@z Thu Jan 1 00:00:00 1970 Return-Path: Received: from mails.dpdk.org (mails.dpdk.org [217.70.189.124]) by inbox.dpdk.org (Postfix) with ESMTP id 06B6346B30 for ; Wed, 9 Jul 2025 20:13:18 +0200 (CEST) Received: from mails.dpdk.org (localhost [127.0.0.1]) by mails.dpdk.org (Postfix) with ESMTP id 00F1B40A7D; Wed, 9 Jul 2025 20:13:18 +0200 (CEST) Received: from mail-pl1-f227.google.com (mail-pl1-f227.google.com [209.85.214.227]) by mails.dpdk.org (Postfix) with ESMTP id 8AC5F40A7D for ; Wed, 9 Jul 2025 20:13:16 +0200 (CEST) Received: by mail-pl1-f227.google.com with SMTP id d9443c01a7336-2366e5e4dbaso10758065ad.1 for ; Wed, 09 Jul 2025 11:13:16 -0700 (PDT) DKIM-Signature: v=1; a=rsa-sha256; c=relaxed/relaxed; d=iol.unh.edu; s=unh-iol; t=1752084795; x=1752689595; darn=dpdk.org; h=references:in-reply-to:cc:to:from:subject:message-id:date:from:to :cc:subject:date:message-id:reply-to; bh=7B2m5zb9AEL8sjs4o4lJwnZKsYu/MMZrmUy6sX8kzyQ=; b=FHkyJ1gvFgr8v7+ka1IuX0+E84pdk0zifmJkXT/3021HXQaWn/zwU23tzNxaoptJH4 EVjDeKWd6uxMGQCvMxTPuaM/aHDvSX3Lb1Fv2AFC+L3+Vt/TUPWSbY2mQgEPJqS3Tf11 y2GEDrXaqqRXCR5/s8y4c02Rk3ZnaFpMeEpF0= X-Google-DKIM-Signature: v=1; a=rsa-sha256; c=relaxed/relaxed; d=1e100.net; s=20230601; t=1752084795; x=1752689595; h=references:in-reply-to:cc:to:from:subject:message-id:date :x-gm-message-state:from:to:cc:subject:date:message-id:reply-to; bh=7B2m5zb9AEL8sjs4o4lJwnZKsYu/MMZrmUy6sX8kzyQ=; b=LSlLKFX0s3pKbEZlysMev4GzG1cTYmzj66OOpJrzfMmFPyTaT1nxHM7EABYV0gbEIz ouLYwO2CmZkMuT7eSoudTsOU1HToDk8WTH9ABywZQG315c508shWLja736z/Z4/7sHCI z7GUg+DxevPAHX6XdFONklO768Yye3q+TpEPiT8p/KMS317JLOGvD2E8/nusRK0dE/rX knLf/cyi9doIhVQvgVu2PTgFbWkejT1yDf69LlgFgJZWf8VUMzAVFOwSbsplEMlfmU9F HTSUWWPxUIwIZijPtj9jjrUciC/QOLL1goQnXwpIhpxMSQhsrd5VnN+FiXzVpT8kOUBu XkiQ== X-Gm-Message-State: AOJu0YyUPZYJz2pTYn3E5kbwCZYyThFNSkYRrTwS09FYoH/DCjWV3QMH EPgjIVeAYIZJfNxtm3FIerfo4rLXtXUvGmI9yWdHNyo1Qe2lms1XFHjWPmLdeGPgK8kHZsdRvlx H6CZh2HGpucDHTFlcfA3iWhTmTqjCKcZBPx8CZwLljF3+R2zl/RxX5Sga2HVh X-Gm-Gg: ASbGncsF1SIbgq7zkKHHB6z27u171aQqAaqXc3PBCI9hjk9wI6b1qoTV25eHRXP6UTo zomxSC/AQYwbpBmgPtrddnxqL2juXk43YEXqlkHBfX0cP1pS0saxiK+jQisF+yDOIl/ZN5NzBKF fiWN6jdSesoe2HUqFV5mw17TO1Vbb790qF5fclLL84Eq42ih7H+Q1Vek9s8focnLP1MyVI+GbkP /9UWYXRKxBPR8hvyVS9K3ByMeRHA/fH594wKUM4eTZbNFTksjipUt6GH67LDWq/KOjc7C7ZvUC4 qf2AQPyHp4B5w8b0gw9ySJclpOmQP0QUMTuZx85mBJnLy+Y= X-Google-Smtp-Source: AGHT+IHA7rnQUTqW/eXCw3etg3RUnerQCkLae5MA1Y9WIe7Uaox9QtBR1KAnatObw+c+fKgTyrBv+U4Xad8/ X-Received: by 2002:a17:903:4b2f:b0:236:15b7:62e3 with SMTP id d9443c01a7336-23de2f52462mr6996695ad.9.1752084795632; Wed, 09 Jul 2025 11:13:15 -0700 (PDT) Received: from postal.iol.unh.edu (postal.iol.unh.edu. [2606:4100:3880:1234::84]) by smtp-relay.gmail.com with ESMTPS id d9443c01a7336-23c844e144csm6500125ad.59.2025.07.09.11.13.15 (version=TLS1_2 cipher=ECDHE-ECDSA-AES128-GCM-SHA256 bits=128/128); Wed, 09 Jul 2025 11:13:15 -0700 (PDT) X-Relaying-Domain: iol.unh.edu Date: Wed, 09 Jul 2025 11:13:15 -0700 (PDT) Message-ID: <686eb13b.170a0220.306b84.24ebSMTPIN_ADDED_MISSING@mx.google.com> Received: from [172.21.0.7] (unknown [172.18.0.240]) by postal.iol.unh.edu (Postfix) with ESMTP id CCD8C604D420; Wed, 9 Jul 2025 14:13:14 -0400 (EDT) Subject: |SUCCESS| pw155029-155031 [PATCH] [v3,3/3] app/testpmd: improve outp From: dpdklab@iol.unh.edu To: Test Report Cc: dpdk-test-reports@iol.unh.edu In-Reply-To: <20250707111751.183469-4-bruce.richardson@intel.com> References: <20250707111751.183469-4-bruce.richardson@intel.com> Content-Type: text/plain X-BeenThere: test-report@dpdk.org X-Mailman-Version: 2.1.29 Precedence: list List-Id: automatic DPDK test reports List-Unsubscribe: , List-Archive: List-Post: List-Help: List-Subscribe: , Errors-To: test-report-bounces@dpdk.org Test-Label: iol-abi-testing Test-Status: SUCCESS http://dpdk.org/patch/155031 _Testing PASS_ Submitter: Bruce Richardson Date: Monday, July 07 2025 11:17:51 DPDK git baseline: Repo:dpdk Branch: master CommitID:ba982f9a1ca9b96ed0394b764f1523d482e963a2 155029-155031 --> testing pass Upstream job id: Generic-DPDK-Compile-ABI#133827 Test environment and result as below: +-------------------------------+----------+ | Environment | abi_test | +===============================+==========+ | CentOS Stream 9 | PASS | +-------------------------------+----------+ | CentOS Stream 10 | PASS | +-------------------------------+----------+ | Debian GNU/Linux 12 | PASS | +-------------------------------+----------+ | Fedora Linux 40 | PASS | +-------------------------------+----------+ | Ubuntu 24.04 | PASS | +-------------------------------+----------+ | Fedora Linux 41 | PASS | +-------------------------------+----------+ | openSUSE Leap 15.6 | PASS | +-------------------------------+----------+ | Red Hat Enterprise Linux 8.10 | PASS | +-------------------------------+----------+ | Red Hat Enterprise Linux 9.5 | PASS | +-------------------------------+----------+ | Ubuntu 22.04 | PASS | +-------------------------------+----------+ CentOS Stream 9 Kernel: 5.15 Compiler: gcc gcc (GCC) 11.5.0 20240719 (Red Hat 11.5.0-7) CentOS Stream 10 Kernel: 5.15 Compiler: gcc gcc (GCC) 14.2.1 20250110 (Red Hat 14.2.1-8) Debian GNU/Linux 12 Kernel: 5.15 Compiler: gcc gcc (Debian 12.2.0-14+deb12u1) 12.2.0 Fedora Linux 40 Kernel: 5.15 Compiler: clang gcc (GCC) 14.2.1 20240912 (Red Hat 14.2.1-3) Ubuntu 24.04 Kernel: 5.15 Compiler: gcc gcc (Ubuntu 13.3.0-6ubuntu2~24.04) 13.3.0 Fedora Linux 41 Kernel: 5.15 Compiler: clang gcc (GCC) 14.3.1 20250523 (Red Hat 14.3.1-1) openSUSE Leap 15.6 Kernel: 5.15 Compiler: gcc gcc (SUSE Linux) 7.5.0 Red Hat Enterprise Linux 8.10 Kernel: 5.15 Compiler: gcc gcc (GCC) 8.5.0 20210514 (Red Hat 8.5.0-22) Red Hat Enterprise Linux 9.5 Kernel: 5.15 Compiler: gcc gcc (GCC) 11.5.0 20240719 (Red Hat 11.5.0-2) Ubuntu 22.04 Kernel: 5.15 Compiler: gcc gcc (Ubuntu 11.4.0-1ubuntu1~22.04) 11.4.0 To view detailed results, visit: https://lab.dpdk.org/results/dashboard/patchsets/33604/ UNH-IOL DPDK Community Lab To manage your email subscriptions, visit: https://lab.dpdk.org/results/dashboard/preferences/subscriptions/