From mboxrd@z Thu Jan 1 00:00:00 1970 Return-Path: Received: from mails.dpdk.org (mails.dpdk.org [217.70.189.124]) by inbox.dpdk.org (Postfix) with ESMTP id 5D9E546B30 for ; Wed, 9 Jul 2025 20:16:26 +0200 (CEST) Received: from mails.dpdk.org (localhost [127.0.0.1]) by mails.dpdk.org (Postfix) with ESMTP id 4486340A7D; Wed, 9 Jul 2025 20:16:26 +0200 (CEST) Received: from mail-pj1-f100.google.com (mail-pj1-f100.google.com [209.85.216.100]) by mails.dpdk.org (Postfix) with ESMTP id F0F5F40A7D for ; Wed, 9 Jul 2025 20:16:24 +0200 (CEST) Received: by mail-pj1-f100.google.com with SMTP id 98e67ed59e1d1-31c38e75dafso275980a91.2 for ; Wed, 09 Jul 2025 11:16:24 -0700 (PDT) DKIM-Signature: v=1; a=rsa-sha256; c=relaxed/relaxed; d=iol.unh.edu; s=unh-iol; t=1752084984; x=1752689784; darn=dpdk.org; h=references:in-reply-to:cc:to:from:subject:message-id:date:from:to :cc:subject:date:message-id:reply-to; bh=kRWL36a57NK49Ev7uykWJgA7HsjVI7JdIlP0mABL/CU=; b=GZ0DlIuO2svFKHaiLxuKZ/ATLz9S+KyUSQcewFsVWcwLPpbugkZnz9hvqCepmbDKeL zYxR8dgUNWgYn+2cFUNTo7EUcNSTKmZPuuEQ0zVqfSQwEhdImNFabQvi6GROJxZc97bg 0DcM4kDwNVzyPGoOtvxCGFYdtVb4gHj/TuO6M= X-Google-DKIM-Signature: v=1; a=rsa-sha256; c=relaxed/relaxed; d=1e100.net; s=20230601; t=1752084984; x=1752689784; h=references:in-reply-to:cc:to:from:subject:message-id:date :x-gm-message-state:from:to:cc:subject:date:message-id:reply-to; bh=kRWL36a57NK49Ev7uykWJgA7HsjVI7JdIlP0mABL/CU=; b=HrOmuXLAExZVDU8+FYAn/oFFSlzKsl1NpmHkd3Is4v3Y+5uQCbuwPqLexV7UVl4j7b e1eB7pXAVWprsj/j5LArBRzRl3DEy/7jvfyr/KJk96iloxxEisN6pplSATGolj4kk9eA ofqsu18fn95l3Vxlg6a7rnz1sd/81yIMP+R1T0NGOya9xcYQ35Q5uHVjPBA7FVZtYwi7 4YZNOUDfkBut9gPoHbzN8WcFve92LTRCklNJlYtulsJPnjGWmCX5zW2n7PRlK+vyL7qC d0k5wrwROazqkTmLUZmcHW+IGkjw9Z2nRv+EXUKSx6ZLaIfaZLkJFhH8dp/PBCGZdUMN ndCA== X-Gm-Message-State: AOJu0YxjUlGkgs/lmAi1eidA2byRBjuhH1cvAALKy/ju6eGYdvPin2F5 eHW/HiHXdT0PQ6ly9SDqEXmfSoSJAh8OTqmtQyNOoj4B3fPqqfGK5okzH5ccE6NeaYurSo2I3Bq WAEddTv+N/IlCt3bWQn1YuZZx/TzRcIPESrleNVS2t3cJ X-Gm-Gg: ASbGncu/JEaWok7WfEd1gJ4Ce2EoSpC2atkaCeJlK2N+cZmob2/Px4DBqdxwQdssknZ vfIdu11Pg0AVM11kPY7F4Ldih8vn3AKZuZsNKTYoux/47YPfDU+X5xQdpiyFqcLyUyjeicQfjK2 RjVZOzHlhadHHBv2iFfzuTTsCzRH3OVR2Yoiz/Uhx+WqJD+6OsdqulBrUrFAlVft1Yz6OljRpbw 5dZsO68MY0DOiwh+XXcIcStRwIc28Ry2pUT7BcugILrliuoqe5SmiVZ9jKiw4FS/xcT1ahqcRth IpZ2puEhnGb+306ZN/E3kDz2+Qff/W8FqEyjcTdjvlHF4Oe6mA+ShuKp/nEXsNkACjANKQ== X-Google-Smtp-Source: AGHT+IEYdyXHtT1KXfH2s05AHjLPYftcqcQx+a9BpDVeufI/axsF/WQONAA/zGwTYF1WHN48APvvLV4Wjnh9 X-Received: by 2002:a17:90b:1d11:b0:312:1ae9:1525 with SMTP id 98e67ed59e1d1-31c3c2663f4mr1463441a91.8.1752084983797; Wed, 09 Jul 2025 11:16:23 -0700 (PDT) Received: from postal.iol.unh.edu (postal.iol.unh.edu. [132.177.123.84]) by smtp-relay.gmail.com with ESMTPS id 98e67ed59e1d1-31c39518c08sm41770a91.10.2025.07.09.11.16.23 (version=TLS1_2 cipher=ECDHE-ECDSA-AES128-GCM-SHA256 bits=128/128); Wed, 09 Jul 2025 11:16:23 -0700 (PDT) X-Relaying-Domain: iol.unh.edu Date: Wed, 09 Jul 2025 11:16:23 -0700 (PDT) Message-ID: <686eb1f7.170a0220.3874c.225dSMTPIN_ADDED_MISSING@mx.google.com> Received: from [172.21.0.14] (unknown [172.18.0.240]) by postal.iol.unh.edu (Postfix) with ESMTP id F3A18604D420; Wed, 9 Jul 2025 14:16:22 -0400 (EDT) Subject: |SUCCESS| pw155029-155031 [PATCH] [v3,3/3] app/testpmd: improve outp From: dpdklab@iol.unh.edu To: Test Report Cc: dpdk-test-reports@iol.unh.edu In-Reply-To: <20250707111751.183469-4-bruce.richardson@intel.com> References: <20250707111751.183469-4-bruce.richardson@intel.com> Content-Type: text/plain X-BeenThere: test-report@dpdk.org X-Mailman-Version: 2.1.29 Precedence: list List-Id: automatic DPDK test reports List-Unsubscribe: , List-Archive: List-Post: List-Help: List-Subscribe: , Errors-To: test-report-bounces@dpdk.org Test-Label: iol-abi-testing Test-Status: SUCCESS http://dpdk.org/patch/155031 _Testing PASS_ Submitter: Bruce Richardson Date: Monday, July 07 2025 11:17:51 DPDK git baseline: Repo:dpdk Branch: master CommitID:ba982f9a1ca9b96ed0394b764f1523d482e963a2 155029-155031 --> testing pass Upstream job id: Generic-DPDK-Compile-ABI#133828 Test environment and result as below: +-------------------------------+----------+ | Environment | abi_test | +===============================+==========+ | CentOS Stream 9 | PASS | +-------------------------------+----------+ | CentOS Stream 10 | PASS | +-------------------------------+----------+ | Debian GNU/Linux 12 | PASS | +-------------------------------+----------+ | Fedora Linux 40 | PASS | +-------------------------------+----------+ | Ubuntu 24.04 | PASS | +-------------------------------+----------+ | Fedora Linux 41 | PASS | +-------------------------------+----------+ | openSUSE Leap 15.6 | PASS | +-------------------------------+----------+ | Red Hat Enterprise Linux 8.10 | PASS | +-------------------------------+----------+ | Red Hat Enterprise Linux 9.5 | PASS | +-------------------------------+----------+ | Ubuntu 22.04 | PASS | +-------------------------------+----------+ CentOS Stream 9 Kernel: 5.15 Compiler: gcc gcc (GCC) 11.5.0 20240719 (Red Hat 11.5.0-7) CentOS Stream 10 Kernel: 5.15 Compiler: gcc gcc (GCC) 14.2.1 20250110 (Red Hat 14.2.1-8) Debian GNU/Linux 12 Kernel: 5.15 Compiler: gcc gcc (Debian 12.2.0-14+deb12u1) 12.2.0 Fedora Linux 40 Kernel: 5.15 Compiler: clang gcc (GCC) 14.2.1 20240912 (Red Hat 14.2.1-3) Ubuntu 24.04 Kernel: 5.15 Compiler: gcc gcc (Ubuntu 13.3.0-6ubuntu2~24.04) 13.3.0 Fedora Linux 41 Kernel: 5.15 Compiler: clang gcc (GCC) 14.3.1 20250523 (Red Hat 14.3.1-1) openSUSE Leap 15.6 Kernel: 5.15 Compiler: gcc gcc (SUSE Linux) 7.5.0 Red Hat Enterprise Linux 8.10 Kernel: 5.15 Compiler: gcc gcc (GCC) 8.5.0 20210514 (Red Hat 8.5.0-22) Red Hat Enterprise Linux 9.5 Kernel: 5.15 Compiler: gcc gcc (GCC) 11.5.0 20240719 (Red Hat 11.5.0-2) Ubuntu 22.04 Kernel: 5.15 Compiler: gcc gcc (Ubuntu 11.4.0-1ubuntu1~22.04) 11.4.0 To view detailed results, visit: https://lab.dpdk.org/results/dashboard/patchsets/33604/ UNH-IOL DPDK Community Lab To manage your email subscriptions, visit: https://lab.dpdk.org/results/dashboard/preferences/subscriptions/